BEGIN:VCALENDAR
VERSION:2.0
PRODID:-// - ECPv6.15.20//NONSGML v1.0//EN
CALSCALE:GREGORIAN
METHOD:PUBLISH
X-ORIGINAL-URL:https://saltspringzencircle.org
X-WR-CALDESC:Events for 
REFRESH-INTERVAL;VALUE=DURATION:PT1H
X-Robots-Tag:noindex
X-PUBLISHED-TTL:PT1H
BEGIN:VTIMEZONE
TZID:America/Vancouver
BEGIN:DAYLIGHT
TZOFFSETFROM:-0800
TZOFFSETTO:-0700
TZNAME:PDT
DTSTART:20250309T100000
END:DAYLIGHT
BEGIN:STANDARD
TZOFFSETFROM:-0700
TZOFFSETTO:-0800
TZNAME:PST
DTSTART:20251102T090000
END:STANDARD
BEGIN:DAYLIGHT
TZOFFSETFROM:-0800
TZOFFSETTO:-0700
TZNAME:PDT
DTSTART:20260308T100000
END:DAYLIGHT
BEGIN:STANDARD
TZOFFSETFROM:-0700
TZOFFSETTO:-0800
TZNAME:PST
DTSTART:20261101T090000
END:STANDARD
BEGIN:DAYLIGHT
TZOFFSETFROM:-0800
TZOFFSETTO:-0700
TZNAME:PDT
DTSTART:20270314T100000
END:DAYLIGHT
BEGIN:STANDARD
TZOFFSETFROM:-0700
TZOFFSETTO:-0800
TZNAME:PST
DTSTART:20271107T090000
END:STANDARD
BEGIN:DAYLIGHT
TZOFFSETFROM:-0800
TZOFFSETTO:-0700
TZNAME:PDT
DTSTART:20280312T100000
END:DAYLIGHT
BEGIN:STANDARD
TZOFFSETFROM:-0700
TZOFFSETTO:-0800
TZNAME:PST
DTSTART:20281105T090000
END:STANDARD
END:VTIMEZONE
BEGIN:VEVENT
DTSTART;TZID=America/Vancouver:20260819T190000
DTEND;TZID=America/Vancouver:20260819T210000
DTSTAMP:20260423T165150
CREATED:20231231T034335Z
LAST-MODIFIED:20240104T225032Z
UID:10000899-1787166000-1787173200@saltspringzencircle.org
SUMMARY:Evening Zazen
DESCRIPTION:In-Person Evening Zazen with Zoom option at All Saints by-the-Sea Anglican Church\, Upper Hall\, 110 Park Drive\, Ganges 
URL:https://saltspringzencircle.org/event/evening-zazen-69/2026-08-19/
CATEGORIES:Evening Zazen
END:VEVENT
BEGIN:VEVENT
DTSTART;TZID=America/Vancouver:20260826T190000
DTEND;TZID=America/Vancouver:20260826T210000
DTSTAMP:20260423T165150
CREATED:20231231T034335Z
LAST-MODIFIED:20240104T225032Z
UID:10000900-1787770800-1787778000@saltspringzencircle.org
SUMMARY:Evening Zazen
DESCRIPTION:In-Person Evening Zazen with Zoom option at All Saints by-the-Sea Anglican Church\, Upper Hall\, 110 Park Drive\, Ganges 
URL:https://saltspringzencircle.org/event/evening-zazen-69/2026-08-26/
CATEGORIES:Evening Zazen
END:VEVENT
BEGIN:VEVENT
DTSTART;TZID=America/Vancouver:20260902T190000
DTEND;TZID=America/Vancouver:20260902T210000
DTSTAMP:20260423T165150
CREATED:20231231T034335Z
LAST-MODIFIED:20240104T225032Z
UID:10000901-1788375600-1788382800@saltspringzencircle.org
SUMMARY:Evening Zazen
DESCRIPTION:In-Person Evening Zazen with Zoom option at All Saints by-the-Sea Anglican Church\, Upper Hall\, 110 Park Drive\, Ganges 
URL:https://saltspringzencircle.org/event/evening-zazen-69/2026-09-02/
CATEGORIES:Evening Zazen
END:VEVENT
BEGIN:VEVENT
DTSTART;TZID=America/Vancouver:20260909T190000
DTEND;TZID=America/Vancouver:20260909T210000
DTSTAMP:20260423T165150
CREATED:20231231T034335Z
LAST-MODIFIED:20240104T225032Z
UID:10000902-1788980400-1788987600@saltspringzencircle.org
SUMMARY:Evening Zazen
DESCRIPTION:In-Person Evening Zazen with Zoom option at All Saints by-the-Sea Anglican Church\, Upper Hall\, 110 Park Drive\, Ganges 
URL:https://saltspringzencircle.org/event/evening-zazen-69/2026-09-09/
CATEGORIES:Evening Zazen
END:VEVENT
BEGIN:VEVENT
DTSTART;TZID=America/Vancouver:20260916T190000
DTEND;TZID=America/Vancouver:20260916T210000
DTSTAMP:20260423T165150
CREATED:20231231T034335Z
LAST-MODIFIED:20240104T225032Z
UID:10000903-1789585200-1789592400@saltspringzencircle.org
SUMMARY:Evening Zazen
DESCRIPTION:In-Person Evening Zazen with Zoom option at All Saints by-the-Sea Anglican Church\, Upper Hall\, 110 Park Drive\, Ganges 
URL:https://saltspringzencircle.org/event/evening-zazen-69/2026-09-16/
CATEGORIES:Evening Zazen
END:VEVENT
BEGIN:VEVENT
DTSTART;TZID=America/Vancouver:20260923T190000
DTEND;TZID=America/Vancouver:20260923T210000
DTSTAMP:20260423T165150
CREATED:20260130T035313Z
LAST-MODIFIED:20260130T035316Z
UID:10000904-1790190000-1790197200@saltspringzencircle.org
SUMMARY:Evening Zazen
DESCRIPTION:Fusatsu (Full Moon Ceremony) \nIn-Person Evening Zazen with Zoom option at All Saints by-the-Sea Anglican Church\, Upper Hall\, 110 Park Drive\, Ganges 
URL:https://saltspringzencircle.org/event/evening-zazen-69-24/
CATEGORIES:Evening Zazen
END:VEVENT
BEGIN:VEVENT
DTSTART;TZID=America/Vancouver:20260930T190000
DTEND;TZID=America/Vancouver:20260930T210000
DTSTAMP:20260423T165150
CREATED:20231231T034335Z
LAST-MODIFIED:20240104T225032Z
UID:10000905-1790794800-1790802000@saltspringzencircle.org
SUMMARY:Evening Zazen
DESCRIPTION:In-Person Evening Zazen with Zoom option at All Saints by-the-Sea Anglican Church\, Upper Hall\, 110 Park Drive\, Ganges 
URL:https://saltspringzencircle.org/event/evening-zazen-69/2026-09-30/
CATEGORIES:Evening Zazen
END:VEVENT
BEGIN:VEVENT
DTSTART;TZID=America/Vancouver:20261007T190000
DTEND;TZID=America/Vancouver:20261007T210000
DTSTAMP:20260423T165150
CREATED:20231231T034335Z
LAST-MODIFIED:20240104T225032Z
UID:10000906-1791399600-1791406800@saltspringzencircle.org
SUMMARY:Evening Zazen
DESCRIPTION:In-Person Evening Zazen with Zoom option at All Saints by-the-Sea Anglican Church\, Upper Hall\, 110 Park Drive\, Ganges 
URL:https://saltspringzencircle.org/event/evening-zazen-69/2026-10-07/
CATEGORIES:Evening Zazen
END:VEVENT
BEGIN:VEVENT
DTSTART;TZID=America/Vancouver:20261014T190000
DTEND;TZID=America/Vancouver:20261014T210000
DTSTAMP:20260423T165150
CREATED:20231231T034335Z
LAST-MODIFIED:20240104T225032Z
UID:10000907-1792004400-1792011600@saltspringzencircle.org
SUMMARY:Evening Zazen
DESCRIPTION:In-Person Evening Zazen with Zoom option at All Saints by-the-Sea Anglican Church\, Upper Hall\, 110 Park Drive\, Ganges 
URL:https://saltspringzencircle.org/event/evening-zazen-69/2026-10-14/
CATEGORIES:Evening Zazen
END:VEVENT
BEGIN:VEVENT
DTSTART;TZID=America/Vancouver:20261021T190000
DTEND;TZID=America/Vancouver:20261021T210000
DTSTAMP:20260423T165150
CREATED:20231231T034335Z
LAST-MODIFIED:20240104T225032Z
UID:10000908-1792609200-1792616400@saltspringzencircle.org
SUMMARY:Evening Zazen
DESCRIPTION:In-Person Evening Zazen with Zoom option at All Saints by-the-Sea Anglican Church\, Upper Hall\, 110 Park Drive\, Ganges 
URL:https://saltspringzencircle.org/event/evening-zazen-69/2026-10-21/
CATEGORIES:Evening Zazen
END:VEVENT
BEGIN:VEVENT
DTSTART;TZID=America/Vancouver:20261028T190000
DTEND;TZID=America/Vancouver:20261028T210000
DTSTAMP:20260423T165150
CREATED:20231231T034335Z
LAST-MODIFIED:20240104T225032Z
UID:10000909-1793214000-1793221200@saltspringzencircle.org
SUMMARY:Evening Zazen
DESCRIPTION:In-Person Evening Zazen with Zoom option at All Saints by-the-Sea Anglican Church\, Upper Hall\, 110 Park Drive\, Ganges 
URL:https://saltspringzencircle.org/event/evening-zazen-69/2026-10-28/
CATEGORIES:Evening Zazen
END:VEVENT
BEGIN:VEVENT
DTSTART;TZID=America/Vancouver:20261104T190000
DTEND;TZID=America/Vancouver:20261104T210000
DTSTAMP:20260423T165150
CREATED:20231231T034335Z
LAST-MODIFIED:20240104T225032Z
UID:10000910-1793818800-1793826000@saltspringzencircle.org
SUMMARY:Evening Zazen
DESCRIPTION:In-Person Evening Zazen with Zoom option at All Saints by-the-Sea Anglican Church\, Upper Hall\, 110 Park Drive\, Ganges 
URL:https://saltspringzencircle.org/event/evening-zazen-69/2026-11-04/
CATEGORIES:Evening Zazen
END:VEVENT
BEGIN:VEVENT
DTSTART;TZID=America/Vancouver:20261111T190000
DTEND;TZID=America/Vancouver:20261111T210000
DTSTAMP:20260423T165150
CREATED:20231231T034335Z
LAST-MODIFIED:20240104T225032Z
UID:10000911-1794423600-1794430800@saltspringzencircle.org
SUMMARY:Evening Zazen
DESCRIPTION:In-Person Evening Zazen with Zoom option at All Saints by-the-Sea Anglican Church\, Upper Hall\, 110 Park Drive\, Ganges 
URL:https://saltspringzencircle.org/event/evening-zazen-69/2026-11-11/
CATEGORIES:Evening Zazen
END:VEVENT
BEGIN:VEVENT
DTSTART;TZID=America/Vancouver:20261118T190000
DTEND;TZID=America/Vancouver:20261118T210000
DTSTAMP:20260423T165150
CREATED:20231231T034335Z
LAST-MODIFIED:20240104T225032Z
UID:10000912-1795028400-1795035600@saltspringzencircle.org
SUMMARY:Evening Zazen
DESCRIPTION:In-Person Evening Zazen with Zoom option at All Saints by-the-Sea Anglican Church\, Upper Hall\, 110 Park Drive\, Ganges 
URL:https://saltspringzencircle.org/event/evening-zazen-69/2026-11-18/
CATEGORIES:Evening Zazen
END:VEVENT
BEGIN:VEVENT
DTSTART;TZID=America/Vancouver:20261125T190000
DTEND;TZID=America/Vancouver:20261125T210000
DTSTAMP:20260423T165150
CREATED:20260130T035435Z
LAST-MODIFIED:20260130T035439Z
UID:10000913-1795633200-1795640400@saltspringzencircle.org
SUMMARY:Evening Zazen
DESCRIPTION:Fusatsu (Full Moon Ceremony) \nIn-Person Evening Zazen with Zoom option at All Saints by-the-Sea Anglican Church\, Upper Hall\, 110 Park Drive\, Ganges 
URL:https://saltspringzencircle.org/event/evening-zazen-69-25/
CATEGORIES:Evening Zazen
END:VEVENT
BEGIN:VEVENT
DTSTART;TZID=America/Vancouver:20261202T190000
DTEND;TZID=America/Vancouver:20261202T210000
DTSTAMP:20260423T165150
CREATED:20231231T034335Z
LAST-MODIFIED:20240104T225032Z
UID:10000914-1796238000-1796245200@saltspringzencircle.org
SUMMARY:Evening Zazen
DESCRIPTION:In-Person Evening Zazen with Zoom option at All Saints by-the-Sea Anglican Church\, Upper Hall\, 110 Park Drive\, Ganges 
URL:https://saltspringzencircle.org/event/evening-zazen-69/2026-12-02/
CATEGORIES:Evening Zazen
END:VEVENT
BEGIN:VEVENT
DTSTART;TZID=America/Vancouver:20261209T190000
DTEND;TZID=America/Vancouver:20261209T210000
DTSTAMP:20260423T165150
CREATED:20231231T034335Z
LAST-MODIFIED:20240104T225032Z
UID:10000915-1796842800-1796850000@saltspringzencircle.org
SUMMARY:Evening Zazen
DESCRIPTION:In-Person Evening Zazen with Zoom option at All Saints by-the-Sea Anglican Church\, Upper Hall\, 110 Park Drive\, Ganges 
URL:https://saltspringzencircle.org/event/evening-zazen-69/2026-12-09/
CATEGORIES:Evening Zazen
END:VEVENT
BEGIN:VEVENT
DTSTART;TZID=America/Vancouver:20261216T190000
DTEND;TZID=America/Vancouver:20261216T210000
DTSTAMP:20260423T165150
CREATED:20231231T034335Z
LAST-MODIFIED:20240104T225032Z
UID:10000916-1797447600-1797454800@saltspringzencircle.org
SUMMARY:Evening Zazen
DESCRIPTION:In-Person Evening Zazen with Zoom option at All Saints by-the-Sea Anglican Church\, Upper Hall\, 110 Park Drive\, Ganges 
URL:https://saltspringzencircle.org/event/evening-zazen-69/2026-12-16/
CATEGORIES:Evening Zazen
END:VEVENT
BEGIN:VEVENT
DTSTART;TZID=America/Vancouver:20261223T190000
DTEND;TZID=America/Vancouver:20261223T210000
DTSTAMP:20260423T165150
CREATED:20231231T034335Z
LAST-MODIFIED:20240104T225032Z
UID:10000917-1798052400-1798059600@saltspringzencircle.org
SUMMARY:Evening Zazen
DESCRIPTION:In-Person Evening Zazen with Zoom option at All Saints by-the-Sea Anglican Church\, Upper Hall\, 110 Park Drive\, Ganges 
URL:https://saltspringzencircle.org/event/evening-zazen-69/2026-12-23/
CATEGORIES:Evening Zazen
END:VEVENT
BEGIN:VEVENT
DTSTART;TZID=America/Vancouver:20261230T190000
DTEND;TZID=America/Vancouver:20261230T210000
DTSTAMP:20260423T165150
CREATED:20231231T034335Z
LAST-MODIFIED:20240104T225032Z
UID:10000918-1798657200-1798664400@saltspringzencircle.org
SUMMARY:Evening Zazen
DESCRIPTION:In-Person Evening Zazen with Zoom option at All Saints by-the-Sea Anglican Church\, Upper Hall\, 110 Park Drive\, Ganges 
URL:https://saltspringzencircle.org/event/evening-zazen-69/2026-12-30/
CATEGORIES:Evening Zazen
END:VEVENT
BEGIN:VEVENT
DTSTART;TZID=America/Vancouver:20270106T190000
DTEND;TZID=America/Vancouver:20270106T210000
DTSTAMP:20260423T165150
CREATED:20231231T034335Z
LAST-MODIFIED:20240104T225032Z
UID:10000919-1799262000-1799269200@saltspringzencircle.org
SUMMARY:Evening Zazen
DESCRIPTION:In-Person Evening Zazen with Zoom option at All Saints by-the-Sea Anglican Church\, Upper Hall\, 110 Park Drive\, Ganges 
URL:https://saltspringzencircle.org/event/evening-zazen-69/2027-01-06/
CATEGORIES:Evening Zazen
END:VEVENT
BEGIN:VEVENT
DTSTART;TZID=America/Vancouver:20270113T190000
DTEND;TZID=America/Vancouver:20270113T210000
DTSTAMP:20260423T165150
CREATED:20231231T034335Z
LAST-MODIFIED:20240104T225032Z
UID:10000920-1799866800-1799874000@saltspringzencircle.org
SUMMARY:Evening Zazen
DESCRIPTION:In-Person Evening Zazen with Zoom option at All Saints by-the-Sea Anglican Church\, Upper Hall\, 110 Park Drive\, Ganges 
URL:https://saltspringzencircle.org/event/evening-zazen-69/2027-01-13/
CATEGORIES:Evening Zazen
END:VEVENT
BEGIN:VEVENT
DTSTART;TZID=America/Vancouver:20270120T190000
DTEND;TZID=America/Vancouver:20270120T210000
DTSTAMP:20260423T165150
CREATED:20231231T034335Z
LAST-MODIFIED:20240104T225032Z
UID:10000921-1800471600-1800478800@saltspringzencircle.org
SUMMARY:Evening Zazen
DESCRIPTION:In-Person Evening Zazen with Zoom option at All Saints by-the-Sea Anglican Church\, Upper Hall\, 110 Park Drive\, Ganges 
URL:https://saltspringzencircle.org/event/evening-zazen-69/2027-01-20/
CATEGORIES:Evening Zazen
END:VEVENT
BEGIN:VEVENT
DTSTART;TZID=America/Vancouver:20270127T190000
DTEND;TZID=America/Vancouver:20270127T210000
DTSTAMP:20260423T165150
CREATED:20231231T034335Z
LAST-MODIFIED:20240104T225032Z
UID:10000922-1801076400-1801083600@saltspringzencircle.org
SUMMARY:Evening Zazen
DESCRIPTION:In-Person Evening Zazen with Zoom option at All Saints by-the-Sea Anglican Church\, Upper Hall\, 110 Park Drive\, Ganges 
URL:https://saltspringzencircle.org/event/evening-zazen-69/2027-01-27/
CATEGORIES:Evening Zazen
END:VEVENT
BEGIN:VEVENT
DTSTART;TZID=America/Vancouver:20270203T190000
DTEND;TZID=America/Vancouver:20270203T210000
DTSTAMP:20260423T165150
CREATED:20231231T034335Z
LAST-MODIFIED:20240104T225032Z
UID:10000923-1801681200-1801688400@saltspringzencircle.org
SUMMARY:Evening Zazen
DESCRIPTION:In-Person Evening Zazen with Zoom option at All Saints by-the-Sea Anglican Church\, Upper Hall\, 110 Park Drive\, Ganges 
URL:https://saltspringzencircle.org/event/evening-zazen-69/2027-02-03/
CATEGORIES:Evening Zazen
END:VEVENT
BEGIN:VEVENT
DTSTART;TZID=America/Vancouver:20270210T190000
DTEND;TZID=America/Vancouver:20270210T210000
DTSTAMP:20260423T165150
CREATED:20231231T034335Z
LAST-MODIFIED:20240104T225032Z
UID:10000924-1802286000-1802293200@saltspringzencircle.org
SUMMARY:Evening Zazen
DESCRIPTION:In-Person Evening Zazen with Zoom option at All Saints by-the-Sea Anglican Church\, Upper Hall\, 110 Park Drive\, Ganges 
URL:https://saltspringzencircle.org/event/evening-zazen-69/2027-02-10/
CATEGORIES:Evening Zazen
END:VEVENT
BEGIN:VEVENT
DTSTART;TZID=America/Vancouver:20270217T190000
DTEND;TZID=America/Vancouver:20270217T210000
DTSTAMP:20260423T165150
CREATED:20231231T034335Z
LAST-MODIFIED:20240104T225032Z
UID:10000925-1802890800-1802898000@saltspringzencircle.org
SUMMARY:Evening Zazen
DESCRIPTION:In-Person Evening Zazen with Zoom option at All Saints by-the-Sea Anglican Church\, Upper Hall\, 110 Park Drive\, Ganges 
URL:https://saltspringzencircle.org/event/evening-zazen-69/2027-02-17/
CATEGORIES:Evening Zazen
END:VEVENT
BEGIN:VEVENT
DTSTART;TZID=America/Vancouver:20270224T190000
DTEND;TZID=America/Vancouver:20270224T210000
DTSTAMP:20260423T165150
CREATED:20231231T034335Z
LAST-MODIFIED:20240104T225032Z
UID:10000926-1803495600-1803502800@saltspringzencircle.org
SUMMARY:Evening Zazen
DESCRIPTION:In-Person Evening Zazen with Zoom option at All Saints by-the-Sea Anglican Church\, Upper Hall\, 110 Park Drive\, Ganges 
URL:https://saltspringzencircle.org/event/evening-zazen-69/2027-02-24/
CATEGORIES:Evening Zazen
END:VEVENT
BEGIN:VEVENT
DTSTART;TZID=America/Vancouver:20270303T190000
DTEND;TZID=America/Vancouver:20270303T210000
DTSTAMP:20260423T165150
CREATED:20231231T034335Z
LAST-MODIFIED:20240104T225032Z
UID:10000927-1804100400-1804107600@saltspringzencircle.org
SUMMARY:Evening Zazen
DESCRIPTION:In-Person Evening Zazen with Zoom option at All Saints by-the-Sea Anglican Church\, Upper Hall\, 110 Park Drive\, Ganges 
URL:https://saltspringzencircle.org/event/evening-zazen-69/2027-03-03/
CATEGORIES:Evening Zazen
END:VEVENT
BEGIN:VEVENT
DTSTART;TZID=America/Vancouver:20270310T190000
DTEND;TZID=America/Vancouver:20270310T210000
DTSTAMP:20260423T165150
CREATED:20231231T034335Z
LAST-MODIFIED:20240104T225032Z
UID:10000928-1804705200-1804712400@saltspringzencircle.org
SUMMARY:Evening Zazen
DESCRIPTION:In-Person Evening Zazen with Zoom option at All Saints by-the-Sea Anglican Church\, Upper Hall\, 110 Park Drive\, Ganges 
URL:https://saltspringzencircle.org/event/evening-zazen-69/2027-03-10/
CATEGORIES:Evening Zazen
END:VEVENT
END:VCALENDAR