BEGIN:VCALENDAR
VERSION:2.0
PRODID:-// - ECPv6.15.20//NONSGML v1.0//EN
CALSCALE:GREGORIAN
METHOD:PUBLISH
X-ORIGINAL-URL:https://saltspringzencircle.org
X-WR-CALDESC:Events for 
REFRESH-INTERVAL;VALUE=DURATION:PT1H
X-Robots-Tag:noindex
X-PUBLISHED-TTL:PT1H
BEGIN:VTIMEZONE
TZID:America/Vancouver
BEGIN:DAYLIGHT
TZOFFSETFROM:-0800
TZOFFSETTO:-0700
TZNAME:PDT
DTSTART:20260308T100000
END:DAYLIGHT
BEGIN:STANDARD
TZOFFSETFROM:-0700
TZOFFSETTO:-0800
TZNAME:PST
DTSTART:20261101T090000
END:STANDARD
BEGIN:DAYLIGHT
TZOFFSETFROM:-0800
TZOFFSETTO:-0700
TZNAME:PDT
DTSTART:20270314T100000
END:DAYLIGHT
BEGIN:STANDARD
TZOFFSETFROM:-0700
TZOFFSETTO:-0800
TZNAME:PST
DTSTART:20271107T090000
END:STANDARD
BEGIN:DAYLIGHT
TZOFFSETFROM:-0800
TZOFFSETTO:-0700
TZNAME:PDT
DTSTART:20280312T100000
END:DAYLIGHT
BEGIN:STANDARD
TZOFFSETFROM:-0700
TZOFFSETTO:-0800
TZNAME:PST
DTSTART:20281105T090000
END:STANDARD
BEGIN:DAYLIGHT
TZOFFSETFROM:-0800
TZOFFSETTO:-0700
TZNAME:PDT
DTSTART:20290311T100000
END:DAYLIGHT
BEGIN:STANDARD
TZOFFSETFROM:-0700
TZOFFSETTO:-0800
TZNAME:PST
DTSTART:20291104T090000
END:STANDARD
END:VTIMEZONE
BEGIN:VEVENT
DTSTART;TZID=America/Vancouver:20270630T190000
DTEND;TZID=America/Vancouver:20270630T210000
DTSTAMP:20260425T053242
CREATED:20231231T034335Z
LAST-MODIFIED:20240104T225032Z
UID:10000944-1814382000-1814389200@saltspringzencircle.org
SUMMARY:Evening Zazen
DESCRIPTION:In-Person Evening Zazen with Zoom option at All Saints by-the-Sea Anglican Church\, Upper Hall\, 110 Park Drive\, Ganges 
URL:https://saltspringzencircle.org/event/evening-zazen-69/2027-06-30/
CATEGORIES:Evening Zazen
END:VEVENT
BEGIN:VEVENT
DTSTART;TZID=America/Vancouver:20270707T190000
DTEND;TZID=America/Vancouver:20270707T210000
DTSTAMP:20260425T053242
CREATED:20231231T034335Z
LAST-MODIFIED:20240104T225032Z
UID:10000945-1814986800-1814994000@saltspringzencircle.org
SUMMARY:Evening Zazen
DESCRIPTION:In-Person Evening Zazen with Zoom option at All Saints by-the-Sea Anglican Church\, Upper Hall\, 110 Park Drive\, Ganges 
URL:https://saltspringzencircle.org/event/evening-zazen-69/2027-07-07/
CATEGORIES:Evening Zazen
END:VEVENT
BEGIN:VEVENT
DTSTART;TZID=America/Vancouver:20270714T190000
DTEND;TZID=America/Vancouver:20270714T210000
DTSTAMP:20260425T053242
CREATED:20231231T034335Z
LAST-MODIFIED:20240104T225032Z
UID:10000946-1815591600-1815598800@saltspringzencircle.org
SUMMARY:Evening Zazen
DESCRIPTION:In-Person Evening Zazen with Zoom option at All Saints by-the-Sea Anglican Church\, Upper Hall\, 110 Park Drive\, Ganges 
URL:https://saltspringzencircle.org/event/evening-zazen-69/2027-07-14/
CATEGORIES:Evening Zazen
END:VEVENT
BEGIN:VEVENT
DTSTART;TZID=America/Vancouver:20270721T190000
DTEND;TZID=America/Vancouver:20270721T210000
DTSTAMP:20260425T053242
CREATED:20231231T034335Z
LAST-MODIFIED:20240104T225032Z
UID:10000947-1816196400-1816203600@saltspringzencircle.org
SUMMARY:Evening Zazen
DESCRIPTION:In-Person Evening Zazen with Zoom option at All Saints by-the-Sea Anglican Church\, Upper Hall\, 110 Park Drive\, Ganges 
URL:https://saltspringzencircle.org/event/evening-zazen-69/2027-07-21/
CATEGORIES:Evening Zazen
END:VEVENT
BEGIN:VEVENT
DTSTART;TZID=America/Vancouver:20270728T190000
DTEND;TZID=America/Vancouver:20270728T210000
DTSTAMP:20260425T053242
CREATED:20231231T034335Z
LAST-MODIFIED:20240104T225032Z
UID:10000948-1816801200-1816808400@saltspringzencircle.org
SUMMARY:Evening Zazen
DESCRIPTION:In-Person Evening Zazen with Zoom option at All Saints by-the-Sea Anglican Church\, Upper Hall\, 110 Park Drive\, Ganges 
URL:https://saltspringzencircle.org/event/evening-zazen-69/2027-07-28/
CATEGORIES:Evening Zazen
END:VEVENT
BEGIN:VEVENT
DTSTART;TZID=America/Vancouver:20270804T190000
DTEND;TZID=America/Vancouver:20270804T210000
DTSTAMP:20260425T053242
CREATED:20231231T034335Z
LAST-MODIFIED:20240104T225032Z
UID:10000949-1817406000-1817413200@saltspringzencircle.org
SUMMARY:Evening Zazen
DESCRIPTION:In-Person Evening Zazen with Zoom option at All Saints by-the-Sea Anglican Church\, Upper Hall\, 110 Park Drive\, Ganges 
URL:https://saltspringzencircle.org/event/evening-zazen-69/2027-08-04/
CATEGORIES:Evening Zazen
END:VEVENT
BEGIN:VEVENT
DTSTART;TZID=America/Vancouver:20270811T190000
DTEND;TZID=America/Vancouver:20270811T210000
DTSTAMP:20260425T053242
CREATED:20231231T034335Z
LAST-MODIFIED:20240104T225032Z
UID:10000950-1818010800-1818018000@saltspringzencircle.org
SUMMARY:Evening Zazen
DESCRIPTION:In-Person Evening Zazen with Zoom option at All Saints by-the-Sea Anglican Church\, Upper Hall\, 110 Park Drive\, Ganges 
URL:https://saltspringzencircle.org/event/evening-zazen-69/2027-08-11/
CATEGORIES:Evening Zazen
END:VEVENT
BEGIN:VEVENT
DTSTART;TZID=America/Vancouver:20270818T190000
DTEND;TZID=America/Vancouver:20270818T210000
DTSTAMP:20260425T053242
CREATED:20231231T034335Z
LAST-MODIFIED:20240104T225032Z
UID:10000951-1818615600-1818622800@saltspringzencircle.org
SUMMARY:Evening Zazen
DESCRIPTION:In-Person Evening Zazen with Zoom option at All Saints by-the-Sea Anglican Church\, Upper Hall\, 110 Park Drive\, Ganges 
URL:https://saltspringzencircle.org/event/evening-zazen-69/2027-08-18/
CATEGORIES:Evening Zazen
END:VEVENT
BEGIN:VEVENT
DTSTART;TZID=America/Vancouver:20270825T190000
DTEND;TZID=America/Vancouver:20270825T210000
DTSTAMP:20260425T053242
CREATED:20231231T034335Z
LAST-MODIFIED:20240104T225032Z
UID:10000952-1819220400-1819227600@saltspringzencircle.org
SUMMARY:Evening Zazen
DESCRIPTION:In-Person Evening Zazen with Zoom option at All Saints by-the-Sea Anglican Church\, Upper Hall\, 110 Park Drive\, Ganges 
URL:https://saltspringzencircle.org/event/evening-zazen-69/2027-08-25/
CATEGORIES:Evening Zazen
END:VEVENT
BEGIN:VEVENT
DTSTART;TZID=America/Vancouver:20270901T190000
DTEND;TZID=America/Vancouver:20270901T210000
DTSTAMP:20260425T053242
CREATED:20231231T034335Z
LAST-MODIFIED:20240104T225032Z
UID:10000953-1819825200-1819832400@saltspringzencircle.org
SUMMARY:Evening Zazen
DESCRIPTION:In-Person Evening Zazen with Zoom option at All Saints by-the-Sea Anglican Church\, Upper Hall\, 110 Park Drive\, Ganges 
URL:https://saltspringzencircle.org/event/evening-zazen-69/2027-09-01/
CATEGORIES:Evening Zazen
END:VEVENT
BEGIN:VEVENT
DTSTART;TZID=America/Vancouver:20270908T190000
DTEND;TZID=America/Vancouver:20270908T210000
DTSTAMP:20260425T053242
CREATED:20231231T034335Z
LAST-MODIFIED:20240104T225032Z
UID:10000954-1820430000-1820437200@saltspringzencircle.org
SUMMARY:Evening Zazen
DESCRIPTION:In-Person Evening Zazen with Zoom option at All Saints by-the-Sea Anglican Church\, Upper Hall\, 110 Park Drive\, Ganges 
URL:https://saltspringzencircle.org/event/evening-zazen-69/2027-09-08/
CATEGORIES:Evening Zazen
END:VEVENT
BEGIN:VEVENT
DTSTART;TZID=America/Vancouver:20270915T190000
DTEND;TZID=America/Vancouver:20270915T210000
DTSTAMP:20260425T053242
CREATED:20231231T034335Z
LAST-MODIFIED:20240104T225032Z
UID:10000955-1821034800-1821042000@saltspringzencircle.org
SUMMARY:Evening Zazen
DESCRIPTION:In-Person Evening Zazen with Zoom option at All Saints by-the-Sea Anglican Church\, Upper Hall\, 110 Park Drive\, Ganges 
URL:https://saltspringzencircle.org/event/evening-zazen-69/2027-09-15/
CATEGORIES:Evening Zazen
END:VEVENT
BEGIN:VEVENT
DTSTART;TZID=America/Vancouver:20270922T190000
DTEND;TZID=America/Vancouver:20270922T210000
DTSTAMP:20260425T053242
CREATED:20231231T034335Z
LAST-MODIFIED:20240104T225032Z
UID:10000956-1821639600-1821646800@saltspringzencircle.org
SUMMARY:Evening Zazen
DESCRIPTION:In-Person Evening Zazen with Zoom option at All Saints by-the-Sea Anglican Church\, Upper Hall\, 110 Park Drive\, Ganges 
URL:https://saltspringzencircle.org/event/evening-zazen-69/2027-09-22/
CATEGORIES:Evening Zazen
END:VEVENT
BEGIN:VEVENT
DTSTART;TZID=America/Vancouver:20270929T190000
DTEND;TZID=America/Vancouver:20270929T210000
DTSTAMP:20260425T053242
CREATED:20231231T034335Z
LAST-MODIFIED:20240104T225032Z
UID:10000957-1822244400-1822251600@saltspringzencircle.org
SUMMARY:Evening Zazen
DESCRIPTION:In-Person Evening Zazen with Zoom option at All Saints by-the-Sea Anglican Church\, Upper Hall\, 110 Park Drive\, Ganges 
URL:https://saltspringzencircle.org/event/evening-zazen-69/2027-09-29/
CATEGORIES:Evening Zazen
END:VEVENT
BEGIN:VEVENT
DTSTART;TZID=America/Vancouver:20271006T190000
DTEND;TZID=America/Vancouver:20271006T210000
DTSTAMP:20260425T053242
CREATED:20231231T034335Z
LAST-MODIFIED:20240104T225032Z
UID:10000958-1822849200-1822856400@saltspringzencircle.org
SUMMARY:Evening Zazen
DESCRIPTION:In-Person Evening Zazen with Zoom option at All Saints by-the-Sea Anglican Church\, Upper Hall\, 110 Park Drive\, Ganges 
URL:https://saltspringzencircle.org/event/evening-zazen-69/2027-10-06/
CATEGORIES:Evening Zazen
END:VEVENT
BEGIN:VEVENT
DTSTART;TZID=America/Vancouver:20271013T190000
DTEND;TZID=America/Vancouver:20271013T210000
DTSTAMP:20260425T053242
CREATED:20231231T034335Z
LAST-MODIFIED:20240104T225032Z
UID:10000959-1823454000-1823461200@saltspringzencircle.org
SUMMARY:Evening Zazen
DESCRIPTION:In-Person Evening Zazen with Zoom option at All Saints by-the-Sea Anglican Church\, Upper Hall\, 110 Park Drive\, Ganges 
URL:https://saltspringzencircle.org/event/evening-zazen-69/2027-10-13/
CATEGORIES:Evening Zazen
END:VEVENT
BEGIN:VEVENT
DTSTART;TZID=America/Vancouver:20271020T190000
DTEND;TZID=America/Vancouver:20271020T210000
DTSTAMP:20260425T053242
CREATED:20231231T034335Z
LAST-MODIFIED:20240104T225032Z
UID:10000960-1824058800-1824066000@saltspringzencircle.org
SUMMARY:Evening Zazen
DESCRIPTION:In-Person Evening Zazen with Zoom option at All Saints by-the-Sea Anglican Church\, Upper Hall\, 110 Park Drive\, Ganges 
URL:https://saltspringzencircle.org/event/evening-zazen-69/2027-10-20/
CATEGORIES:Evening Zazen
END:VEVENT
BEGIN:VEVENT
DTSTART;TZID=America/Vancouver:20271027T190000
DTEND;TZID=America/Vancouver:20271027T210000
DTSTAMP:20260425T053242
CREATED:20231231T034335Z
LAST-MODIFIED:20240104T225032Z
UID:10000961-1824663600-1824670800@saltspringzencircle.org
SUMMARY:Evening Zazen
DESCRIPTION:In-Person Evening Zazen with Zoom option at All Saints by-the-Sea Anglican Church\, Upper Hall\, 110 Park Drive\, Ganges 
URL:https://saltspringzencircle.org/event/evening-zazen-69/2027-10-27/
CATEGORIES:Evening Zazen
END:VEVENT
BEGIN:VEVENT
DTSTART;TZID=America/Vancouver:20271103T190000
DTEND;TZID=America/Vancouver:20271103T210000
DTSTAMP:20260425T053242
CREATED:20231231T034335Z
LAST-MODIFIED:20240104T225032Z
UID:10000962-1825268400-1825275600@saltspringzencircle.org
SUMMARY:Evening Zazen
DESCRIPTION:In-Person Evening Zazen with Zoom option at All Saints by-the-Sea Anglican Church\, Upper Hall\, 110 Park Drive\, Ganges 
URL:https://saltspringzencircle.org/event/evening-zazen-69/2027-11-03/
CATEGORIES:Evening Zazen
END:VEVENT
BEGIN:VEVENT
DTSTART;TZID=America/Vancouver:20271110T190000
DTEND;TZID=America/Vancouver:20271110T210000
DTSTAMP:20260425T053242
CREATED:20231231T034335Z
LAST-MODIFIED:20240104T225032Z
UID:10000963-1825873200-1825880400@saltspringzencircle.org
SUMMARY:Evening Zazen
DESCRIPTION:In-Person Evening Zazen with Zoom option at All Saints by-the-Sea Anglican Church\, Upper Hall\, 110 Park Drive\, Ganges 
URL:https://saltspringzencircle.org/event/evening-zazen-69/2027-11-10/
CATEGORIES:Evening Zazen
END:VEVENT
BEGIN:VEVENT
DTSTART;TZID=America/Vancouver:20271117T190000
DTEND;TZID=America/Vancouver:20271117T210000
DTSTAMP:20260425T053242
CREATED:20231231T034335Z
LAST-MODIFIED:20240104T225032Z
UID:10000964-1826478000-1826485200@saltspringzencircle.org
SUMMARY:Evening Zazen
DESCRIPTION:In-Person Evening Zazen with Zoom option at All Saints by-the-Sea Anglican Church\, Upper Hall\, 110 Park Drive\, Ganges 
URL:https://saltspringzencircle.org/event/evening-zazen-69/2027-11-17/
CATEGORIES:Evening Zazen
END:VEVENT
BEGIN:VEVENT
DTSTART;TZID=America/Vancouver:20271124T190000
DTEND;TZID=America/Vancouver:20271124T210000
DTSTAMP:20260425T053242
CREATED:20231231T034335Z
LAST-MODIFIED:20240104T225032Z
UID:10000965-1827082800-1827090000@saltspringzencircle.org
SUMMARY:Evening Zazen
DESCRIPTION:In-Person Evening Zazen with Zoom option at All Saints by-the-Sea Anglican Church\, Upper Hall\, 110 Park Drive\, Ganges 
URL:https://saltspringzencircle.org/event/evening-zazen-69/2027-11-24/
CATEGORIES:Evening Zazen
END:VEVENT
BEGIN:VEVENT
DTSTART;TZID=America/Vancouver:20271201T190000
DTEND;TZID=America/Vancouver:20271201T210000
DTSTAMP:20260425T053242
CREATED:20231231T034335Z
LAST-MODIFIED:20240104T225032Z
UID:10000966-1827687600-1827694800@saltspringzencircle.org
SUMMARY:Evening Zazen
DESCRIPTION:In-Person Evening Zazen with Zoom option at All Saints by-the-Sea Anglican Church\, Upper Hall\, 110 Park Drive\, Ganges 
URL:https://saltspringzencircle.org/event/evening-zazen-69/2027-12-01/
CATEGORIES:Evening Zazen
END:VEVENT
BEGIN:VEVENT
DTSTART;TZID=America/Vancouver:20271208T190000
DTEND;TZID=America/Vancouver:20271208T210000
DTSTAMP:20260425T053242
CREATED:20231231T034335Z
LAST-MODIFIED:20240104T225032Z
UID:10000967-1828292400-1828299600@saltspringzencircle.org
SUMMARY:Evening Zazen
DESCRIPTION:In-Person Evening Zazen with Zoom option at All Saints by-the-Sea Anglican Church\, Upper Hall\, 110 Park Drive\, Ganges 
URL:https://saltspringzencircle.org/event/evening-zazen-69/2027-12-08/
CATEGORIES:Evening Zazen
END:VEVENT
BEGIN:VEVENT
DTSTART;TZID=America/Vancouver:20271215T190000
DTEND;TZID=America/Vancouver:20271215T210000
DTSTAMP:20260425T053242
CREATED:20231231T034335Z
LAST-MODIFIED:20240104T225032Z
UID:10000968-1828897200-1828904400@saltspringzencircle.org
SUMMARY:Evening Zazen
DESCRIPTION:In-Person Evening Zazen with Zoom option at All Saints by-the-Sea Anglican Church\, Upper Hall\, 110 Park Drive\, Ganges 
URL:https://saltspringzencircle.org/event/evening-zazen-69/2027-12-15/
CATEGORIES:Evening Zazen
END:VEVENT
BEGIN:VEVENT
DTSTART;TZID=America/Vancouver:20271222T190000
DTEND;TZID=America/Vancouver:20271222T210000
DTSTAMP:20260425T053242
CREATED:20231231T034335Z
LAST-MODIFIED:20240104T225032Z
UID:10000969-1829502000-1829509200@saltspringzencircle.org
SUMMARY:Evening Zazen
DESCRIPTION:In-Person Evening Zazen with Zoom option at All Saints by-the-Sea Anglican Church\, Upper Hall\, 110 Park Drive\, Ganges 
URL:https://saltspringzencircle.org/event/evening-zazen-69/2027-12-22/
CATEGORIES:Evening Zazen
END:VEVENT
BEGIN:VEVENT
DTSTART;TZID=America/Vancouver:20271229T190000
DTEND;TZID=America/Vancouver:20271229T210000
DTSTAMP:20260425T053242
CREATED:20231231T034335Z
LAST-MODIFIED:20240104T225032Z
UID:10000970-1830106800-1830114000@saltspringzencircle.org
SUMMARY:Evening Zazen
DESCRIPTION:In-Person Evening Zazen with Zoom option at All Saints by-the-Sea Anglican Church\, Upper Hall\, 110 Park Drive\, Ganges 
URL:https://saltspringzencircle.org/event/evening-zazen-69/2027-12-29/
CATEGORIES:Evening Zazen
END:VEVENT
BEGIN:VEVENT
DTSTART;TZID=America/Vancouver:20280105T190000
DTEND;TZID=America/Vancouver:20280105T210000
DTSTAMP:20260425T053242
CREATED:20231231T034335Z
LAST-MODIFIED:20240104T225032Z
UID:10000971-1830711600-1830718800@saltspringzencircle.org
SUMMARY:Evening Zazen
DESCRIPTION:In-Person Evening Zazen with Zoom option at All Saints by-the-Sea Anglican Church\, Upper Hall\, 110 Park Drive\, Ganges 
URL:https://saltspringzencircle.org/event/evening-zazen-69/2028-01-05/
CATEGORIES:Evening Zazen
END:VEVENT
BEGIN:VEVENT
DTSTART;TZID=America/Vancouver:20280112T190000
DTEND;TZID=America/Vancouver:20280112T210000
DTSTAMP:20260425T053242
CREATED:20231231T034335Z
LAST-MODIFIED:20240104T225032Z
UID:10000972-1831316400-1831323600@saltspringzencircle.org
SUMMARY:Evening Zazen
DESCRIPTION:In-Person Evening Zazen with Zoom option at All Saints by-the-Sea Anglican Church\, Upper Hall\, 110 Park Drive\, Ganges 
URL:https://saltspringzencircle.org/event/evening-zazen-69/2028-01-12/
CATEGORIES:Evening Zazen
END:VEVENT
BEGIN:VEVENT
DTSTART;TZID=America/Vancouver:20280119T190000
DTEND;TZID=America/Vancouver:20280119T210000
DTSTAMP:20260425T053242
CREATED:20231231T034335Z
LAST-MODIFIED:20240104T225032Z
UID:10000973-1831921200-1831928400@saltspringzencircle.org
SUMMARY:Evening Zazen
DESCRIPTION:In-Person Evening Zazen with Zoom option at All Saints by-the-Sea Anglican Church\, Upper Hall\, 110 Park Drive\, Ganges 
URL:https://saltspringzencircle.org/event/evening-zazen-69/2028-01-19/
CATEGORIES:Evening Zazen
END:VEVENT
END:VCALENDAR