BEGIN:VCALENDAR
VERSION:2.0
PRODID:-// - ECPv6.15.20//NONSGML v1.0//EN
CALSCALE:GREGORIAN
METHOD:PUBLISH
X-ORIGINAL-URL:https://saltspringzencircle.org
X-WR-CALDESC:Events for 
REFRESH-INTERVAL;VALUE=DURATION:PT1H
X-Robots-Tag:noindex
X-PUBLISHED-TTL:PT1H
BEGIN:VTIMEZONE
TZID:America/Vancouver
BEGIN:DAYLIGHT
TZOFFSETFROM:-0800
TZOFFSETTO:-0700
TZNAME:PDT
DTSTART:20240310T100000
END:DAYLIGHT
BEGIN:STANDARD
TZOFFSETFROM:-0700
TZOFFSETTO:-0800
TZNAME:PST
DTSTART:20241103T090000
END:STANDARD
BEGIN:DAYLIGHT
TZOFFSETFROM:-0800
TZOFFSETTO:-0700
TZNAME:PDT
DTSTART:20250309T100000
END:DAYLIGHT
BEGIN:STANDARD
TZOFFSETFROM:-0700
TZOFFSETTO:-0800
TZNAME:PST
DTSTART:20251102T090000
END:STANDARD
BEGIN:DAYLIGHT
TZOFFSETFROM:-0800
TZOFFSETTO:-0700
TZNAME:PDT
DTSTART:20260308T100000
END:DAYLIGHT
BEGIN:STANDARD
TZOFFSETFROM:-0700
TZOFFSETTO:-0800
TZNAME:PST
DTSTART:20261101T090000
END:STANDARD
END:VTIMEZONE
BEGIN:VEVENT
DTSTART;TZID=America/Vancouver:20250404T070000
DTEND;TZID=America/Vancouver:20250404T074500
DTSTAMP:20260424T190036
CREATED:20250103T155802Z
LAST-MODIFIED:20250103T183152Z
UID:10001624-1743750000-1743752700@saltspringzencircle.org
SUMMARY:Morning Zazen
DESCRIPTION:Please be seated by 7am
URL:https://saltspringzencircle.org/event/morning-zazen-150/2025-04-04/
CATEGORIES:Morning Zazen
END:VEVENT
BEGIN:VEVENT
DTSTART;TZID=America/Vancouver:20250407T070000
DTEND;TZID=America/Vancouver:20250407T074500
DTSTAMP:20260424T190036
CREATED:20250103T155503Z
LAST-MODIFIED:20250103T155503Z
UID:10001361-1744009200-1744011900@saltspringzencircle.org
SUMMARY:Morning Zazen
DESCRIPTION:
URL:https://saltspringzencircle.org/event/morning-zazen-149/2025-04-07/
CATEGORIES:Morning Zazen
END:VEVENT
BEGIN:VEVENT
DTSTART;TZID=America/Vancouver:20250411T070000
DTEND;TZID=America/Vancouver:20250411T074500
DTSTAMP:20260424T190036
CREATED:20250103T155802Z
LAST-MODIFIED:20250103T183152Z
UID:10001625-1744354800-1744357500@saltspringzencircle.org
SUMMARY:Morning Zazen
DESCRIPTION:Please be seated by 7am
URL:https://saltspringzencircle.org/event/morning-zazen-150/2025-04-11/
CATEGORIES:Morning Zazen
END:VEVENT
BEGIN:VEVENT
DTSTART;TZID=America/Vancouver:20250414T070000
DTEND;TZID=America/Vancouver:20250414T074500
DTSTAMP:20260424T190036
CREATED:20250103T155503Z
LAST-MODIFIED:20250103T155503Z
UID:10001362-1744614000-1744616700@saltspringzencircle.org
SUMMARY:Morning Zazen
DESCRIPTION:
URL:https://saltspringzencircle.org/event/morning-zazen-149/2025-04-14/
CATEGORIES:Morning Zazen
END:VEVENT
BEGIN:VEVENT
DTSTART;TZID=America/Vancouver:20250418T070000
DTEND;TZID=America/Vancouver:20250418T074500
DTSTAMP:20260424T190036
CREATED:20250103T155802Z
LAST-MODIFIED:20250103T183152Z
UID:10001626-1744959600-1744962300@saltspringzencircle.org
SUMMARY:Morning Zazen
DESCRIPTION:Please be seated by 7am
URL:https://saltspringzencircle.org/event/morning-zazen-150/2025-04-18/
CATEGORIES:Morning Zazen
END:VEVENT
BEGIN:VEVENT
DTSTART;TZID=America/Vancouver:20250421T070000
DTEND;TZID=America/Vancouver:20250421T074500
DTSTAMP:20260424T190036
CREATED:20250103T155503Z
LAST-MODIFIED:20250103T155503Z
UID:10001363-1745218800-1745221500@saltspringzencircle.org
SUMMARY:Morning Zazen
DESCRIPTION:
URL:https://saltspringzencircle.org/event/morning-zazen-149/2025-04-21/
CATEGORIES:Morning Zazen
END:VEVENT
BEGIN:VEVENT
DTSTART;TZID=America/Vancouver:20250425T070000
DTEND;TZID=America/Vancouver:20250425T074500
DTSTAMP:20260424T190036
CREATED:20250103T155802Z
LAST-MODIFIED:20250103T183152Z
UID:10001627-1745564400-1745567100@saltspringzencircle.org
SUMMARY:Morning Zazen
DESCRIPTION:Please be seated by 7am
URL:https://saltspringzencircle.org/event/morning-zazen-150/2025-04-25/
CATEGORIES:Morning Zazen
END:VEVENT
BEGIN:VEVENT
DTSTART;TZID=America/Vancouver:20250428T070000
DTEND;TZID=America/Vancouver:20250428T074500
DTSTAMP:20260424T190036
CREATED:20250103T155503Z
LAST-MODIFIED:20250103T155503Z
UID:10001364-1745823600-1745826300@saltspringzencircle.org
SUMMARY:Morning Zazen
DESCRIPTION:
URL:https://saltspringzencircle.org/event/morning-zazen-149/2025-04-28/
CATEGORIES:Morning Zazen
END:VEVENT
END:VCALENDAR