BEGIN:VCALENDAR
VERSION:2.0
PRODID:-// - ECPv6.15.20//NONSGML v1.0//EN
CALSCALE:GREGORIAN
METHOD:PUBLISH
X-ORIGINAL-URL:https://saltspringzencircle.org
X-WR-CALDESC:Events for 
REFRESH-INTERVAL;VALUE=DURATION:PT1H
X-Robots-Tag:noindex
X-PUBLISHED-TTL:PT1H
BEGIN:VTIMEZONE
TZID:America/Vancouver
BEGIN:DAYLIGHT
TZOFFSETFROM:-0800
TZOFFSETTO:-0700
TZNAME:PDT
DTSTART:20240310T100000
END:DAYLIGHT
BEGIN:STANDARD
TZOFFSETFROM:-0700
TZOFFSETTO:-0800
TZNAME:PST
DTSTART:20241103T090000
END:STANDARD
BEGIN:DAYLIGHT
TZOFFSETFROM:-0800
TZOFFSETTO:-0700
TZNAME:PDT
DTSTART:20250309T100000
END:DAYLIGHT
BEGIN:STANDARD
TZOFFSETFROM:-0700
TZOFFSETTO:-0800
TZNAME:PST
DTSTART:20251102T090000
END:STANDARD
BEGIN:DAYLIGHT
TZOFFSETFROM:-0800
TZOFFSETTO:-0700
TZNAME:PDT
DTSTART:20260308T100000
END:DAYLIGHT
BEGIN:STANDARD
TZOFFSETFROM:-0700
TZOFFSETTO:-0800
TZNAME:PST
DTSTART:20261101T090000
END:STANDARD
END:VTIMEZONE
BEGIN:VEVENT
DTSTART;TZID=America/Vancouver:20250901T070000
DTEND;TZID=America/Vancouver:20250901T074500
DTSTAMP:20260423T222832
CREATED:20250103T155503Z
LAST-MODIFIED:20250103T155503Z
UID:10001382-1756710000-1756712700@saltspringzencircle.org
SUMMARY:Morning Zazen
DESCRIPTION:
URL:https://saltspringzencircle.org/event/morning-zazen-149/2025-09-01/
CATEGORIES:Morning Zazen
END:VEVENT
BEGIN:VEVENT
DTSTART;TZID=America/Vancouver:20250905T070000
DTEND;TZID=America/Vancouver:20250905T074500
DTSTAMP:20260423T222832
CREATED:20250103T155802Z
LAST-MODIFIED:20250103T183152Z
UID:10001646-1757055600-1757058300@saltspringzencircle.org
SUMMARY:Morning Zazen
DESCRIPTION:Please be seated by 7am
URL:https://saltspringzencircle.org/event/morning-zazen-150/2025-09-05/
CATEGORIES:Morning Zazen
END:VEVENT
BEGIN:VEVENT
DTSTART;TZID=America/Vancouver:20250908T070000
DTEND;TZID=America/Vancouver:20250908T074500
DTSTAMP:20260423T222832
CREATED:20250103T155503Z
LAST-MODIFIED:20250103T155503Z
UID:10001383-1757314800-1757317500@saltspringzencircle.org
SUMMARY:Morning Zazen
DESCRIPTION:
URL:https://saltspringzencircle.org/event/morning-zazen-149/2025-09-08/
CATEGORIES:Morning Zazen
END:VEVENT
BEGIN:VEVENT
DTSTART;TZID=America/Vancouver:20250912T070000
DTEND;TZID=America/Vancouver:20250912T074500
DTSTAMP:20260423T222832
CREATED:20250103T155802Z
LAST-MODIFIED:20250103T183152Z
UID:10001647-1757660400-1757663100@saltspringzencircle.org
SUMMARY:Morning Zazen
DESCRIPTION:Please be seated by 7am
URL:https://saltspringzencircle.org/event/morning-zazen-150/2025-09-12/
CATEGORIES:Morning Zazen
END:VEVENT
BEGIN:VEVENT
DTSTART;TZID=America/Vancouver:20250915T070000
DTEND;TZID=America/Vancouver:20250915T074500
DTSTAMP:20260423T222832
CREATED:20250103T155503Z
LAST-MODIFIED:20250103T155503Z
UID:10001384-1757919600-1757922300@saltspringzencircle.org
SUMMARY:Morning Zazen
DESCRIPTION:
URL:https://saltspringzencircle.org/event/morning-zazen-149/2025-09-15/
CATEGORIES:Morning Zazen
END:VEVENT
BEGIN:VEVENT
DTSTART;TZID=America/Vancouver:20250919T070000
DTEND;TZID=America/Vancouver:20250919T074500
DTSTAMP:20260423T222832
CREATED:20250103T155802Z
LAST-MODIFIED:20250103T183152Z
UID:10001648-1758265200-1758267900@saltspringzencircle.org
SUMMARY:Morning Zazen
DESCRIPTION:Please be seated by 7am
URL:https://saltspringzencircle.org/event/morning-zazen-150/2025-09-19/
CATEGORIES:Morning Zazen
END:VEVENT
BEGIN:VEVENT
DTSTART;TZID=America/Vancouver:20250922T070000
DTEND;TZID=America/Vancouver:20250922T074500
DTSTAMP:20260423T222832
CREATED:20250103T155503Z
LAST-MODIFIED:20250103T155503Z
UID:10001385-1758524400-1758527100@saltspringzencircle.org
SUMMARY:Morning Zazen
DESCRIPTION:
URL:https://saltspringzencircle.org/event/morning-zazen-149/2025-09-22/
CATEGORIES:Morning Zazen
END:VEVENT
BEGIN:VEVENT
DTSTART;TZID=America/Vancouver:20250926T070000
DTEND;TZID=America/Vancouver:20250926T074500
DTSTAMP:20260423T222832
CREATED:20250103T155802Z
LAST-MODIFIED:20250103T183152Z
UID:10001649-1758870000-1758872700@saltspringzencircle.org
SUMMARY:Morning Zazen
DESCRIPTION:Please be seated by 7am
URL:https://saltspringzencircle.org/event/morning-zazen-150/2025-09-26/
CATEGORIES:Morning Zazen
END:VEVENT
BEGIN:VEVENT
DTSTART;TZID=America/Vancouver:20250929T070000
DTEND;TZID=America/Vancouver:20250929T074500
DTSTAMP:20260423T222832
CREATED:20250103T155503Z
LAST-MODIFIED:20250103T155503Z
UID:10001386-1759129200-1759131900@saltspringzencircle.org
SUMMARY:Morning Zazen
DESCRIPTION:
URL:https://saltspringzencircle.org/event/morning-zazen-149/2025-09-29/
CATEGORIES:Morning Zazen
END:VEVENT
END:VCALENDAR