BEGIN:VCALENDAR
VERSION:2.0
PRODID:-// - ECPv6.15.20//NONSGML v1.0//EN
CALSCALE:GREGORIAN
METHOD:PUBLISH
X-ORIGINAL-URL:https://saltspringzencircle.org
X-WR-CALDESC:Events for 
REFRESH-INTERVAL;VALUE=DURATION:PT1H
X-Robots-Tag:noindex
X-PUBLISHED-TTL:PT1H
BEGIN:VTIMEZONE
TZID:America/Vancouver
BEGIN:DAYLIGHT
TZOFFSETFROM:-0800
TZOFFSETTO:-0700
TZNAME:PDT
DTSTART:20240310T100000
END:DAYLIGHT
BEGIN:STANDARD
TZOFFSETFROM:-0700
TZOFFSETTO:-0800
TZNAME:PST
DTSTART:20241103T090000
END:STANDARD
BEGIN:DAYLIGHT
TZOFFSETFROM:-0800
TZOFFSETTO:-0700
TZNAME:PDT
DTSTART:20250309T100000
END:DAYLIGHT
BEGIN:STANDARD
TZOFFSETFROM:-0700
TZOFFSETTO:-0800
TZNAME:PST
DTSTART:20251102T090000
END:STANDARD
BEGIN:DAYLIGHT
TZOFFSETFROM:-0800
TZOFFSETTO:-0700
TZNAME:PDT
DTSTART:20260308T100000
END:DAYLIGHT
BEGIN:STANDARD
TZOFFSETFROM:-0700
TZOFFSETTO:-0800
TZNAME:PST
DTSTART:20261101T090000
END:STANDARD
END:VTIMEZONE
BEGIN:VEVENT
DTSTART;TZID=America/Vancouver:20251201T070000
DTEND;TZID=America/Vancouver:20251201T074500
DTSTAMP:20260423T172309
CREATED:20250103T155503Z
LAST-MODIFIED:20250103T155503Z
UID:10001395-1764572400-1764575100@saltspringzencircle.org
SUMMARY:Morning Zazen
DESCRIPTION:
URL:https://saltspringzencircle.org/event/morning-zazen-149/2025-12-01/
CATEGORIES:Morning Zazen
END:VEVENT
BEGIN:VEVENT
DTSTART;TZID=America/Vancouver:20251205T070000
DTEND;TZID=America/Vancouver:20251205T074500
DTSTAMP:20260423T172309
CREATED:20250103T155802Z
LAST-MODIFIED:20250103T183152Z
UID:10001659-1764918000-1764920700@saltspringzencircle.org
SUMMARY:Morning Zazen
DESCRIPTION:Please be seated by 7am
URL:https://saltspringzencircle.org/event/morning-zazen-150/2025-12-05/
CATEGORIES:Morning Zazen
END:VEVENT
BEGIN:VEVENT
DTSTART;TZID=America/Vancouver:20251208T070000
DTEND;TZID=America/Vancouver:20251208T074500
DTSTAMP:20260423T172309
CREATED:20250103T155503Z
LAST-MODIFIED:20250103T155503Z
UID:10001396-1765177200-1765179900@saltspringzencircle.org
SUMMARY:Morning Zazen
DESCRIPTION:
URL:https://saltspringzencircle.org/event/morning-zazen-149/2025-12-08/
CATEGORIES:Morning Zazen
END:VEVENT
BEGIN:VEVENT
DTSTART;TZID=America/Vancouver:20251212T070000
DTEND;TZID=America/Vancouver:20251212T074500
DTSTAMP:20260423T172309
CREATED:20250103T155802Z
LAST-MODIFIED:20250103T183152Z
UID:10001660-1765522800-1765525500@saltspringzencircle.org
SUMMARY:Morning Zazen
DESCRIPTION:Please be seated by 7am
URL:https://saltspringzencircle.org/event/morning-zazen-150/2025-12-12/
CATEGORIES:Morning Zazen
END:VEVENT
BEGIN:VEVENT
DTSTART;TZID=America/Vancouver:20251215T070000
DTEND;TZID=America/Vancouver:20251215T074500
DTSTAMP:20260423T172309
CREATED:20250103T155503Z
LAST-MODIFIED:20250103T155503Z
UID:10001397-1765782000-1765784700@saltspringzencircle.org
SUMMARY:Morning Zazen
DESCRIPTION:
URL:https://saltspringzencircle.org/event/morning-zazen-149/2025-12-15/
CATEGORIES:Morning Zazen
END:VEVENT
BEGIN:VEVENT
DTSTART;TZID=America/Vancouver:20251219T070000
DTEND;TZID=America/Vancouver:20251219T074500
DTSTAMP:20260423T172309
CREATED:20250103T155802Z
LAST-MODIFIED:20250103T183152Z
UID:10001661-1766127600-1766130300@saltspringzencircle.org
SUMMARY:Morning Zazen
DESCRIPTION:Please be seated by 7am
URL:https://saltspringzencircle.org/event/morning-zazen-150/2025-12-19/
CATEGORIES:Morning Zazen
END:VEVENT
BEGIN:VEVENT
DTSTART;TZID=America/Vancouver:20251222T070000
DTEND;TZID=America/Vancouver:20251222T074500
DTSTAMP:20260423T172309
CREATED:20250807T030257Z
LAST-MODIFIED:20251108T043207Z
UID:10001398-1766386800-1766389500@saltspringzencircle.org
SUMMARY:No Morning Zazen - Winter Break
DESCRIPTION:
URL:https://saltspringzencircle.org/event/morning-zazen-149-4/
CATEGORIES:Morning Zazen
END:VEVENT
BEGIN:VEVENT
DTSTART;TZID=America/Vancouver:20251226T070000
DTEND;TZID=America/Vancouver:20251226T074500
DTSTAMP:20260423T172309
CREATED:20250807T030421Z
LAST-MODIFIED:20251108T043430Z
UID:10001662-1766732400-1766735100@saltspringzencircle.org
SUMMARY:No Morning Zazen - Winter Break
DESCRIPTION:Please be seated by 7am
URL:https://saltspringzencircle.org/event/morning-zazen-150-4/
CATEGORIES:Morning Zazen
END:VEVENT
BEGIN:VEVENT
DTSTART;TZID=America/Vancouver:20251229T070000
DTEND;TZID=America/Vancouver:20251229T074500
DTSTAMP:20260423T172309
CREATED:20250807T030531Z
LAST-MODIFIED:20251108T043644Z
UID:10001399-1766991600-1766994300@saltspringzencircle.org
SUMMARY:No Morning Zazen - Winter Break
DESCRIPTION:
URL:https://saltspringzencircle.org/event/morning-zazen-149-5/
CATEGORIES:Morning Zazen
END:VEVENT
END:VCALENDAR