BEGIN:VCALENDAR
VERSION:2.0
PRODID:-// - ECPv6.15.20//NONSGML v1.0//EN
CALSCALE:GREGORIAN
METHOD:PUBLISH
X-ORIGINAL-URL:https://saltspringzencircle.org
X-WR-CALDESC:Events for 
REFRESH-INTERVAL;VALUE=DURATION:PT1H
X-Robots-Tag:noindex
X-PUBLISHED-TTL:PT1H
BEGIN:VTIMEZONE
TZID:America/Vancouver
BEGIN:DAYLIGHT
TZOFFSETFROM:-0800
TZOFFSETTO:-0700
TZNAME:PDT
DTSTART:20250309T100000
END:DAYLIGHT
BEGIN:STANDARD
TZOFFSETFROM:-0700
TZOFFSETTO:-0800
TZNAME:PST
DTSTART:20251102T090000
END:STANDARD
BEGIN:DAYLIGHT
TZOFFSETFROM:-0800
TZOFFSETTO:-0700
TZNAME:PDT
DTSTART:20260308T100000
END:DAYLIGHT
BEGIN:STANDARD
TZOFFSETFROM:-0700
TZOFFSETTO:-0800
TZNAME:PST
DTSTART:20261101T090000
END:STANDARD
BEGIN:DAYLIGHT
TZOFFSETFROM:-0800
TZOFFSETTO:-0700
TZNAME:PDT
DTSTART:20270314T100000
END:DAYLIGHT
BEGIN:STANDARD
TZOFFSETFROM:-0700
TZOFFSETTO:-0800
TZNAME:PST
DTSTART:20271107T090000
END:STANDARD
END:VTIMEZONE
BEGIN:VEVENT
DTSTART;TZID=America/Vancouver:20260501T070000
DTEND;TZID=America/Vancouver:20260501T074500
DTSTAMP:20260423T113125
CREATED:20250103T155802Z
LAST-MODIFIED:20250103T183152Z
UID:10001680-1777618800-1777621500@saltspringzencircle.org
SUMMARY:Morning Zazen
DESCRIPTION:Please be seated by 7am
URL:https://saltspringzencircle.org/event/morning-zazen-150/2026-05-01/
CATEGORIES:Morning Zazen
END:VEVENT
BEGIN:VEVENT
DTSTART;TZID=America/Vancouver:20260504T070000
DTEND;TZID=America/Vancouver:20260504T074500
DTSTAMP:20260423T113125
CREATED:20250103T155503Z
LAST-MODIFIED:20250103T155503Z
UID:10001417-1777878000-1777880700@saltspringzencircle.org
SUMMARY:Morning Zazen
DESCRIPTION:
URL:https://saltspringzencircle.org/event/morning-zazen-149/2026-05-04/
CATEGORIES:Morning Zazen
END:VEVENT
BEGIN:VEVENT
DTSTART;TZID=America/Vancouver:20260508T070000
DTEND;TZID=America/Vancouver:20260508T074500
DTSTAMP:20260423T113125
CREATED:20250103T155802Z
LAST-MODIFIED:20250103T183152Z
UID:10001681-1778223600-1778226300@saltspringzencircle.org
SUMMARY:Morning Zazen
DESCRIPTION:Please be seated by 7am
URL:https://saltspringzencircle.org/event/morning-zazen-150/2026-05-08/
CATEGORIES:Morning Zazen
END:VEVENT
BEGIN:VEVENT
DTSTART;TZID=America/Vancouver:20260511T070000
DTEND;TZID=America/Vancouver:20260511T074500
DTSTAMP:20260423T113125
CREATED:20250103T155503Z
LAST-MODIFIED:20250103T155503Z
UID:10001418-1778482800-1778485500@saltspringzencircle.org
SUMMARY:Morning Zazen
DESCRIPTION:
URL:https://saltspringzencircle.org/event/morning-zazen-149/2026-05-11/
CATEGORIES:Morning Zazen
END:VEVENT
BEGIN:VEVENT
DTSTART;TZID=America/Vancouver:20260515T070000
DTEND;TZID=America/Vancouver:20260515T074500
DTSTAMP:20260423T113125
CREATED:20250103T155802Z
LAST-MODIFIED:20250103T183152Z
UID:10001682-1778828400-1778831100@saltspringzencircle.org
SUMMARY:Morning Zazen
DESCRIPTION:Please be seated by 7am
URL:https://saltspringzencircle.org/event/morning-zazen-150/2026-05-15/
CATEGORIES:Morning Zazen
END:VEVENT
BEGIN:VEVENT
DTSTART;TZID=America/Vancouver:20260518T070000
DTEND;TZID=America/Vancouver:20260518T074500
DTSTAMP:20260423T113125
CREATED:20250103T155503Z
LAST-MODIFIED:20250103T155503Z
UID:10001419-1779087600-1779090300@saltspringzencircle.org
SUMMARY:Morning Zazen
DESCRIPTION:
URL:https://saltspringzencircle.org/event/morning-zazen-149/2026-05-18/
CATEGORIES:Morning Zazen
END:VEVENT
BEGIN:VEVENT
DTSTART;TZID=America/Vancouver:20260522T070000
DTEND;TZID=America/Vancouver:20260522T074500
DTSTAMP:20260423T113125
CREATED:20250103T155802Z
LAST-MODIFIED:20250103T183152Z
UID:10001683-1779433200-1779435900@saltspringzencircle.org
SUMMARY:Morning Zazen
DESCRIPTION:Please be seated by 7am
URL:https://saltspringzencircle.org/event/morning-zazen-150/2026-05-22/
CATEGORIES:Morning Zazen
END:VEVENT
BEGIN:VEVENT
DTSTART;TZID=America/Vancouver:20260525T070000
DTEND;TZID=America/Vancouver:20260525T074500
DTSTAMP:20260423T113125
CREATED:20250103T155503Z
LAST-MODIFIED:20250103T155503Z
UID:10001420-1779692400-1779695100@saltspringzencircle.org
SUMMARY:Morning Zazen
DESCRIPTION:
URL:https://saltspringzencircle.org/event/morning-zazen-149/2026-05-25/
CATEGORIES:Morning Zazen
END:VEVENT
BEGIN:VEVENT
DTSTART;TZID=America/Vancouver:20260529T070000
DTEND;TZID=America/Vancouver:20260529T074500
DTSTAMP:20260423T113125
CREATED:20250103T155802Z
LAST-MODIFIED:20250103T183152Z
UID:10001684-1780038000-1780040700@saltspringzencircle.org
SUMMARY:Morning Zazen
DESCRIPTION:Please be seated by 7am
URL:https://saltspringzencircle.org/event/morning-zazen-150/2026-05-29/
CATEGORIES:Morning Zazen
END:VEVENT
END:VCALENDAR