BEGIN:VCALENDAR
VERSION:2.0
PRODID:-// - ECPv6.15.20//NONSGML v1.0//EN
CALSCALE:GREGORIAN
METHOD:PUBLISH
X-ORIGINAL-URL:https://saltspringzencircle.org
X-WR-CALDESC:Events for 
REFRESH-INTERVAL;VALUE=DURATION:PT1H
X-Robots-Tag:noindex
X-PUBLISHED-TTL:PT1H
BEGIN:VTIMEZONE
TZID:America/Vancouver
BEGIN:DAYLIGHT
TZOFFSETFROM:-0800
TZOFFSETTO:-0700
TZNAME:PDT
DTSTART:20260308T100000
END:DAYLIGHT
BEGIN:STANDARD
TZOFFSETFROM:-0700
TZOFFSETTO:-0800
TZNAME:PST
DTSTART:20261101T090000
END:STANDARD
BEGIN:DAYLIGHT
TZOFFSETFROM:-0800
TZOFFSETTO:-0700
TZNAME:PDT
DTSTART:20270314T100000
END:DAYLIGHT
BEGIN:STANDARD
TZOFFSETFROM:-0700
TZOFFSETTO:-0800
TZNAME:PST
DTSTART:20271107T090000
END:STANDARD
BEGIN:DAYLIGHT
TZOFFSETFROM:-0800
TZOFFSETTO:-0700
TZNAME:PDT
DTSTART:20280312T100000
END:DAYLIGHT
BEGIN:STANDARD
TZOFFSETFROM:-0700
TZOFFSETTO:-0800
TZNAME:PST
DTSTART:20281105T090000
END:STANDARD
END:VTIMEZONE
BEGIN:VEVENT
DTSTART;TZID=America/Vancouver:20270503T070000
DTEND;TZID=America/Vancouver:20270503T074500
DTSTAMP:20260425T032829
CREATED:20250103T155503Z
LAST-MODIFIED:20250103T155503Z
UID:10001469-1809327600-1809330300@saltspringzencircle.org
SUMMARY:Morning Zazen
DESCRIPTION:
URL:https://saltspringzencircle.org/event/morning-zazen-149/2027-05-03/
CATEGORIES:Morning Zazen
END:VEVENT
BEGIN:VEVENT
DTSTART;TZID=America/Vancouver:20270507T070000
DTEND;TZID=America/Vancouver:20270507T074500
DTSTAMP:20260425T032829
CREATED:20250103T155802Z
LAST-MODIFIED:20250103T183152Z
UID:10001733-1809673200-1809675900@saltspringzencircle.org
SUMMARY:Morning Zazen
DESCRIPTION:Please be seated by 7am
URL:https://saltspringzencircle.org/event/morning-zazen-150/2027-05-07/
CATEGORIES:Morning Zazen
END:VEVENT
BEGIN:VEVENT
DTSTART;TZID=America/Vancouver:20270510T070000
DTEND;TZID=America/Vancouver:20270510T074500
DTSTAMP:20260425T032829
CREATED:20250103T155503Z
LAST-MODIFIED:20250103T155503Z
UID:10001470-1809932400-1809935100@saltspringzencircle.org
SUMMARY:Morning Zazen
DESCRIPTION:
URL:https://saltspringzencircle.org/event/morning-zazen-149/2027-05-10/
CATEGORIES:Morning Zazen
END:VEVENT
BEGIN:VEVENT
DTSTART;TZID=America/Vancouver:20270514T070000
DTEND;TZID=America/Vancouver:20270514T074500
DTSTAMP:20260425T032829
CREATED:20250103T155802Z
LAST-MODIFIED:20250103T183152Z
UID:10001734-1810278000-1810280700@saltspringzencircle.org
SUMMARY:Morning Zazen
DESCRIPTION:Please be seated by 7am
URL:https://saltspringzencircle.org/event/morning-zazen-150/2027-05-14/
CATEGORIES:Morning Zazen
END:VEVENT
BEGIN:VEVENT
DTSTART;TZID=America/Vancouver:20270517T070000
DTEND;TZID=America/Vancouver:20270517T074500
DTSTAMP:20260425T032829
CREATED:20250103T155503Z
LAST-MODIFIED:20250103T155503Z
UID:10001471-1810537200-1810539900@saltspringzencircle.org
SUMMARY:Morning Zazen
DESCRIPTION:
URL:https://saltspringzencircle.org/event/morning-zazen-149/2027-05-17/
CATEGORIES:Morning Zazen
END:VEVENT
BEGIN:VEVENT
DTSTART;TZID=America/Vancouver:20270521T070000
DTEND;TZID=America/Vancouver:20270521T074500
DTSTAMP:20260425T032829
CREATED:20250103T155802Z
LAST-MODIFIED:20250103T183152Z
UID:10001735-1810882800-1810885500@saltspringzencircle.org
SUMMARY:Morning Zazen
DESCRIPTION:Please be seated by 7am
URL:https://saltspringzencircle.org/event/morning-zazen-150/2027-05-21/
CATEGORIES:Morning Zazen
END:VEVENT
BEGIN:VEVENT
DTSTART;TZID=America/Vancouver:20270524T070000
DTEND;TZID=America/Vancouver:20270524T074500
DTSTAMP:20260425T032829
CREATED:20250103T155503Z
LAST-MODIFIED:20250103T155503Z
UID:10001472-1811142000-1811144700@saltspringzencircle.org
SUMMARY:Morning Zazen
DESCRIPTION:
URL:https://saltspringzencircle.org/event/morning-zazen-149/2027-05-24/
CATEGORIES:Morning Zazen
END:VEVENT
BEGIN:VEVENT
DTSTART;TZID=America/Vancouver:20270528T070000
DTEND;TZID=America/Vancouver:20270528T074500
DTSTAMP:20260425T032829
CREATED:20250103T155802Z
LAST-MODIFIED:20250103T183152Z
UID:10001736-1811487600-1811490300@saltspringzencircle.org
SUMMARY:Morning Zazen
DESCRIPTION:Please be seated by 7am
URL:https://saltspringzencircle.org/event/morning-zazen-150/2027-05-28/
CATEGORIES:Morning Zazen
END:VEVENT
BEGIN:VEVENT
DTSTART;TZID=America/Vancouver:20270531T070000
DTEND;TZID=America/Vancouver:20270531T074500
DTSTAMP:20260425T032829
CREATED:20250103T155503Z
LAST-MODIFIED:20250103T155503Z
UID:10001473-1811746800-1811749500@saltspringzencircle.org
SUMMARY:Morning Zazen
DESCRIPTION:
URL:https://saltspringzencircle.org/event/morning-zazen-149/2027-05-31/
CATEGORIES:Morning Zazen
END:VEVENT
END:VCALENDAR