BEGIN:VCALENDAR
VERSION:2.0
PRODID:-// - ECPv6.15.20//NONSGML v1.0//EN
CALSCALE:GREGORIAN
METHOD:PUBLISH
X-ORIGINAL-URL:https://saltspringzencircle.org
X-WR-CALDESC:Events for 
REFRESH-INTERVAL;VALUE=DURATION:PT1H
X-Robots-Tag:noindex
X-PUBLISHED-TTL:PT1H
BEGIN:VTIMEZONE
TZID:America/Vancouver
BEGIN:DAYLIGHT
TZOFFSETFROM:-0800
TZOFFSETTO:-0700
TZNAME:PDT
DTSTART:20250309T100000
END:DAYLIGHT
BEGIN:STANDARD
TZOFFSETFROM:-0700
TZOFFSETTO:-0800
TZNAME:PST
DTSTART:20251102T090000
END:STANDARD
BEGIN:DAYLIGHT
TZOFFSETFROM:-0800
TZOFFSETTO:-0700
TZNAME:PDT
DTSTART:20260308T100000
END:DAYLIGHT
BEGIN:STANDARD
TZOFFSETFROM:-0700
TZOFFSETTO:-0800
TZNAME:PST
DTSTART:20261101T090000
END:STANDARD
BEGIN:DAYLIGHT
TZOFFSETFROM:-0800
TZOFFSETTO:-0700
TZNAME:PDT
DTSTART:20270314T100000
END:DAYLIGHT
BEGIN:STANDARD
TZOFFSETFROM:-0700
TZOFFSETTO:-0800
TZNAME:PST
DTSTART:20271107T090000
END:STANDARD
END:VTIMEZONE
BEGIN:VEVENT
DTSTART;TZID=America/Vancouver:20260420T070000
DTEND;TZID=America/Vancouver:20260420T074500
DTSTAMP:20260423T130808
CREATED:20250103T155503Z
LAST-MODIFIED:20250103T155503Z
UID:10001415-1776668400-1776671100@saltspringzencircle.org
SUMMARY:Morning Zazen
DESCRIPTION:
URL:https://saltspringzencircle.org/event/morning-zazen-149/2026-04-20/
CATEGORIES:Morning Zazen
END:VEVENT
BEGIN:VEVENT
DTSTART;TZID=America/Vancouver:20260417T070000
DTEND;TZID=America/Vancouver:20260417T074500
DTSTAMP:20260423T130808
CREATED:20250103T155802Z
LAST-MODIFIED:20250103T183152Z
UID:10001678-1776409200-1776411900@saltspringzencircle.org
SUMMARY:Morning Zazen
DESCRIPTION:Please be seated by 7am
URL:https://saltspringzencircle.org/event/morning-zazen-150/2026-04-17/
CATEGORIES:Morning Zazen
END:VEVENT
BEGIN:VEVENT
DTSTART;TZID=America/Vancouver:20260413T070000
DTEND;TZID=America/Vancouver:20260413T074500
DTSTAMP:20260423T130808
CREATED:20250103T155503Z
LAST-MODIFIED:20250103T155503Z
UID:10001414-1776063600-1776066300@saltspringzencircle.org
SUMMARY:Morning Zazen
DESCRIPTION:
URL:https://saltspringzencircle.org/event/morning-zazen-149/2026-04-13/
CATEGORIES:Morning Zazen
END:VEVENT
BEGIN:VEVENT
DTSTART;TZID=America/Vancouver:20260410T070000
DTEND;TZID=America/Vancouver:20260410T074500
DTSTAMP:20260423T130808
CREATED:20250103T155802Z
LAST-MODIFIED:20250103T183152Z
UID:10001677-1775804400-1775807100@saltspringzencircle.org
SUMMARY:Morning Zazen
DESCRIPTION:Please be seated by 7am
URL:https://saltspringzencircle.org/event/morning-zazen-150/2026-04-10/
CATEGORIES:Morning Zazen
END:VEVENT
BEGIN:VEVENT
DTSTART;TZID=America/Vancouver:20260406T070000
DTEND;TZID=America/Vancouver:20260406T074500
DTSTAMP:20260423T130808
CREATED:20250103T155503Z
LAST-MODIFIED:20250103T155503Z
UID:10001413-1775458800-1775461500@saltspringzencircle.org
SUMMARY:Morning Zazen
DESCRIPTION:
URL:https://saltspringzencircle.org/event/morning-zazen-149/2026-04-06/
CATEGORIES:Morning Zazen
END:VEVENT
BEGIN:VEVENT
DTSTART;TZID=America/Vancouver:20260403T070000
DTEND;TZID=America/Vancouver:20260403T074500
DTSTAMP:20260423T130808
CREATED:20250103T155802Z
LAST-MODIFIED:20250103T183152Z
UID:10001676-1775199600-1775202300@saltspringzencircle.org
SUMMARY:Morning Zazen
DESCRIPTION:Please be seated by 7am
URL:https://saltspringzencircle.org/event/morning-zazen-150/2026-04-03/
CATEGORIES:Morning Zazen
END:VEVENT
BEGIN:VEVENT
DTSTART;TZID=America/Vancouver:20260330T070000
DTEND;TZID=America/Vancouver:20260330T074500
DTSTAMP:20260423T130808
CREATED:20250103T155503Z
LAST-MODIFIED:20250103T155503Z
UID:10001412-1774854000-1774856700@saltspringzencircle.org
SUMMARY:Morning Zazen
DESCRIPTION:
URL:https://saltspringzencircle.org/event/morning-zazen-149/2026-03-30/
CATEGORIES:Morning Zazen
END:VEVENT
BEGIN:VEVENT
DTSTART;TZID=America/Vancouver:20260327T070000
DTEND;TZID=America/Vancouver:20260327T074500
DTSTAMP:20260423T130808
CREATED:20250103T155802Z
LAST-MODIFIED:20250103T183152Z
UID:10001675-1774594800-1774597500@saltspringzencircle.org
SUMMARY:Morning Zazen
DESCRIPTION:Please be seated by 7am
URL:https://saltspringzencircle.org/event/morning-zazen-150/2026-03-27/
CATEGORIES:Morning Zazen
END:VEVENT
BEGIN:VEVENT
DTSTART;TZID=America/Vancouver:20260323T070000
DTEND;TZID=America/Vancouver:20260323T074500
DTSTAMP:20260423T130808
CREATED:20250103T155503Z
LAST-MODIFIED:20250103T155503Z
UID:10001411-1774249200-1774251900@saltspringzencircle.org
SUMMARY:Morning Zazen
DESCRIPTION:
URL:https://saltspringzencircle.org/event/morning-zazen-149/2026-03-23/
CATEGORIES:Morning Zazen
END:VEVENT
BEGIN:VEVENT
DTSTART;TZID=America/Vancouver:20260320T070000
DTEND;TZID=America/Vancouver:20260320T074500
DTSTAMP:20260423T130808
CREATED:20250103T155802Z
LAST-MODIFIED:20250103T183152Z
UID:10001674-1773990000-1773992700@saltspringzencircle.org
SUMMARY:Morning Zazen
DESCRIPTION:Please be seated by 7am
URL:https://saltspringzencircle.org/event/morning-zazen-150/2026-03-20/
CATEGORIES:Morning Zazen
END:VEVENT
BEGIN:VEVENT
DTSTART;TZID=America/Vancouver:20260316T070000
DTEND;TZID=America/Vancouver:20260316T074500
DTSTAMP:20260423T130808
CREATED:20250103T155503Z
LAST-MODIFIED:20250103T155503Z
UID:10001410-1773644400-1773647100@saltspringzencircle.org
SUMMARY:Morning Zazen
DESCRIPTION:
URL:https://saltspringzencircle.org/event/morning-zazen-149/2026-03-16/
CATEGORIES:Morning Zazen
END:VEVENT
BEGIN:VEVENT
DTSTART;TZID=America/Vancouver:20260313T070000
DTEND;TZID=America/Vancouver:20260313T074500
DTSTAMP:20260423T130808
CREATED:20250103T155802Z
LAST-MODIFIED:20250103T183152Z
UID:10001673-1773385200-1773387900@saltspringzencircle.org
SUMMARY:Morning Zazen
DESCRIPTION:Please be seated by 7am
URL:https://saltspringzencircle.org/event/morning-zazen-150/2026-03-13/
CATEGORIES:Morning Zazen
END:VEVENT
BEGIN:VEVENT
DTSTART;TZID=America/Vancouver:20260309T070000
DTEND;TZID=America/Vancouver:20260309T074500
DTSTAMP:20260423T130808
CREATED:20250103T155503Z
LAST-MODIFIED:20250103T155503Z
UID:10001409-1773039600-1773042300@saltspringzencircle.org
SUMMARY:Morning Zazen
DESCRIPTION:
URL:https://saltspringzencircle.org/event/morning-zazen-149/2026-03-09/
CATEGORIES:Morning Zazen
END:VEVENT
BEGIN:VEVENT
DTSTART;TZID=America/Vancouver:20260306T070000
DTEND;TZID=America/Vancouver:20260306T074500
DTSTAMP:20260423T130808
CREATED:20250103T155802Z
LAST-MODIFIED:20250103T183152Z
UID:10001672-1772780400-1772783100@saltspringzencircle.org
SUMMARY:Morning Zazen
DESCRIPTION:Please be seated by 7am
URL:https://saltspringzencircle.org/event/morning-zazen-150/2026-03-06/
CATEGORIES:Morning Zazen
END:VEVENT
BEGIN:VEVENT
DTSTART;TZID=America/Vancouver:20260302T070000
DTEND;TZID=America/Vancouver:20260302T074500
DTSTAMP:20260423T130808
CREATED:20250103T155503Z
LAST-MODIFIED:20250103T155503Z
UID:10001408-1772434800-1772437500@saltspringzencircle.org
SUMMARY:Morning Zazen
DESCRIPTION:
URL:https://saltspringzencircle.org/event/morning-zazen-149/2026-03-02/
CATEGORIES:Morning Zazen
END:VEVENT
BEGIN:VEVENT
DTSTART;TZID=America/Vancouver:20260227T070000
DTEND;TZID=America/Vancouver:20260227T074500
DTSTAMP:20260423T130808
CREATED:20250103T155802Z
LAST-MODIFIED:20250103T183152Z
UID:10001671-1772175600-1772178300@saltspringzencircle.org
SUMMARY:Morning Zazen
DESCRIPTION:Please be seated by 7am
URL:https://saltspringzencircle.org/event/morning-zazen-150/2026-02-27/
CATEGORIES:Morning Zazen
END:VEVENT
BEGIN:VEVENT
DTSTART;TZID=America/Vancouver:20260223T070000
DTEND;TZID=America/Vancouver:20260223T074500
DTSTAMP:20260423T130808
CREATED:20250103T155503Z
LAST-MODIFIED:20250103T155503Z
UID:10001407-1771830000-1771832700@saltspringzencircle.org
SUMMARY:Morning Zazen
DESCRIPTION:
URL:https://saltspringzencircle.org/event/morning-zazen-149/2026-02-23/
CATEGORIES:Morning Zazen
END:VEVENT
BEGIN:VEVENT
DTSTART;TZID=America/Vancouver:20260220T070000
DTEND;TZID=America/Vancouver:20260220T074500
DTSTAMP:20260423T130808
CREATED:20250103T155802Z
LAST-MODIFIED:20250103T183152Z
UID:10001670-1771570800-1771573500@saltspringzencircle.org
SUMMARY:Morning Zazen
DESCRIPTION:Please be seated by 7am
URL:https://saltspringzencircle.org/event/morning-zazen-150/2026-02-20/
CATEGORIES:Morning Zazen
END:VEVENT
BEGIN:VEVENT
DTSTART;TZID=America/Vancouver:20260216T070000
DTEND;TZID=America/Vancouver:20260216T074500
DTSTAMP:20260423T130808
CREATED:20250103T155503Z
LAST-MODIFIED:20250103T155503Z
UID:10001406-1771225200-1771227900@saltspringzencircle.org
SUMMARY:Morning Zazen
DESCRIPTION:
URL:https://saltspringzencircle.org/event/morning-zazen-149/2026-02-16/
CATEGORIES:Morning Zazen
END:VEVENT
BEGIN:VEVENT
DTSTART;TZID=America/Vancouver:20260213T070000
DTEND;TZID=America/Vancouver:20260213T074500
DTSTAMP:20260423T130808
CREATED:20250103T155802Z
LAST-MODIFIED:20250103T183152Z
UID:10001669-1770966000-1770968700@saltspringzencircle.org
SUMMARY:Morning Zazen
DESCRIPTION:Please be seated by 7am
URL:https://saltspringzencircle.org/event/morning-zazen-150/2026-02-13/
CATEGORIES:Morning Zazen
END:VEVENT
BEGIN:VEVENT
DTSTART;TZID=America/Vancouver:20260209T070000
DTEND;TZID=America/Vancouver:20260209T074500
DTSTAMP:20260423T130808
CREATED:20250103T155503Z
LAST-MODIFIED:20250103T155503Z
UID:10001405-1770620400-1770623100@saltspringzencircle.org
SUMMARY:Morning Zazen
DESCRIPTION:
URL:https://saltspringzencircle.org/event/morning-zazen-149/2026-02-09/
CATEGORIES:Morning Zazen
END:VEVENT
BEGIN:VEVENT
DTSTART;TZID=America/Vancouver:20260206T070000
DTEND;TZID=America/Vancouver:20260206T074500
DTSTAMP:20260423T130808
CREATED:20250103T155802Z
LAST-MODIFIED:20250103T183152Z
UID:10001668-1770361200-1770363900@saltspringzencircle.org
SUMMARY:Morning Zazen
DESCRIPTION:Please be seated by 7am
URL:https://saltspringzencircle.org/event/morning-zazen-150/2026-02-06/
CATEGORIES:Morning Zazen
END:VEVENT
BEGIN:VEVENT
DTSTART;TZID=America/Vancouver:20260202T070000
DTEND;TZID=America/Vancouver:20260202T074500
DTSTAMP:20260423T130808
CREATED:20250103T155503Z
LAST-MODIFIED:20250103T155503Z
UID:10001404-1770015600-1770018300@saltspringzencircle.org
SUMMARY:Morning Zazen
DESCRIPTION:
URL:https://saltspringzencircle.org/event/morning-zazen-149/2026-02-02/
CATEGORIES:Morning Zazen
END:VEVENT
BEGIN:VEVENT
DTSTART;TZID=America/Vancouver:20260130T070000
DTEND;TZID=America/Vancouver:20260130T074500
DTSTAMP:20260423T130808
CREATED:20250103T155802Z
LAST-MODIFIED:20250103T183152Z
UID:10001667-1769756400-1769759100@saltspringzencircle.org
SUMMARY:Morning Zazen
DESCRIPTION:Please be seated by 7am
URL:https://saltspringzencircle.org/event/morning-zazen-150/2026-01-30/
CATEGORIES:Morning Zazen
END:VEVENT
BEGIN:VEVENT
DTSTART;TZID=America/Vancouver:20260126T070000
DTEND;TZID=America/Vancouver:20260126T074500
DTSTAMP:20260423T130809
CREATED:20250103T155503Z
LAST-MODIFIED:20250103T155503Z
UID:10001403-1769410800-1769413500@saltspringzencircle.org
SUMMARY:Morning Zazen
DESCRIPTION:
URL:https://saltspringzencircle.org/event/morning-zazen-149/2026-01-26/
CATEGORIES:Morning Zazen
END:VEVENT
BEGIN:VEVENT
DTSTART;TZID=America/Vancouver:20260123T070000
DTEND;TZID=America/Vancouver:20260123T074500
DTSTAMP:20260423T130809
CREATED:20250103T155802Z
LAST-MODIFIED:20250103T183152Z
UID:10001666-1769151600-1769154300@saltspringzencircle.org
SUMMARY:Morning Zazen
DESCRIPTION:Please be seated by 7am
URL:https://saltspringzencircle.org/event/morning-zazen-150/2026-01-23/
CATEGORIES:Morning Zazen
END:VEVENT
BEGIN:VEVENT
DTSTART;TZID=America/Vancouver:20260119T070000
DTEND;TZID=America/Vancouver:20260119T074500
DTSTAMP:20260423T130809
CREATED:20250103T155503Z
LAST-MODIFIED:20250103T155503Z
UID:10001402-1768806000-1768808700@saltspringzencircle.org
SUMMARY:Morning Zazen
DESCRIPTION:
URL:https://saltspringzencircle.org/event/morning-zazen-149/2026-01-19/
CATEGORIES:Morning Zazen
END:VEVENT
BEGIN:VEVENT
DTSTART;TZID=America/Vancouver:20260116T070000
DTEND;TZID=America/Vancouver:20260116T074500
DTSTAMP:20260423T130809
CREATED:20250103T155802Z
LAST-MODIFIED:20250103T183152Z
UID:10001665-1768546800-1768549500@saltspringzencircle.org
SUMMARY:Morning Zazen
DESCRIPTION:Please be seated by 7am
URL:https://saltspringzencircle.org/event/morning-zazen-150/2026-01-16/
CATEGORIES:Morning Zazen
END:VEVENT
BEGIN:VEVENT
DTSTART;TZID=America/Vancouver:20260112T070000
DTEND;TZID=America/Vancouver:20260112T074500
DTSTAMP:20260423T130809
CREATED:20250103T155503Z
LAST-MODIFIED:20250103T155503Z
UID:10001401-1768201200-1768203900@saltspringzencircle.org
SUMMARY:Morning Zazen
DESCRIPTION:
URL:https://saltspringzencircle.org/event/morning-zazen-149/2026-01-12/
CATEGORIES:Morning Zazen
END:VEVENT
BEGIN:VEVENT
DTSTART;TZID=America/Vancouver:20260109T070000
DTEND;TZID=America/Vancouver:20260109T074500
DTSTAMP:20260423T130809
CREATED:20250103T155802Z
LAST-MODIFIED:20250103T183152Z
UID:10001664-1767942000-1767944700@saltspringzencircle.org
SUMMARY:Morning Zazen
DESCRIPTION:Please be seated by 7am
URL:https://saltspringzencircle.org/event/morning-zazen-150/2026-01-09/
CATEGORIES:Morning Zazen
END:VEVENT
END:VCALENDAR