BEGIN:VCALENDAR
VERSION:2.0
PRODID:-// - ECPv6.15.20//NONSGML v1.0//EN
CALSCALE:GREGORIAN
METHOD:PUBLISH
X-ORIGINAL-URL:https://saltspringzencircle.org
X-WR-CALDESC:Events for 
REFRESH-INTERVAL;VALUE=DURATION:PT1H
X-Robots-Tag:noindex
X-PUBLISHED-TTL:PT1H
BEGIN:VTIMEZONE
TZID:America/Vancouver
BEGIN:DAYLIGHT
TZOFFSETFROM:-0800
TZOFFSETTO:-0700
TZNAME:PDT
DTSTART:20280312T100000
END:DAYLIGHT
BEGIN:STANDARD
TZOFFSETFROM:-0700
TZOFFSETTO:-0800
TZNAME:PST
DTSTART:20281105T090000
END:STANDARD
BEGIN:DAYLIGHT
TZOFFSETFROM:-0800
TZOFFSETTO:-0700
TZNAME:PDT
DTSTART:20290311T100000
END:DAYLIGHT
BEGIN:STANDARD
TZOFFSETFROM:-0700
TZOFFSETTO:-0800
TZNAME:PST
DTSTART:20291104T090000
END:STANDARD
BEGIN:DAYLIGHT
TZOFFSETFROM:-0800
TZOFFSETTO:-0700
TZNAME:PDT
DTSTART:20300310T100000
END:DAYLIGHT
BEGIN:STANDARD
TZOFFSETFROM:-0700
TZOFFSETTO:-0800
TZNAME:PST
DTSTART:20301103T090000
END:STANDARD
END:VTIMEZONE
BEGIN:VEVENT
DTSTART;TZID=America/Vancouver:20290129T070000
DTEND;TZID=America/Vancouver:20290129T074500
DTSTAMP:20260425T113908
CREATED:20250103T155503Z
LAST-MODIFIED:20250103T155503Z
UID:10001560-1864364400-1864367100@saltspringzencircle.org
SUMMARY:Morning Zazen
DESCRIPTION:
URL:https://saltspringzencircle.org/event/morning-zazen-149/2029-01-29/
CATEGORIES:Morning Zazen
END:VEVENT
BEGIN:VEVENT
DTSTART;TZID=America/Vancouver:20290202T070000
DTEND;TZID=America/Vancouver:20290202T074500
DTSTAMP:20260425T113908
CREATED:20250103T155802Z
LAST-MODIFIED:20250103T183152Z
UID:10001824-1864710000-1864712700@saltspringzencircle.org
SUMMARY:Morning Zazen
DESCRIPTION:Please be seated by 7am
URL:https://saltspringzencircle.org/event/morning-zazen-150/2029-02-02/
CATEGORIES:Morning Zazen
END:VEVENT
BEGIN:VEVENT
DTSTART;TZID=America/Vancouver:20290205T070000
DTEND;TZID=America/Vancouver:20290205T074500
DTSTAMP:20260425T113908
CREATED:20250103T155503Z
LAST-MODIFIED:20250103T155503Z
UID:10001561-1864969200-1864971900@saltspringzencircle.org
SUMMARY:Morning Zazen
DESCRIPTION:
URL:https://saltspringzencircle.org/event/morning-zazen-149/2029-02-05/
CATEGORIES:Morning Zazen
END:VEVENT
BEGIN:VEVENT
DTSTART;TZID=America/Vancouver:20290209T070000
DTEND;TZID=America/Vancouver:20290209T074500
DTSTAMP:20260425T113908
CREATED:20250103T155802Z
LAST-MODIFIED:20250103T183152Z
UID:10001825-1865314800-1865317500@saltspringzencircle.org
SUMMARY:Morning Zazen
DESCRIPTION:Please be seated by 7am
URL:https://saltspringzencircle.org/event/morning-zazen-150/2029-02-09/
CATEGORIES:Morning Zazen
END:VEVENT
BEGIN:VEVENT
DTSTART;TZID=America/Vancouver:20290212T070000
DTEND;TZID=America/Vancouver:20290212T074500
DTSTAMP:20260425T113908
CREATED:20250103T155503Z
LAST-MODIFIED:20250103T155503Z
UID:10001562-1865574000-1865576700@saltspringzencircle.org
SUMMARY:Morning Zazen
DESCRIPTION:
URL:https://saltspringzencircle.org/event/morning-zazen-149/2029-02-12/
CATEGORIES:Morning Zazen
END:VEVENT
BEGIN:VEVENT
DTSTART;TZID=America/Vancouver:20290216T070000
DTEND;TZID=America/Vancouver:20290216T074500
DTSTAMP:20260425T113908
CREATED:20250103T155802Z
LAST-MODIFIED:20250103T183152Z
UID:10001826-1865919600-1865922300@saltspringzencircle.org
SUMMARY:Morning Zazen
DESCRIPTION:Please be seated by 7am
URL:https://saltspringzencircle.org/event/morning-zazen-150/2029-02-16/
CATEGORIES:Morning Zazen
END:VEVENT
BEGIN:VEVENT
DTSTART;TZID=America/Vancouver:20290219T070000
DTEND;TZID=America/Vancouver:20290219T074500
DTSTAMP:20260425T113908
CREATED:20250103T155503Z
LAST-MODIFIED:20250103T155503Z
UID:10001563-1866178800-1866181500@saltspringzencircle.org
SUMMARY:Morning Zazen
DESCRIPTION:
URL:https://saltspringzencircle.org/event/morning-zazen-149/2029-02-19/
CATEGORIES:Morning Zazen
END:VEVENT
BEGIN:VEVENT
DTSTART;TZID=America/Vancouver:20290223T070000
DTEND;TZID=America/Vancouver:20290223T074500
DTSTAMP:20260425T113908
CREATED:20250103T155802Z
LAST-MODIFIED:20250103T183152Z
UID:10001827-1866524400-1866527100@saltspringzencircle.org
SUMMARY:Morning Zazen
DESCRIPTION:Please be seated by 7am
URL:https://saltspringzencircle.org/event/morning-zazen-150/2029-02-23/
CATEGORIES:Morning Zazen
END:VEVENT
BEGIN:VEVENT
DTSTART;TZID=America/Vancouver:20290226T070000
DTEND;TZID=America/Vancouver:20290226T074500
DTSTAMP:20260425T113908
CREATED:20250103T155503Z
LAST-MODIFIED:20250103T155503Z
UID:10001564-1866783600-1866786300@saltspringzencircle.org
SUMMARY:Morning Zazen
DESCRIPTION:
URL:https://saltspringzencircle.org/event/morning-zazen-149/2029-02-26/
CATEGORIES:Morning Zazen
END:VEVENT
BEGIN:VEVENT
DTSTART;TZID=America/Vancouver:20290302T070000
DTEND;TZID=America/Vancouver:20290302T074500
DTSTAMP:20260425T113908
CREATED:20250103T155802Z
LAST-MODIFIED:20250103T183152Z
UID:10001828-1867129200-1867131900@saltspringzencircle.org
SUMMARY:Morning Zazen
DESCRIPTION:Please be seated by 7am
URL:https://saltspringzencircle.org/event/morning-zazen-150/2029-03-02/
CATEGORIES:Morning Zazen
END:VEVENT
BEGIN:VEVENT
DTSTART;TZID=America/Vancouver:20290305T070000
DTEND;TZID=America/Vancouver:20290305T074500
DTSTAMP:20260425T113908
CREATED:20250103T155503Z
LAST-MODIFIED:20250103T155503Z
UID:10001565-1867388400-1867391100@saltspringzencircle.org
SUMMARY:Morning Zazen
DESCRIPTION:
URL:https://saltspringzencircle.org/event/morning-zazen-149/2029-03-05/
CATEGORIES:Morning Zazen
END:VEVENT
BEGIN:VEVENT
DTSTART;TZID=America/Vancouver:20290309T070000
DTEND;TZID=America/Vancouver:20290309T074500
DTSTAMP:20260425T113908
CREATED:20250103T155802Z
LAST-MODIFIED:20250103T183152Z
UID:10001829-1867734000-1867736700@saltspringzencircle.org
SUMMARY:Morning Zazen
DESCRIPTION:Please be seated by 7am
URL:https://saltspringzencircle.org/event/morning-zazen-150/2029-03-09/
CATEGORIES:Morning Zazen
END:VEVENT
BEGIN:VEVENT
DTSTART;TZID=America/Vancouver:20290312T070000
DTEND;TZID=America/Vancouver:20290312T074500
DTSTAMP:20260425T113908
CREATED:20250103T155503Z
LAST-MODIFIED:20250103T155503Z
UID:10001566-1867993200-1867995900@saltspringzencircle.org
SUMMARY:Morning Zazen
DESCRIPTION:
URL:https://saltspringzencircle.org/event/morning-zazen-149/2029-03-12/
CATEGORIES:Morning Zazen
END:VEVENT
BEGIN:VEVENT
DTSTART;TZID=America/Vancouver:20290316T070000
DTEND;TZID=America/Vancouver:20290316T074500
DTSTAMP:20260425T113908
CREATED:20250103T155802Z
LAST-MODIFIED:20250103T183152Z
UID:10001830-1868338800-1868341500@saltspringzencircle.org
SUMMARY:Morning Zazen
DESCRIPTION:Please be seated by 7am
URL:https://saltspringzencircle.org/event/morning-zazen-150/2029-03-16/
CATEGORIES:Morning Zazen
END:VEVENT
BEGIN:VEVENT
DTSTART;TZID=America/Vancouver:20290319T070000
DTEND;TZID=America/Vancouver:20290319T074500
DTSTAMP:20260425T113908
CREATED:20250103T155503Z
LAST-MODIFIED:20250103T155503Z
UID:10001567-1868598000-1868600700@saltspringzencircle.org
SUMMARY:Morning Zazen
DESCRIPTION:
URL:https://saltspringzencircle.org/event/morning-zazen-149/2029-03-19/
CATEGORIES:Morning Zazen
END:VEVENT
BEGIN:VEVENT
DTSTART;TZID=America/Vancouver:20290323T070000
DTEND;TZID=America/Vancouver:20290323T074500
DTSTAMP:20260425T113908
CREATED:20250103T155802Z
LAST-MODIFIED:20250103T183152Z
UID:10001831-1868943600-1868946300@saltspringzencircle.org
SUMMARY:Morning Zazen
DESCRIPTION:Please be seated by 7am
URL:https://saltspringzencircle.org/event/morning-zazen-150/2029-03-23/
CATEGORIES:Morning Zazen
END:VEVENT
BEGIN:VEVENT
DTSTART;TZID=America/Vancouver:20290326T070000
DTEND;TZID=America/Vancouver:20290326T074500
DTSTAMP:20260425T113908
CREATED:20250103T155503Z
LAST-MODIFIED:20250103T155503Z
UID:10001568-1869202800-1869205500@saltspringzencircle.org
SUMMARY:Morning Zazen
DESCRIPTION:
URL:https://saltspringzencircle.org/event/morning-zazen-149/2029-03-26/
CATEGORIES:Morning Zazen
END:VEVENT
BEGIN:VEVENT
DTSTART;TZID=America/Vancouver:20290330T070000
DTEND;TZID=America/Vancouver:20290330T074500
DTSTAMP:20260425T113908
CREATED:20250103T155802Z
LAST-MODIFIED:20250103T183152Z
UID:10001832-1869548400-1869551100@saltspringzencircle.org
SUMMARY:Morning Zazen
DESCRIPTION:Please be seated by 7am
URL:https://saltspringzencircle.org/event/morning-zazen-150/2029-03-30/
CATEGORIES:Morning Zazen
END:VEVENT
BEGIN:VEVENT
DTSTART;TZID=America/Vancouver:20290402T070000
DTEND;TZID=America/Vancouver:20290402T074500
DTSTAMP:20260425T113908
CREATED:20250103T155503Z
LAST-MODIFIED:20250103T155503Z
UID:10001569-1869807600-1869810300@saltspringzencircle.org
SUMMARY:Morning Zazen
DESCRIPTION:
URL:https://saltspringzencircle.org/event/morning-zazen-149/2029-04-02/
CATEGORIES:Morning Zazen
END:VEVENT
BEGIN:VEVENT
DTSTART;TZID=America/Vancouver:20290406T070000
DTEND;TZID=America/Vancouver:20290406T074500
DTSTAMP:20260425T113908
CREATED:20250103T155802Z
LAST-MODIFIED:20250103T183152Z
UID:10001833-1870153200-1870155900@saltspringzencircle.org
SUMMARY:Morning Zazen
DESCRIPTION:Please be seated by 7am
URL:https://saltspringzencircle.org/event/morning-zazen-150/2029-04-06/
CATEGORIES:Morning Zazen
END:VEVENT
BEGIN:VEVENT
DTSTART;TZID=America/Vancouver:20290409T070000
DTEND;TZID=America/Vancouver:20290409T074500
DTSTAMP:20260425T113908
CREATED:20250103T155503Z
LAST-MODIFIED:20250103T155503Z
UID:10001570-1870412400-1870415100@saltspringzencircle.org
SUMMARY:Morning Zazen
DESCRIPTION:
URL:https://saltspringzencircle.org/event/morning-zazen-149/2029-04-09/
CATEGORIES:Morning Zazen
END:VEVENT
BEGIN:VEVENT
DTSTART;TZID=America/Vancouver:20290413T070000
DTEND;TZID=America/Vancouver:20290413T074500
DTSTAMP:20260425T113908
CREATED:20250103T155802Z
LAST-MODIFIED:20250103T183152Z
UID:10001834-1870758000-1870760700@saltspringzencircle.org
SUMMARY:Morning Zazen
DESCRIPTION:Please be seated by 7am
URL:https://saltspringzencircle.org/event/morning-zazen-150/2029-04-13/
CATEGORIES:Morning Zazen
END:VEVENT
BEGIN:VEVENT
DTSTART;TZID=America/Vancouver:20290416T070000
DTEND;TZID=America/Vancouver:20290416T074500
DTSTAMP:20260425T113908
CREATED:20250103T155503Z
LAST-MODIFIED:20250103T155503Z
UID:10001571-1871017200-1871019900@saltspringzencircle.org
SUMMARY:Morning Zazen
DESCRIPTION:
URL:https://saltspringzencircle.org/event/morning-zazen-149/2029-04-16/
CATEGORIES:Morning Zazen
END:VEVENT
BEGIN:VEVENT
DTSTART;TZID=America/Vancouver:20290420T070000
DTEND;TZID=America/Vancouver:20290420T074500
DTSTAMP:20260425T113908
CREATED:20250103T155802Z
LAST-MODIFIED:20250103T183152Z
UID:10001835-1871362800-1871365500@saltspringzencircle.org
SUMMARY:Morning Zazen
DESCRIPTION:Please be seated by 7am
URL:https://saltspringzencircle.org/event/morning-zazen-150/2029-04-20/
CATEGORIES:Morning Zazen
END:VEVENT
BEGIN:VEVENT
DTSTART;TZID=America/Vancouver:20290423T070000
DTEND;TZID=America/Vancouver:20290423T074500
DTSTAMP:20260425T113908
CREATED:20250103T155503Z
LAST-MODIFIED:20250103T155503Z
UID:10001572-1871622000-1871624700@saltspringzencircle.org
SUMMARY:Morning Zazen
DESCRIPTION:
URL:https://saltspringzencircle.org/event/morning-zazen-149/2029-04-23/
CATEGORIES:Morning Zazen
END:VEVENT
BEGIN:VEVENT
DTSTART;TZID=America/Vancouver:20290427T070000
DTEND;TZID=America/Vancouver:20290427T074500
DTSTAMP:20260425T113908
CREATED:20250103T155802Z
LAST-MODIFIED:20250103T183152Z
UID:10001836-1871967600-1871970300@saltspringzencircle.org
SUMMARY:Morning Zazen
DESCRIPTION:Please be seated by 7am
URL:https://saltspringzencircle.org/event/morning-zazen-150/2029-04-27/
CATEGORIES:Morning Zazen
END:VEVENT
BEGIN:VEVENT
DTSTART;TZID=America/Vancouver:20290430T070000
DTEND;TZID=America/Vancouver:20290430T074500
DTSTAMP:20260425T113908
CREATED:20250103T155503Z
LAST-MODIFIED:20250103T155503Z
UID:10001573-1872226800-1872229500@saltspringzencircle.org
SUMMARY:Morning Zazen
DESCRIPTION:
URL:https://saltspringzencircle.org/event/morning-zazen-149/2029-04-30/
CATEGORIES:Morning Zazen
END:VEVENT
BEGIN:VEVENT
DTSTART;TZID=America/Vancouver:20290504T070000
DTEND;TZID=America/Vancouver:20290504T074500
DTSTAMP:20260425T113908
CREATED:20250103T155802Z
LAST-MODIFIED:20250103T183152Z
UID:10001837-1872572400-1872575100@saltspringzencircle.org
SUMMARY:Morning Zazen
DESCRIPTION:Please be seated by 7am
URL:https://saltspringzencircle.org/event/morning-zazen-150/2029-05-04/
CATEGORIES:Morning Zazen
END:VEVENT
BEGIN:VEVENT
DTSTART;TZID=America/Vancouver:20290507T070000
DTEND;TZID=America/Vancouver:20290507T074500
DTSTAMP:20260425T113908
CREATED:20250103T155503Z
LAST-MODIFIED:20250103T155503Z
UID:10001574-1872831600-1872834300@saltspringzencircle.org
SUMMARY:Morning Zazen
DESCRIPTION:
URL:https://saltspringzencircle.org/event/morning-zazen-149/2029-05-07/
CATEGORIES:Morning Zazen
END:VEVENT
BEGIN:VEVENT
DTSTART;TZID=America/Vancouver:20290511T070000
DTEND;TZID=America/Vancouver:20290511T074500
DTSTAMP:20260425T113908
CREATED:20250103T155802Z
LAST-MODIFIED:20250103T183152Z
UID:10001838-1873177200-1873179900@saltspringzencircle.org
SUMMARY:Morning Zazen
DESCRIPTION:Please be seated by 7am
URL:https://saltspringzencircle.org/event/morning-zazen-150/2029-05-11/
CATEGORIES:Morning Zazen
END:VEVENT
END:VCALENDAR