BEGIN:VCALENDAR
VERSION:2.0
PRODID:-// - ECPv6.15.20//NONSGML v1.0//EN
CALSCALE:GREGORIAN
METHOD:PUBLISH
X-ORIGINAL-URL:https://saltspringzencircle.org
X-WR-CALDESC:Events for 
REFRESH-INTERVAL;VALUE=DURATION:PT1H
X-Robots-Tag:noindex
X-PUBLISHED-TTL:PT1H
BEGIN:VTIMEZONE
TZID:America/Vancouver
BEGIN:DAYLIGHT
TZOFFSETFROM:-0800
TZOFFSETTO:-0700
TZNAME:PDT
DTSTART:20280312T100000
END:DAYLIGHT
BEGIN:STANDARD
TZOFFSETFROM:-0700
TZOFFSETTO:-0800
TZNAME:PST
DTSTART:20281105T090000
END:STANDARD
BEGIN:DAYLIGHT
TZOFFSETFROM:-0800
TZOFFSETTO:-0700
TZNAME:PDT
DTSTART:20290311T100000
END:DAYLIGHT
BEGIN:STANDARD
TZOFFSETFROM:-0700
TZOFFSETTO:-0800
TZNAME:PST
DTSTART:20291104T090000
END:STANDARD
BEGIN:DAYLIGHT
TZOFFSETFROM:-0800
TZOFFSETTO:-0700
TZNAME:PDT
DTSTART:20300310T100000
END:DAYLIGHT
BEGIN:STANDARD
TZOFFSETFROM:-0700
TZOFFSETTO:-0800
TZNAME:PST
DTSTART:20301103T090000
END:STANDARD
END:VTIMEZONE
BEGIN:VEVENT
DTSTART;TZID=America/Vancouver:20290423T070000
DTEND;TZID=America/Vancouver:20290423T074500
DTSTAMP:20260425T194804
CREATED:20250103T155503Z
LAST-MODIFIED:20250103T155503Z
UID:10001572-1871622000-1871624700@saltspringzencircle.org
SUMMARY:Morning Zazen
DESCRIPTION:
URL:https://saltspringzencircle.org/event/morning-zazen-149/2029-04-23/
CATEGORIES:Morning Zazen
END:VEVENT
BEGIN:VEVENT
DTSTART;TZID=America/Vancouver:20290427T070000
DTEND;TZID=America/Vancouver:20290427T074500
DTSTAMP:20260425T194804
CREATED:20250103T155802Z
LAST-MODIFIED:20250103T183152Z
UID:10001836-1871967600-1871970300@saltspringzencircle.org
SUMMARY:Morning Zazen
DESCRIPTION:Please be seated by 7am
URL:https://saltspringzencircle.org/event/morning-zazen-150/2029-04-27/
CATEGORIES:Morning Zazen
END:VEVENT
BEGIN:VEVENT
DTSTART;TZID=America/Vancouver:20290430T070000
DTEND;TZID=America/Vancouver:20290430T074500
DTSTAMP:20260425T194804
CREATED:20250103T155503Z
LAST-MODIFIED:20250103T155503Z
UID:10001573-1872226800-1872229500@saltspringzencircle.org
SUMMARY:Morning Zazen
DESCRIPTION:
URL:https://saltspringzencircle.org/event/morning-zazen-149/2029-04-30/
CATEGORIES:Morning Zazen
END:VEVENT
BEGIN:VEVENT
DTSTART;TZID=America/Vancouver:20290504T070000
DTEND;TZID=America/Vancouver:20290504T074500
DTSTAMP:20260425T194804
CREATED:20250103T155802Z
LAST-MODIFIED:20250103T183152Z
UID:10001837-1872572400-1872575100@saltspringzencircle.org
SUMMARY:Morning Zazen
DESCRIPTION:Please be seated by 7am
URL:https://saltspringzencircle.org/event/morning-zazen-150/2029-05-04/
CATEGORIES:Morning Zazen
END:VEVENT
BEGIN:VEVENT
DTSTART;TZID=America/Vancouver:20290507T070000
DTEND;TZID=America/Vancouver:20290507T074500
DTSTAMP:20260425T194804
CREATED:20250103T155503Z
LAST-MODIFIED:20250103T155503Z
UID:10001574-1872831600-1872834300@saltspringzencircle.org
SUMMARY:Morning Zazen
DESCRIPTION:
URL:https://saltspringzencircle.org/event/morning-zazen-149/2029-05-07/
CATEGORIES:Morning Zazen
END:VEVENT
BEGIN:VEVENT
DTSTART;TZID=America/Vancouver:20290511T070000
DTEND;TZID=America/Vancouver:20290511T074500
DTSTAMP:20260425T194804
CREATED:20250103T155802Z
LAST-MODIFIED:20250103T183152Z
UID:10001838-1873177200-1873179900@saltspringzencircle.org
SUMMARY:Morning Zazen
DESCRIPTION:Please be seated by 7am
URL:https://saltspringzencircle.org/event/morning-zazen-150/2029-05-11/
CATEGORIES:Morning Zazen
END:VEVENT
BEGIN:VEVENT
DTSTART;TZID=America/Vancouver:20290514T070000
DTEND;TZID=America/Vancouver:20290514T074500
DTSTAMP:20260425T194804
CREATED:20250103T155503Z
LAST-MODIFIED:20250103T155503Z
UID:10001575-1873436400-1873439100@saltspringzencircle.org
SUMMARY:Morning Zazen
DESCRIPTION:
URL:https://saltspringzencircle.org/event/morning-zazen-149/2029-05-14/
CATEGORIES:Morning Zazen
END:VEVENT
BEGIN:VEVENT
DTSTART;TZID=America/Vancouver:20290518T070000
DTEND;TZID=America/Vancouver:20290518T074500
DTSTAMP:20260425T194804
CREATED:20250103T155802Z
LAST-MODIFIED:20250103T183152Z
UID:10001839-1873782000-1873784700@saltspringzencircle.org
SUMMARY:Morning Zazen
DESCRIPTION:Please be seated by 7am
URL:https://saltspringzencircle.org/event/morning-zazen-150/2029-05-18/
CATEGORIES:Morning Zazen
END:VEVENT
BEGIN:VEVENT
DTSTART;TZID=America/Vancouver:20290521T070000
DTEND;TZID=America/Vancouver:20290521T074500
DTSTAMP:20260425T194804
CREATED:20250103T155503Z
LAST-MODIFIED:20250103T155503Z
UID:10001576-1874041200-1874043900@saltspringzencircle.org
SUMMARY:Morning Zazen
DESCRIPTION:
URL:https://saltspringzencircle.org/event/morning-zazen-149/2029-05-21/
CATEGORIES:Morning Zazen
END:VEVENT
BEGIN:VEVENT
DTSTART;TZID=America/Vancouver:20290525T070000
DTEND;TZID=America/Vancouver:20290525T074500
DTSTAMP:20260425T194804
CREATED:20250103T155802Z
LAST-MODIFIED:20250103T183152Z
UID:10001840-1874386800-1874389500@saltspringzencircle.org
SUMMARY:Morning Zazen
DESCRIPTION:Please be seated by 7am
URL:https://saltspringzencircle.org/event/morning-zazen-150/2029-05-25/
CATEGORIES:Morning Zazen
END:VEVENT
BEGIN:VEVENT
DTSTART;TZID=America/Vancouver:20290528T070000
DTEND;TZID=America/Vancouver:20290528T074500
DTSTAMP:20260425T194804
CREATED:20250103T155503Z
LAST-MODIFIED:20250103T155503Z
UID:10001577-1874646000-1874648700@saltspringzencircle.org
SUMMARY:Morning Zazen
DESCRIPTION:
URL:https://saltspringzencircle.org/event/morning-zazen-149/2029-05-28/
CATEGORIES:Morning Zazen
END:VEVENT
BEGIN:VEVENT
DTSTART;TZID=America/Vancouver:20290601T070000
DTEND;TZID=America/Vancouver:20290601T074500
DTSTAMP:20260425T194804
CREATED:20250103T155802Z
LAST-MODIFIED:20250103T183152Z
UID:10001841-1874991600-1874994300@saltspringzencircle.org
SUMMARY:Morning Zazen
DESCRIPTION:Please be seated by 7am
URL:https://saltspringzencircle.org/event/morning-zazen-150/2029-06-01/
CATEGORIES:Morning Zazen
END:VEVENT
BEGIN:VEVENT
DTSTART;TZID=America/Vancouver:20290604T070000
DTEND;TZID=America/Vancouver:20290604T074500
DTSTAMP:20260425T194804
CREATED:20250103T155503Z
LAST-MODIFIED:20250103T155503Z
UID:10001578-1875250800-1875253500@saltspringzencircle.org
SUMMARY:Morning Zazen
DESCRIPTION:
URL:https://saltspringzencircle.org/event/morning-zazen-149/2029-06-04/
CATEGORIES:Morning Zazen
END:VEVENT
BEGIN:VEVENT
DTSTART;TZID=America/Vancouver:20290608T070000
DTEND;TZID=America/Vancouver:20290608T074500
DTSTAMP:20260425T194804
CREATED:20250103T155802Z
LAST-MODIFIED:20250103T183152Z
UID:10001842-1875596400-1875599100@saltspringzencircle.org
SUMMARY:Morning Zazen
DESCRIPTION:Please be seated by 7am
URL:https://saltspringzencircle.org/event/morning-zazen-150/2029-06-08/
CATEGORIES:Morning Zazen
END:VEVENT
BEGIN:VEVENT
DTSTART;TZID=America/Vancouver:20290611T070000
DTEND;TZID=America/Vancouver:20290611T074500
DTSTAMP:20260425T194804
CREATED:20250103T155503Z
LAST-MODIFIED:20250103T155503Z
UID:10001579-1875855600-1875858300@saltspringzencircle.org
SUMMARY:Morning Zazen
DESCRIPTION:
URL:https://saltspringzencircle.org/event/morning-zazen-149/2029-06-11/
CATEGORIES:Morning Zazen
END:VEVENT
BEGIN:VEVENT
DTSTART;TZID=America/Vancouver:20290615T070000
DTEND;TZID=America/Vancouver:20290615T074500
DTSTAMP:20260425T194804
CREATED:20250103T155802Z
LAST-MODIFIED:20250103T183152Z
UID:10001843-1876201200-1876203900@saltspringzencircle.org
SUMMARY:Morning Zazen
DESCRIPTION:Please be seated by 7am
URL:https://saltspringzencircle.org/event/morning-zazen-150/2029-06-15/
CATEGORIES:Morning Zazen
END:VEVENT
BEGIN:VEVENT
DTSTART;TZID=America/Vancouver:20290618T070000
DTEND;TZID=America/Vancouver:20290618T074500
DTSTAMP:20260425T194804
CREATED:20250103T155503Z
LAST-MODIFIED:20250103T155503Z
UID:10001580-1876460400-1876463100@saltspringzencircle.org
SUMMARY:Morning Zazen
DESCRIPTION:
URL:https://saltspringzencircle.org/event/morning-zazen-149/2029-06-18/
CATEGORIES:Morning Zazen
END:VEVENT
BEGIN:VEVENT
DTSTART;TZID=America/Vancouver:20290622T070000
DTEND;TZID=America/Vancouver:20290622T074500
DTSTAMP:20260425T194804
CREATED:20250103T155802Z
LAST-MODIFIED:20250103T183152Z
UID:10001844-1876806000-1876808700@saltspringzencircle.org
SUMMARY:Morning Zazen
DESCRIPTION:Please be seated by 7am
URL:https://saltspringzencircle.org/event/morning-zazen-150/2029-06-22/
CATEGORIES:Morning Zazen
END:VEVENT
BEGIN:VEVENT
DTSTART;TZID=America/Vancouver:20290625T070000
DTEND;TZID=America/Vancouver:20290625T074500
DTSTAMP:20260425T194804
CREATED:20250103T155503Z
LAST-MODIFIED:20250103T155503Z
UID:10001581-1877065200-1877067900@saltspringzencircle.org
SUMMARY:Morning Zazen
DESCRIPTION:
URL:https://saltspringzencircle.org/event/morning-zazen-149/2029-06-25/
CATEGORIES:Morning Zazen
END:VEVENT
BEGIN:VEVENT
DTSTART;TZID=America/Vancouver:20290629T070000
DTEND;TZID=America/Vancouver:20290629T074500
DTSTAMP:20260425T194804
CREATED:20250103T155802Z
LAST-MODIFIED:20250103T183152Z
UID:10001845-1877410800-1877413500@saltspringzencircle.org
SUMMARY:Morning Zazen
DESCRIPTION:Please be seated by 7am
URL:https://saltspringzencircle.org/event/morning-zazen-150/2029-06-29/
CATEGORIES:Morning Zazen
END:VEVENT
BEGIN:VEVENT
DTSTART;TZID=America/Vancouver:20290702T070000
DTEND;TZID=America/Vancouver:20290702T074500
DTSTAMP:20260425T194804
CREATED:20250103T155503Z
LAST-MODIFIED:20250103T155503Z
UID:10001582-1877670000-1877672700@saltspringzencircle.org
SUMMARY:Morning Zazen
DESCRIPTION:
URL:https://saltspringzencircle.org/event/morning-zazen-149/2029-07-02/
CATEGORIES:Morning Zazen
END:VEVENT
BEGIN:VEVENT
DTSTART;TZID=America/Vancouver:20290706T070000
DTEND;TZID=America/Vancouver:20290706T074500
DTSTAMP:20260425T194804
CREATED:20250103T155802Z
LAST-MODIFIED:20250103T183152Z
UID:10001846-1878015600-1878018300@saltspringzencircle.org
SUMMARY:Morning Zazen
DESCRIPTION:Please be seated by 7am
URL:https://saltspringzencircle.org/event/morning-zazen-150/2029-07-06/
CATEGORIES:Morning Zazen
END:VEVENT
BEGIN:VEVENT
DTSTART;TZID=America/Vancouver:20290709T070000
DTEND;TZID=America/Vancouver:20290709T074500
DTSTAMP:20260425T194804
CREATED:20250103T155503Z
LAST-MODIFIED:20250103T155503Z
UID:10001583-1878274800-1878277500@saltspringzencircle.org
SUMMARY:Morning Zazen
DESCRIPTION:
URL:https://saltspringzencircle.org/event/morning-zazen-149/2029-07-09/
CATEGORIES:Morning Zazen
END:VEVENT
BEGIN:VEVENT
DTSTART;TZID=America/Vancouver:20290713T070000
DTEND;TZID=America/Vancouver:20290713T074500
DTSTAMP:20260425T194804
CREATED:20250103T155802Z
LAST-MODIFIED:20250103T183152Z
UID:10001847-1878620400-1878623100@saltspringzencircle.org
SUMMARY:Morning Zazen
DESCRIPTION:Please be seated by 7am
URL:https://saltspringzencircle.org/event/morning-zazen-150/2029-07-13/
CATEGORIES:Morning Zazen
END:VEVENT
BEGIN:VEVENT
DTSTART;TZID=America/Vancouver:20290716T070000
DTEND;TZID=America/Vancouver:20290716T074500
DTSTAMP:20260425T194804
CREATED:20250103T155503Z
LAST-MODIFIED:20250103T155503Z
UID:10001584-1878879600-1878882300@saltspringzencircle.org
SUMMARY:Morning Zazen
DESCRIPTION:
URL:https://saltspringzencircle.org/event/morning-zazen-149/2029-07-16/
CATEGORIES:Morning Zazen
END:VEVENT
BEGIN:VEVENT
DTSTART;TZID=America/Vancouver:20290720T070000
DTEND;TZID=America/Vancouver:20290720T074500
DTSTAMP:20260425T194804
CREATED:20250103T155802Z
LAST-MODIFIED:20250103T183152Z
UID:10001848-1879225200-1879227900@saltspringzencircle.org
SUMMARY:Morning Zazen
DESCRIPTION:Please be seated by 7am
URL:https://saltspringzencircle.org/event/morning-zazen-150/2029-07-20/
CATEGORIES:Morning Zazen
END:VEVENT
BEGIN:VEVENT
DTSTART;TZID=America/Vancouver:20290723T070000
DTEND;TZID=America/Vancouver:20290723T074500
DTSTAMP:20260425T194804
CREATED:20250103T155503Z
LAST-MODIFIED:20250103T155503Z
UID:10001585-1879484400-1879487100@saltspringzencircle.org
SUMMARY:Morning Zazen
DESCRIPTION:
URL:https://saltspringzencircle.org/event/morning-zazen-149/2029-07-23/
CATEGORIES:Morning Zazen
END:VEVENT
BEGIN:VEVENT
DTSTART;TZID=America/Vancouver:20290727T070000
DTEND;TZID=America/Vancouver:20290727T074500
DTSTAMP:20260425T194804
CREATED:20250103T155802Z
LAST-MODIFIED:20250103T183152Z
UID:10001849-1879830000-1879832700@saltspringzencircle.org
SUMMARY:Morning Zazen
DESCRIPTION:Please be seated by 7am
URL:https://saltspringzencircle.org/event/morning-zazen-150/2029-07-27/
CATEGORIES:Morning Zazen
END:VEVENT
BEGIN:VEVENT
DTSTART;TZID=America/Vancouver:20290730T070000
DTEND;TZID=America/Vancouver:20290730T074500
DTSTAMP:20260425T194804
CREATED:20250103T155503Z
LAST-MODIFIED:20250103T155503Z
UID:10001586-1880089200-1880091900@saltspringzencircle.org
SUMMARY:Morning Zazen
DESCRIPTION:
URL:https://saltspringzencircle.org/event/morning-zazen-149/2029-07-30/
CATEGORIES:Morning Zazen
END:VEVENT
BEGIN:VEVENT
DTSTART;TZID=America/Vancouver:20290803T070000
DTEND;TZID=America/Vancouver:20290803T074500
DTSTAMP:20260425T194804
CREATED:20250103T155802Z
LAST-MODIFIED:20250103T183152Z
UID:10001850-1880434800-1880437500@saltspringzencircle.org
SUMMARY:Morning Zazen
DESCRIPTION:Please be seated by 7am
URL:https://saltspringzencircle.org/event/morning-zazen-150/2029-08-03/
CATEGORIES:Morning Zazen
END:VEVENT
END:VCALENDAR