BEGIN:VCALENDAR
VERSION:2.0
PRODID:-// - ECPv6.15.20//NONSGML v1.0//EN
CALSCALE:GREGORIAN
METHOD:PUBLISH
X-ORIGINAL-URL:https://saltspringzencircle.org
X-WR-CALDESC:Events for 
REFRESH-INTERVAL;VALUE=DURATION:PT1H
X-Robots-Tag:noindex
X-PUBLISHED-TTL:PT1H
BEGIN:VTIMEZONE
TZID:America/Vancouver
BEGIN:DAYLIGHT
TZOFFSETFROM:-0800
TZOFFSETTO:-0700
TZNAME:PDT
DTSTART:20250309T100000
END:DAYLIGHT
BEGIN:STANDARD
TZOFFSETFROM:-0700
TZOFFSETTO:-0800
TZNAME:PST
DTSTART:20251102T090000
END:STANDARD
BEGIN:DAYLIGHT
TZOFFSETFROM:-0800
TZOFFSETTO:-0700
TZNAME:PDT
DTSTART:20260308T100000
END:DAYLIGHT
BEGIN:STANDARD
TZOFFSETFROM:-0700
TZOFFSETTO:-0800
TZNAME:PST
DTSTART:20261101T090000
END:STANDARD
BEGIN:DAYLIGHT
TZOFFSETFROM:-0800
TZOFFSETTO:-0700
TZNAME:PDT
DTSTART:20270314T100000
END:DAYLIGHT
BEGIN:STANDARD
TZOFFSETFROM:-0700
TZOFFSETTO:-0800
TZNAME:PST
DTSTART:20271107T090000
END:STANDARD
END:VTIMEZONE
BEGIN:VEVENT
DTSTART;TZID=America/Vancouver:20260828T070000
DTEND;TZID=America/Vancouver:20260828T074500
DTSTAMP:20260423T194729
CREATED:20250103T155802Z
LAST-MODIFIED:20250103T183152Z
UID:10001697-1787900400-1787903100@saltspringzencircle.org
SUMMARY:Morning Zazen
DESCRIPTION:Please be seated by 7am
URL:https://saltspringzencircle.org/event/morning-zazen-150/2026-08-28/
CATEGORIES:Morning Zazen
END:VEVENT
BEGIN:VEVENT
DTSTART;TZID=America/Vancouver:20260831T070000
DTEND;TZID=America/Vancouver:20260831T074500
DTSTAMP:20260423T194729
CREATED:20250103T155503Z
LAST-MODIFIED:20250103T155503Z
UID:10001434-1788159600-1788162300@saltspringzencircle.org
SUMMARY:Morning Zazen
DESCRIPTION:
URL:https://saltspringzencircle.org/event/morning-zazen-149/2026-08-31/
CATEGORIES:Morning Zazen
END:VEVENT
BEGIN:VEVENT
DTSTART;TZID=America/Vancouver:20260904T070000
DTEND;TZID=America/Vancouver:20260904T074500
DTSTAMP:20260423T194729
CREATED:20250103T155802Z
LAST-MODIFIED:20250103T183152Z
UID:10001698-1788505200-1788507900@saltspringzencircle.org
SUMMARY:Morning Zazen
DESCRIPTION:Please be seated by 7am
URL:https://saltspringzencircle.org/event/morning-zazen-150/2026-09-04/
CATEGORIES:Morning Zazen
END:VEVENT
BEGIN:VEVENT
DTSTART;TZID=America/Vancouver:20260907T070000
DTEND;TZID=America/Vancouver:20260907T074500
DTSTAMP:20260423T194729
CREATED:20250103T155503Z
LAST-MODIFIED:20250103T155503Z
UID:10001435-1788764400-1788767100@saltspringzencircle.org
SUMMARY:Morning Zazen
DESCRIPTION:
URL:https://saltspringzencircle.org/event/morning-zazen-149/2026-09-07/
CATEGORIES:Morning Zazen
END:VEVENT
BEGIN:VEVENT
DTSTART;TZID=America/Vancouver:20260911T070000
DTEND;TZID=America/Vancouver:20260911T074500
DTSTAMP:20260423T194729
CREATED:20250103T155802Z
LAST-MODIFIED:20250103T183152Z
UID:10001699-1789110000-1789112700@saltspringzencircle.org
SUMMARY:Morning Zazen
DESCRIPTION:Please be seated by 7am
URL:https://saltspringzencircle.org/event/morning-zazen-150/2026-09-11/
CATEGORIES:Morning Zazen
END:VEVENT
BEGIN:VEVENT
DTSTART;TZID=America/Vancouver:20260914T070000
DTEND;TZID=America/Vancouver:20260914T074500
DTSTAMP:20260423T194729
CREATED:20250103T155503Z
LAST-MODIFIED:20250103T155503Z
UID:10001436-1789369200-1789371900@saltspringzencircle.org
SUMMARY:Morning Zazen
DESCRIPTION:
URL:https://saltspringzencircle.org/event/morning-zazen-149/2026-09-14/
CATEGORIES:Morning Zazen
END:VEVENT
BEGIN:VEVENT
DTSTART;TZID=America/Vancouver:20260918T070000
DTEND;TZID=America/Vancouver:20260918T074500
DTSTAMP:20260423T194729
CREATED:20250103T155802Z
LAST-MODIFIED:20250103T183152Z
UID:10001700-1789714800-1789717500@saltspringzencircle.org
SUMMARY:Morning Zazen
DESCRIPTION:Please be seated by 7am
URL:https://saltspringzencircle.org/event/morning-zazen-150/2026-09-18/
CATEGORIES:Morning Zazen
END:VEVENT
BEGIN:VEVENT
DTSTART;TZID=America/Vancouver:20260921T070000
DTEND;TZID=America/Vancouver:20260921T074500
DTSTAMP:20260423T194729
CREATED:20250103T155503Z
LAST-MODIFIED:20250103T155503Z
UID:10001437-1789974000-1789976700@saltspringzencircle.org
SUMMARY:Morning Zazen
DESCRIPTION:
URL:https://saltspringzencircle.org/event/morning-zazen-149/2026-09-21/
CATEGORIES:Morning Zazen
END:VEVENT
BEGIN:VEVENT
DTSTART;TZID=America/Vancouver:20260925T070000
DTEND;TZID=America/Vancouver:20260925T074500
DTSTAMP:20260423T194729
CREATED:20250103T155802Z
LAST-MODIFIED:20250103T183152Z
UID:10001701-1790319600-1790322300@saltspringzencircle.org
SUMMARY:Morning Zazen
DESCRIPTION:Please be seated by 7am
URL:https://saltspringzencircle.org/event/morning-zazen-150/2026-09-25/
CATEGORIES:Morning Zazen
END:VEVENT
BEGIN:VEVENT
DTSTART;TZID=America/Vancouver:20260928T070000
DTEND;TZID=America/Vancouver:20260928T074500
DTSTAMP:20260423T194729
CREATED:20250103T155503Z
LAST-MODIFIED:20250103T155503Z
UID:10001438-1790578800-1790581500@saltspringzencircle.org
SUMMARY:Morning Zazen
DESCRIPTION:
URL:https://saltspringzencircle.org/event/morning-zazen-149/2026-09-28/
CATEGORIES:Morning Zazen
END:VEVENT
BEGIN:VEVENT
DTSTART;TZID=America/Vancouver:20261002T070000
DTEND;TZID=America/Vancouver:20261002T074500
DTSTAMP:20260423T194729
CREATED:20250103T155802Z
LAST-MODIFIED:20250103T183152Z
UID:10001702-1790924400-1790927100@saltspringzencircle.org
SUMMARY:Morning Zazen
DESCRIPTION:Please be seated by 7am
URL:https://saltspringzencircle.org/event/morning-zazen-150/2026-10-02/
CATEGORIES:Morning Zazen
END:VEVENT
BEGIN:VEVENT
DTSTART;TZID=America/Vancouver:20261005T070000
DTEND;TZID=America/Vancouver:20261005T074500
DTSTAMP:20260423T194729
CREATED:20250103T155503Z
LAST-MODIFIED:20250103T155503Z
UID:10001439-1791183600-1791186300@saltspringzencircle.org
SUMMARY:Morning Zazen
DESCRIPTION:
URL:https://saltspringzencircle.org/event/morning-zazen-149/2026-10-05/
CATEGORIES:Morning Zazen
END:VEVENT
BEGIN:VEVENT
DTSTART;TZID=America/Vancouver:20261009T070000
DTEND;TZID=America/Vancouver:20261009T074500
DTSTAMP:20260423T194729
CREATED:20250103T155802Z
LAST-MODIFIED:20250103T183152Z
UID:10001703-1791529200-1791531900@saltspringzencircle.org
SUMMARY:Morning Zazen
DESCRIPTION:Please be seated by 7am
URL:https://saltspringzencircle.org/event/morning-zazen-150/2026-10-09/
CATEGORIES:Morning Zazen
END:VEVENT
BEGIN:VEVENT
DTSTART;TZID=America/Vancouver:20261012T070000
DTEND;TZID=America/Vancouver:20261012T074500
DTSTAMP:20260423T194729
CREATED:20250103T155503Z
LAST-MODIFIED:20250103T155503Z
UID:10001440-1791788400-1791791100@saltspringzencircle.org
SUMMARY:Morning Zazen
DESCRIPTION:
URL:https://saltspringzencircle.org/event/morning-zazen-149/2026-10-12/
CATEGORIES:Morning Zazen
END:VEVENT
BEGIN:VEVENT
DTSTART;TZID=America/Vancouver:20261016T070000
DTEND;TZID=America/Vancouver:20261016T074500
DTSTAMP:20260423T194729
CREATED:20250103T155802Z
LAST-MODIFIED:20250103T183152Z
UID:10001704-1792134000-1792136700@saltspringzencircle.org
SUMMARY:Morning Zazen
DESCRIPTION:Please be seated by 7am
URL:https://saltspringzencircle.org/event/morning-zazen-150/2026-10-16/
CATEGORIES:Morning Zazen
END:VEVENT
BEGIN:VEVENT
DTSTART;TZID=America/Vancouver:20261019T070000
DTEND;TZID=America/Vancouver:20261019T074500
DTSTAMP:20260423T194729
CREATED:20250103T155503Z
LAST-MODIFIED:20250103T155503Z
UID:10001441-1792393200-1792395900@saltspringzencircle.org
SUMMARY:Morning Zazen
DESCRIPTION:
URL:https://saltspringzencircle.org/event/morning-zazen-149/2026-10-19/
CATEGORIES:Morning Zazen
END:VEVENT
BEGIN:VEVENT
DTSTART;TZID=America/Vancouver:20261023T070000
DTEND;TZID=America/Vancouver:20261023T074500
DTSTAMP:20260423T194729
CREATED:20250103T155802Z
LAST-MODIFIED:20250103T183152Z
UID:10001705-1792738800-1792741500@saltspringzencircle.org
SUMMARY:Morning Zazen
DESCRIPTION:Please be seated by 7am
URL:https://saltspringzencircle.org/event/morning-zazen-150/2026-10-23/
CATEGORIES:Morning Zazen
END:VEVENT
BEGIN:VEVENT
DTSTART;TZID=America/Vancouver:20261026T070000
DTEND;TZID=America/Vancouver:20261026T074500
DTSTAMP:20260423T194729
CREATED:20250103T155503Z
LAST-MODIFIED:20250103T155503Z
UID:10001442-1792998000-1793000700@saltspringzencircle.org
SUMMARY:Morning Zazen
DESCRIPTION:
URL:https://saltspringzencircle.org/event/morning-zazen-149/2026-10-26/
CATEGORIES:Morning Zazen
END:VEVENT
BEGIN:VEVENT
DTSTART;TZID=America/Vancouver:20261030T070000
DTEND;TZID=America/Vancouver:20261030T074500
DTSTAMP:20260423T194729
CREATED:20250103T155802Z
LAST-MODIFIED:20250103T183152Z
UID:10001706-1793343600-1793346300@saltspringzencircle.org
SUMMARY:Morning Zazen
DESCRIPTION:Please be seated by 7am
URL:https://saltspringzencircle.org/event/morning-zazen-150/2026-10-30/
CATEGORIES:Morning Zazen
END:VEVENT
BEGIN:VEVENT
DTSTART;TZID=America/Vancouver:20261102T070000
DTEND;TZID=America/Vancouver:20261102T074500
DTSTAMP:20260423T194729
CREATED:20250103T155503Z
LAST-MODIFIED:20250103T155503Z
UID:10001443-1793602800-1793605500@saltspringzencircle.org
SUMMARY:Morning Zazen
DESCRIPTION:
URL:https://saltspringzencircle.org/event/morning-zazen-149/2026-11-02/
CATEGORIES:Morning Zazen
END:VEVENT
BEGIN:VEVENT
DTSTART;TZID=America/Vancouver:20261106T070000
DTEND;TZID=America/Vancouver:20261106T074500
DTSTAMP:20260423T194729
CREATED:20250103T155802Z
LAST-MODIFIED:20250103T183152Z
UID:10001707-1793948400-1793951100@saltspringzencircle.org
SUMMARY:Morning Zazen
DESCRIPTION:Please be seated by 7am
URL:https://saltspringzencircle.org/event/morning-zazen-150/2026-11-06/
CATEGORIES:Morning Zazen
END:VEVENT
BEGIN:VEVENT
DTSTART;TZID=America/Vancouver:20261109T070000
DTEND;TZID=America/Vancouver:20261109T074500
DTSTAMP:20260423T194729
CREATED:20250103T155503Z
LAST-MODIFIED:20250103T155503Z
UID:10001444-1794207600-1794210300@saltspringzencircle.org
SUMMARY:Morning Zazen
DESCRIPTION:
URL:https://saltspringzencircle.org/event/morning-zazen-149/2026-11-09/
CATEGORIES:Morning Zazen
END:VEVENT
BEGIN:VEVENT
DTSTART;TZID=America/Vancouver:20261113T070000
DTEND;TZID=America/Vancouver:20261113T074500
DTSTAMP:20260423T194729
CREATED:20250103T155802Z
LAST-MODIFIED:20250103T183152Z
UID:10001708-1794553200-1794555900@saltspringzencircle.org
SUMMARY:Morning Zazen
DESCRIPTION:Please be seated by 7am
URL:https://saltspringzencircle.org/event/morning-zazen-150/2026-11-13/
CATEGORIES:Morning Zazen
END:VEVENT
BEGIN:VEVENT
DTSTART;TZID=America/Vancouver:20261116T070000
DTEND;TZID=America/Vancouver:20261116T074500
DTSTAMP:20260423T194729
CREATED:20250103T155503Z
LAST-MODIFIED:20250103T155503Z
UID:10001445-1794812400-1794815100@saltspringzencircle.org
SUMMARY:Morning Zazen
DESCRIPTION:
URL:https://saltspringzencircle.org/event/morning-zazen-149/2026-11-16/
CATEGORIES:Morning Zazen
END:VEVENT
BEGIN:VEVENT
DTSTART;TZID=America/Vancouver:20261120T070000
DTEND;TZID=America/Vancouver:20261120T074500
DTSTAMP:20260423T194729
CREATED:20250103T155802Z
LAST-MODIFIED:20250103T183152Z
UID:10001709-1795158000-1795160700@saltspringzencircle.org
SUMMARY:Morning Zazen
DESCRIPTION:Please be seated by 7am
URL:https://saltspringzencircle.org/event/morning-zazen-150/2026-11-20/
CATEGORIES:Morning Zazen
END:VEVENT
BEGIN:VEVENT
DTSTART;TZID=America/Vancouver:20261123T070000
DTEND;TZID=America/Vancouver:20261123T074500
DTSTAMP:20260423T194729
CREATED:20250103T155503Z
LAST-MODIFIED:20250103T155503Z
UID:10001446-1795417200-1795419900@saltspringzencircle.org
SUMMARY:Morning Zazen
DESCRIPTION:
URL:https://saltspringzencircle.org/event/morning-zazen-149/2026-11-23/
CATEGORIES:Morning Zazen
END:VEVENT
BEGIN:VEVENT
DTSTART;TZID=America/Vancouver:20261127T070000
DTEND;TZID=America/Vancouver:20261127T074500
DTSTAMP:20260423T194729
CREATED:20250103T155802Z
LAST-MODIFIED:20250103T183152Z
UID:10001710-1795762800-1795765500@saltspringzencircle.org
SUMMARY:Morning Zazen
DESCRIPTION:Please be seated by 7am
URL:https://saltspringzencircle.org/event/morning-zazen-150/2026-11-27/
CATEGORIES:Morning Zazen
END:VEVENT
BEGIN:VEVENT
DTSTART;TZID=America/Vancouver:20261130T070000
DTEND;TZID=America/Vancouver:20261130T074500
DTSTAMP:20260423T194729
CREATED:20250103T155503Z
LAST-MODIFIED:20250103T155503Z
UID:10001447-1796022000-1796024700@saltspringzencircle.org
SUMMARY:Morning Zazen
DESCRIPTION:
URL:https://saltspringzencircle.org/event/morning-zazen-149/2026-11-30/
CATEGORIES:Morning Zazen
END:VEVENT
BEGIN:VEVENT
DTSTART;TZID=America/Vancouver:20261204T070000
DTEND;TZID=America/Vancouver:20261204T074500
DTSTAMP:20260423T194729
CREATED:20250103T155802Z
LAST-MODIFIED:20250103T183152Z
UID:10001711-1796367600-1796370300@saltspringzencircle.org
SUMMARY:Morning Zazen
DESCRIPTION:Please be seated by 7am
URL:https://saltspringzencircle.org/event/morning-zazen-150/2026-12-04/
CATEGORIES:Morning Zazen
END:VEVENT
BEGIN:VEVENT
DTSTART;TZID=America/Vancouver:20261207T070000
DTEND;TZID=America/Vancouver:20261207T074500
DTSTAMP:20260423T194729
CREATED:20250103T155503Z
LAST-MODIFIED:20250103T155503Z
UID:10001448-1796626800-1796629500@saltspringzencircle.org
SUMMARY:Morning Zazen
DESCRIPTION:
URL:https://saltspringzencircle.org/event/morning-zazen-149/2026-12-07/
CATEGORIES:Morning Zazen
END:VEVENT
END:VCALENDAR