BEGIN:VCALENDAR
VERSION:2.0
PRODID:-// - ECPv6.15.20//NONSGML v1.0//EN
CALSCALE:GREGORIAN
METHOD:PUBLISH
X-ORIGINAL-URL:https://saltspringzencircle.org
X-WR-CALDESC:Events for 
REFRESH-INTERVAL;VALUE=DURATION:PT1H
X-Robots-Tag:noindex
X-PUBLISHED-TTL:PT1H
BEGIN:VTIMEZONE
TZID:America/Vancouver
BEGIN:DAYLIGHT
TZOFFSETFROM:-0800
TZOFFSETTO:-0700
TZNAME:PDT
DTSTART:20250309T100000
END:DAYLIGHT
BEGIN:STANDARD
TZOFFSETFROM:-0700
TZOFFSETTO:-0800
TZNAME:PST
DTSTART:20251102T090000
END:STANDARD
BEGIN:DAYLIGHT
TZOFFSETFROM:-0800
TZOFFSETTO:-0700
TZNAME:PDT
DTSTART:20260308T100000
END:DAYLIGHT
BEGIN:STANDARD
TZOFFSETFROM:-0700
TZOFFSETTO:-0800
TZNAME:PST
DTSTART:20261101T090000
END:STANDARD
BEGIN:DAYLIGHT
TZOFFSETFROM:-0800
TZOFFSETTO:-0700
TZNAME:PDT
DTSTART:20270314T100000
END:DAYLIGHT
BEGIN:STANDARD
TZOFFSETFROM:-0700
TZOFFSETTO:-0800
TZNAME:PST
DTSTART:20271107T090000
END:STANDARD
BEGIN:DAYLIGHT
TZOFFSETFROM:-0800
TZOFFSETTO:-0700
TZNAME:PDT
DTSTART:20280312T100000
END:DAYLIGHT
BEGIN:STANDARD
TZOFFSETFROM:-0700
TZOFFSETTO:-0800
TZNAME:PST
DTSTART:20281105T090000
END:STANDARD
END:VTIMEZONE
BEGIN:VEVENT
DTSTART;TZID=America/Vancouver:20261120T070000
DTEND;TZID=America/Vancouver:20261120T074500
DTSTAMP:20260423T230340
CREATED:20250103T155802Z
LAST-MODIFIED:20250103T183152Z
UID:10001709-1795158000-1795160700@saltspringzencircle.org
SUMMARY:Morning Zazen
DESCRIPTION:Please be seated by 7am
URL:https://saltspringzencircle.org/event/morning-zazen-150/2026-11-20/
CATEGORIES:Morning Zazen
END:VEVENT
BEGIN:VEVENT
DTSTART;TZID=America/Vancouver:20261123T070000
DTEND;TZID=America/Vancouver:20261123T074500
DTSTAMP:20260423T230340
CREATED:20250103T155503Z
LAST-MODIFIED:20250103T155503Z
UID:10001446-1795417200-1795419900@saltspringzencircle.org
SUMMARY:Morning Zazen
DESCRIPTION:
URL:https://saltspringzencircle.org/event/morning-zazen-149/2026-11-23/
CATEGORIES:Morning Zazen
END:VEVENT
BEGIN:VEVENT
DTSTART;TZID=America/Vancouver:20261127T070000
DTEND;TZID=America/Vancouver:20261127T074500
DTSTAMP:20260423T230340
CREATED:20250103T155802Z
LAST-MODIFIED:20250103T183152Z
UID:10001710-1795762800-1795765500@saltspringzencircle.org
SUMMARY:Morning Zazen
DESCRIPTION:Please be seated by 7am
URL:https://saltspringzencircle.org/event/morning-zazen-150/2026-11-27/
CATEGORIES:Morning Zazen
END:VEVENT
BEGIN:VEVENT
DTSTART;TZID=America/Vancouver:20261130T070000
DTEND;TZID=America/Vancouver:20261130T074500
DTSTAMP:20260423T230340
CREATED:20250103T155503Z
LAST-MODIFIED:20250103T155503Z
UID:10001447-1796022000-1796024700@saltspringzencircle.org
SUMMARY:Morning Zazen
DESCRIPTION:
URL:https://saltspringzencircle.org/event/morning-zazen-149/2026-11-30/
CATEGORIES:Morning Zazen
END:VEVENT
BEGIN:VEVENT
DTSTART;TZID=America/Vancouver:20261204T070000
DTEND;TZID=America/Vancouver:20261204T074500
DTSTAMP:20260423T230340
CREATED:20250103T155802Z
LAST-MODIFIED:20250103T183152Z
UID:10001711-1796367600-1796370300@saltspringzencircle.org
SUMMARY:Morning Zazen
DESCRIPTION:Please be seated by 7am
URL:https://saltspringzencircle.org/event/morning-zazen-150/2026-12-04/
CATEGORIES:Morning Zazen
END:VEVENT
BEGIN:VEVENT
DTSTART;TZID=America/Vancouver:20261207T070000
DTEND;TZID=America/Vancouver:20261207T074500
DTSTAMP:20260423T230340
CREATED:20250103T155503Z
LAST-MODIFIED:20250103T155503Z
UID:10001448-1796626800-1796629500@saltspringzencircle.org
SUMMARY:Morning Zazen
DESCRIPTION:
URL:https://saltspringzencircle.org/event/morning-zazen-149/2026-12-07/
CATEGORIES:Morning Zazen
END:VEVENT
BEGIN:VEVENT
DTSTART;TZID=America/Vancouver:20261211T070000
DTEND;TZID=America/Vancouver:20261211T074500
DTSTAMP:20260423T230340
CREATED:20250103T155802Z
LAST-MODIFIED:20250103T183152Z
UID:10001712-1796972400-1796975100@saltspringzencircle.org
SUMMARY:Morning Zazen
DESCRIPTION:Please be seated by 7am
URL:https://saltspringzencircle.org/event/morning-zazen-150/2026-12-11/
CATEGORIES:Morning Zazen
END:VEVENT
BEGIN:VEVENT
DTSTART;TZID=America/Vancouver:20261214T070000
DTEND;TZID=America/Vancouver:20261214T074500
DTSTAMP:20260423T230340
CREATED:20250103T155503Z
LAST-MODIFIED:20250103T155503Z
UID:10001449-1797231600-1797234300@saltspringzencircle.org
SUMMARY:Morning Zazen
DESCRIPTION:
URL:https://saltspringzencircle.org/event/morning-zazen-149/2026-12-14/
CATEGORIES:Morning Zazen
END:VEVENT
BEGIN:VEVENT
DTSTART;TZID=America/Vancouver:20261218T070000
DTEND;TZID=America/Vancouver:20261218T074500
DTSTAMP:20260423T230340
CREATED:20250103T155802Z
LAST-MODIFIED:20250103T183152Z
UID:10001713-1797577200-1797579900@saltspringzencircle.org
SUMMARY:Morning Zazen
DESCRIPTION:Please be seated by 7am
URL:https://saltspringzencircle.org/event/morning-zazen-150/2026-12-18/
CATEGORIES:Morning Zazen
END:VEVENT
BEGIN:VEVENT
DTSTART;TZID=America/Vancouver:20261221T070000
DTEND;TZID=America/Vancouver:20261221T074500
DTSTAMP:20260423T230340
CREATED:20250103T155503Z
LAST-MODIFIED:20250103T155503Z
UID:10001450-1797836400-1797839100@saltspringzencircle.org
SUMMARY:Morning Zazen
DESCRIPTION:
URL:https://saltspringzencircle.org/event/morning-zazen-149/2026-12-21/
CATEGORIES:Morning Zazen
END:VEVENT
BEGIN:VEVENT
DTSTART;TZID=America/Vancouver:20261225T070000
DTEND;TZID=America/Vancouver:20261225T074500
DTSTAMP:20260423T230340
CREATED:20250103T155802Z
LAST-MODIFIED:20250103T183152Z
UID:10001714-1798182000-1798184700@saltspringzencircle.org
SUMMARY:Morning Zazen
DESCRIPTION:Please be seated by 7am
URL:https://saltspringzencircle.org/event/morning-zazen-150/2026-12-25/
CATEGORIES:Morning Zazen
END:VEVENT
BEGIN:VEVENT
DTSTART;TZID=America/Vancouver:20261228T070000
DTEND;TZID=America/Vancouver:20261228T074500
DTSTAMP:20260423T230340
CREATED:20250103T155503Z
LAST-MODIFIED:20250103T155503Z
UID:10001451-1798441200-1798443900@saltspringzencircle.org
SUMMARY:Morning Zazen
DESCRIPTION:
URL:https://saltspringzencircle.org/event/morning-zazen-149/2026-12-28/
CATEGORIES:Morning Zazen
END:VEVENT
BEGIN:VEVENT
DTSTART;TZID=America/Vancouver:20270101T070000
DTEND;TZID=America/Vancouver:20270101T074500
DTSTAMP:20260423T230340
CREATED:20250103T155802Z
LAST-MODIFIED:20250103T183152Z
UID:10001715-1798786800-1798789500@saltspringzencircle.org
SUMMARY:Morning Zazen
DESCRIPTION:Please be seated by 7am
URL:https://saltspringzencircle.org/event/morning-zazen-150/2027-01-01/
CATEGORIES:Morning Zazen
END:VEVENT
BEGIN:VEVENT
DTSTART;TZID=America/Vancouver:20270104T070000
DTEND;TZID=America/Vancouver:20270104T074500
DTSTAMP:20260423T230340
CREATED:20250103T155503Z
LAST-MODIFIED:20250103T155503Z
UID:10001452-1799046000-1799048700@saltspringzencircle.org
SUMMARY:Morning Zazen
DESCRIPTION:
URL:https://saltspringzencircle.org/event/morning-zazen-149/2027-01-04/
CATEGORIES:Morning Zazen
END:VEVENT
BEGIN:VEVENT
DTSTART;TZID=America/Vancouver:20270108T070000
DTEND;TZID=America/Vancouver:20270108T074500
DTSTAMP:20260423T230340
CREATED:20250103T155802Z
LAST-MODIFIED:20250103T183152Z
UID:10001716-1799391600-1799394300@saltspringzencircle.org
SUMMARY:Morning Zazen
DESCRIPTION:Please be seated by 7am
URL:https://saltspringzencircle.org/event/morning-zazen-150/2027-01-08/
CATEGORIES:Morning Zazen
END:VEVENT
BEGIN:VEVENT
DTSTART;TZID=America/Vancouver:20270111T070000
DTEND;TZID=America/Vancouver:20270111T074500
DTSTAMP:20260423T230340
CREATED:20250103T155503Z
LAST-MODIFIED:20250103T155503Z
UID:10001453-1799650800-1799653500@saltspringzencircle.org
SUMMARY:Morning Zazen
DESCRIPTION:
URL:https://saltspringzencircle.org/event/morning-zazen-149/2027-01-11/
CATEGORIES:Morning Zazen
END:VEVENT
BEGIN:VEVENT
DTSTART;TZID=America/Vancouver:20270115T070000
DTEND;TZID=America/Vancouver:20270115T074500
DTSTAMP:20260423T230340
CREATED:20250103T155802Z
LAST-MODIFIED:20250103T183152Z
UID:10001717-1799996400-1799999100@saltspringzencircle.org
SUMMARY:Morning Zazen
DESCRIPTION:Please be seated by 7am
URL:https://saltspringzencircle.org/event/morning-zazen-150/2027-01-15/
CATEGORIES:Morning Zazen
END:VEVENT
BEGIN:VEVENT
DTSTART;TZID=America/Vancouver:20270118T070000
DTEND;TZID=America/Vancouver:20270118T074500
DTSTAMP:20260423T230340
CREATED:20250103T155503Z
LAST-MODIFIED:20250103T155503Z
UID:10001454-1800255600-1800258300@saltspringzencircle.org
SUMMARY:Morning Zazen
DESCRIPTION:
URL:https://saltspringzencircle.org/event/morning-zazen-149/2027-01-18/
CATEGORIES:Morning Zazen
END:VEVENT
BEGIN:VEVENT
DTSTART;TZID=America/Vancouver:20270122T070000
DTEND;TZID=America/Vancouver:20270122T074500
DTSTAMP:20260423T230340
CREATED:20250103T155802Z
LAST-MODIFIED:20250103T183152Z
UID:10001718-1800601200-1800603900@saltspringzencircle.org
SUMMARY:Morning Zazen
DESCRIPTION:Please be seated by 7am
URL:https://saltspringzencircle.org/event/morning-zazen-150/2027-01-22/
CATEGORIES:Morning Zazen
END:VEVENT
BEGIN:VEVENT
DTSTART;TZID=America/Vancouver:20270125T070000
DTEND;TZID=America/Vancouver:20270125T074500
DTSTAMP:20260423T230340
CREATED:20250103T155503Z
LAST-MODIFIED:20250103T155503Z
UID:10001455-1800860400-1800863100@saltspringzencircle.org
SUMMARY:Morning Zazen
DESCRIPTION:
URL:https://saltspringzencircle.org/event/morning-zazen-149/2027-01-25/
CATEGORIES:Morning Zazen
END:VEVENT
BEGIN:VEVENT
DTSTART;TZID=America/Vancouver:20270129T070000
DTEND;TZID=America/Vancouver:20270129T074500
DTSTAMP:20260423T230340
CREATED:20250103T155802Z
LAST-MODIFIED:20250103T183152Z
UID:10001719-1801206000-1801208700@saltspringzencircle.org
SUMMARY:Morning Zazen
DESCRIPTION:Please be seated by 7am
URL:https://saltspringzencircle.org/event/morning-zazen-150/2027-01-29/
CATEGORIES:Morning Zazen
END:VEVENT
BEGIN:VEVENT
DTSTART;TZID=America/Vancouver:20270201T070000
DTEND;TZID=America/Vancouver:20270201T074500
DTSTAMP:20260423T230340
CREATED:20250103T155503Z
LAST-MODIFIED:20250103T155503Z
UID:10001456-1801465200-1801467900@saltspringzencircle.org
SUMMARY:Morning Zazen
DESCRIPTION:
URL:https://saltspringzencircle.org/event/morning-zazen-149/2027-02-01/
CATEGORIES:Morning Zazen
END:VEVENT
BEGIN:VEVENT
DTSTART;TZID=America/Vancouver:20270205T070000
DTEND;TZID=America/Vancouver:20270205T074500
DTSTAMP:20260423T230340
CREATED:20250103T155802Z
LAST-MODIFIED:20250103T183152Z
UID:10001720-1801810800-1801813500@saltspringzencircle.org
SUMMARY:Morning Zazen
DESCRIPTION:Please be seated by 7am
URL:https://saltspringzencircle.org/event/morning-zazen-150/2027-02-05/
CATEGORIES:Morning Zazen
END:VEVENT
BEGIN:VEVENT
DTSTART;TZID=America/Vancouver:20270208T070000
DTEND;TZID=America/Vancouver:20270208T074500
DTSTAMP:20260423T230340
CREATED:20250103T155503Z
LAST-MODIFIED:20250103T155503Z
UID:10001457-1802070000-1802072700@saltspringzencircle.org
SUMMARY:Morning Zazen
DESCRIPTION:
URL:https://saltspringzencircle.org/event/morning-zazen-149/2027-02-08/
CATEGORIES:Morning Zazen
END:VEVENT
BEGIN:VEVENT
DTSTART;TZID=America/Vancouver:20270212T070000
DTEND;TZID=America/Vancouver:20270212T074500
DTSTAMP:20260423T230340
CREATED:20250103T155802Z
LAST-MODIFIED:20250103T183152Z
UID:10001721-1802415600-1802418300@saltspringzencircle.org
SUMMARY:Morning Zazen
DESCRIPTION:Please be seated by 7am
URL:https://saltspringzencircle.org/event/morning-zazen-150/2027-02-12/
CATEGORIES:Morning Zazen
END:VEVENT
BEGIN:VEVENT
DTSTART;TZID=America/Vancouver:20270215T070000
DTEND;TZID=America/Vancouver:20270215T074500
DTSTAMP:20260423T230340
CREATED:20250103T155503Z
LAST-MODIFIED:20250103T155503Z
UID:10001458-1802674800-1802677500@saltspringzencircle.org
SUMMARY:Morning Zazen
DESCRIPTION:
URL:https://saltspringzencircle.org/event/morning-zazen-149/2027-02-15/
CATEGORIES:Morning Zazen
END:VEVENT
BEGIN:VEVENT
DTSTART;TZID=America/Vancouver:20270219T070000
DTEND;TZID=America/Vancouver:20270219T074500
DTSTAMP:20260423T230340
CREATED:20250103T155802Z
LAST-MODIFIED:20250103T183152Z
UID:10001722-1803020400-1803023100@saltspringzencircle.org
SUMMARY:Morning Zazen
DESCRIPTION:Please be seated by 7am
URL:https://saltspringzencircle.org/event/morning-zazen-150/2027-02-19/
CATEGORIES:Morning Zazen
END:VEVENT
BEGIN:VEVENT
DTSTART;TZID=America/Vancouver:20270222T070000
DTEND;TZID=America/Vancouver:20270222T074500
DTSTAMP:20260423T230340
CREATED:20250103T155503Z
LAST-MODIFIED:20250103T155503Z
UID:10001459-1803279600-1803282300@saltspringzencircle.org
SUMMARY:Morning Zazen
DESCRIPTION:
URL:https://saltspringzencircle.org/event/morning-zazen-149/2027-02-22/
CATEGORIES:Morning Zazen
END:VEVENT
BEGIN:VEVENT
DTSTART;TZID=America/Vancouver:20270226T070000
DTEND;TZID=America/Vancouver:20270226T074500
DTSTAMP:20260423T230340
CREATED:20250103T155802Z
LAST-MODIFIED:20250103T183152Z
UID:10001723-1803625200-1803627900@saltspringzencircle.org
SUMMARY:Morning Zazen
DESCRIPTION:Please be seated by 7am
URL:https://saltspringzencircle.org/event/morning-zazen-150/2027-02-26/
CATEGORIES:Morning Zazen
END:VEVENT
BEGIN:VEVENT
DTSTART;TZID=America/Vancouver:20270301T070000
DTEND;TZID=America/Vancouver:20270301T074500
DTSTAMP:20260423T230340
CREATED:20250103T155503Z
LAST-MODIFIED:20250103T155503Z
UID:10001460-1803884400-1803887100@saltspringzencircle.org
SUMMARY:Morning Zazen
DESCRIPTION:
URL:https://saltspringzencircle.org/event/morning-zazen-149/2027-03-01/
CATEGORIES:Morning Zazen
END:VEVENT
END:VCALENDAR