BEGIN:VCALENDAR
VERSION:2.0
PRODID:-// - ECPv6.15.20//NONSGML v1.0//EN
CALSCALE:GREGORIAN
METHOD:PUBLISH
X-ORIGINAL-URL:https://saltspringzencircle.org
X-WR-CALDESC:Events for 
REFRESH-INTERVAL;VALUE=DURATION:PT1H
X-Robots-Tag:noindex
X-PUBLISHED-TTL:PT1H
BEGIN:VTIMEZONE
TZID:America/Vancouver
BEGIN:DAYLIGHT
TZOFFSETFROM:-0800
TZOFFSETTO:-0700
TZNAME:PDT
DTSTART:20240310T100000
END:DAYLIGHT
BEGIN:STANDARD
TZOFFSETFROM:-0700
TZOFFSETTO:-0800
TZNAME:PST
DTSTART:20241103T090000
END:STANDARD
BEGIN:DAYLIGHT
TZOFFSETFROM:-0800
TZOFFSETTO:-0700
TZNAME:PDT
DTSTART:20250309T100000
END:DAYLIGHT
BEGIN:STANDARD
TZOFFSETFROM:-0700
TZOFFSETTO:-0800
TZNAME:PST
DTSTART:20251102T090000
END:STANDARD
BEGIN:DAYLIGHT
TZOFFSETFROM:-0800
TZOFFSETTO:-0700
TZNAME:PDT
DTSTART:20260308T100000
END:DAYLIGHT
BEGIN:STANDARD
TZOFFSETFROM:-0700
TZOFFSETTO:-0800
TZNAME:PST
DTSTART:20261101T090000
END:STANDARD
END:VTIMEZONE
BEGIN:VEVENT
DTSTART;TZID=America/Vancouver:20250706T070000
DTEND;TZID=America/Vancouver:20250706T100000
DTSTAMP:20260424T054759
CREATED:20250220T235844Z
LAST-MODIFIED:20250221T000651Z
UID:10001881-1751785200-1751796000@saltspringzencircle.org
SUMMARY:
DESCRIPTION:Sit’n Study: Sittings are optional. Sitting: 7am-7:45am – Kinhin: 7:45am-8am – Sitting: 8am-8:45am –  Break Study:  9am-10am Leader: TBA: Satsujo Weeps  P.179 From: The Hidden Lamp: Stories from Twenty-Five Centuries of Awakened Women\, edited by Florence Caplow and Susan Moon. Published by Wisdom Publications.
URL:https://saltspringzencircle.org/event/5085/2025-07-06/
CATEGORIES:Sit 'n' Study
END:VEVENT
BEGIN:VEVENT
DTSTART;TZID=America/Vancouver:20250706T070000
DTEND;TZID=America/Vancouver:20250706T100000
DTSTAMP:20260424T054759
CREATED:20250221T200131Z
LAST-MODIFIED:20250608T001115Z
UID:10002132-1751785200-1751796000@saltspringzencircle.org
SUMMARY:Sit'n Study
DESCRIPTION:Sit’n Study: Sittings are optional. Sitting: 7am-7:45am – Kinhin: 7:45am-8am – Sitting: 8am-8:45am –  Break Study:  9am-10am Leader:Sheila Dobie: Herman: Crying P.42 From: The Book of Householder Koans- Waking Up in the Land of Attachments by Eve Myonen Marko and Wendy Egyoku Nakao. Published by Monkfish Book Publishing Co.
URL:https://saltspringzencircle.org/event/sitn-study-138/
CATEGORIES:Sit 'n' Study
END:VEVENT
BEGIN:VEVENT
DTSTART;TZID=America/Vancouver:20250713T070000
DTEND;TZID=America/Vancouver:20250713T100000
DTSTAMP:20260424T054759
CREATED:20250220T235844Z
LAST-MODIFIED:20250221T000651Z
UID:10001882-1752390000-1752400800@saltspringzencircle.org
SUMMARY:
DESCRIPTION:Sit’n Study: Sittings are optional. Sitting: 7am-7:45am – Kinhin: 7:45am-8am – Sitting: 8am-8:45am –  Break Study:  9am-10am Leader: TBA: Satsujo Weeps  P.179 From: The Hidden Lamp: Stories from Twenty-Five Centuries of Awakened Women\, edited by Florence Caplow and Susan Moon. Published by Wisdom Publications.
URL:https://saltspringzencircle.org/event/5085/2025-07-13/
CATEGORIES:Sit 'n' Study
END:VEVENT
BEGIN:VEVENT
DTSTART;TZID=America/Vancouver:20250713T070000
DTEND;TZID=America/Vancouver:20250713T100000
DTSTAMP:20260424T054759
CREATED:20250221T200721Z
LAST-MODIFIED:20250608T001205Z
UID:10002133-1752390000-1752400800@saltspringzencircle.org
SUMMARY:Sit'n Study
DESCRIPTION:Sit’n Study: Sittings are optional. Sitting: 7am-7:45am – Kinhin: 7:45am-8am – Sitting: 8am-8:45am –  Break Study:  9am-10am Leader: Koya Clare: Miaoxin’s Banner P.286 From: The Hidden Lamp: Stories from Twenty-Five Centuries of Awakened Women\, edited by Florence Caplow and Susan Moon. Published by Wisdom Publications.
URL:https://saltspringzencircle.org/event/sitn-study-139/
CATEGORIES:Sit 'n' Study
END:VEVENT
BEGIN:VEVENT
DTSTART;TZID=America/Vancouver:20250720T070000
DTEND;TZID=America/Vancouver:20250720T100000
DTSTAMP:20260424T054759
CREATED:20250220T235844Z
LAST-MODIFIED:20250221T000651Z
UID:10001883-1752994800-1753005600@saltspringzencircle.org
SUMMARY:
DESCRIPTION:Sit’n Study: Sittings are optional. Sitting: 7am-7:45am – Kinhin: 7:45am-8am – Sitting: 8am-8:45am –  Break Study:  9am-10am Leader: TBA: Satsujo Weeps  P.179 From: The Hidden Lamp: Stories from Twenty-Five Centuries of Awakened Women\, edited by Florence Caplow and Susan Moon. Published by Wisdom Publications.
URL:https://saltspringzencircle.org/event/5085/2025-07-20/
CATEGORIES:Sit 'n' Study
END:VEVENT
BEGIN:VEVENT
DTSTART;TZID=America/Vancouver:20250720T070000
DTEND;TZID=America/Vancouver:20250720T100000
DTSTAMP:20260424T054759
CREATED:20250221T201202Z
LAST-MODIFIED:20250330T044232Z
UID:10002134-1752994800-1753005600@saltspringzencircle.org
SUMMARY:Sit'n Study
DESCRIPTION:Sit’n Study: Sittings are optional. Sitting: 7am-7:45am – Kinhin: 7:45am-8am – Sitting: 8am-8:45am –  Break Study:  9am-10am Leader: Doug Reid:  Inzan: Red Traffic Light P.140 From: The Book of Householder Koans- Waking Up in the Land of Attachments by Eve Myonen Marko and Wendy Egyoku Nakao. Published by Monkfish Book Publishing Co.
URL:https://saltspringzencircle.org/event/sitn-study-140/
CATEGORIES:Sit 'n' Study
END:VEVENT
BEGIN:VEVENT
DTSTART;TZID=America/Vancouver:20250727T070000
DTEND;TZID=America/Vancouver:20250727T100000
DTSTAMP:20260424T054759
CREATED:20250220T235844Z
LAST-MODIFIED:20250221T000651Z
UID:10001884-1753599600-1753610400@saltspringzencircle.org
SUMMARY:
DESCRIPTION:Sit’n Study: Sittings are optional. Sitting: 7am-7:45am – Kinhin: 7:45am-8am – Sitting: 8am-8:45am –  Break Study:  9am-10am Leader: TBA: Satsujo Weeps  P.179 From: The Hidden Lamp: Stories from Twenty-Five Centuries of Awakened Women\, edited by Florence Caplow and Susan Moon. Published by Wisdom Publications.
URL:https://saltspringzencircle.org/event/5085/2025-07-27/
CATEGORIES:Sit 'n' Study
END:VEVENT
BEGIN:VEVENT
DTSTART;TZID=America/Vancouver:20250727T070000
DTEND;TZID=America/Vancouver:20250727T100000
DTSTAMP:20260424T054759
CREATED:20250221T201557Z
LAST-MODIFIED:20250503T000258Z
UID:10002135-1753599600-1753610400@saltspringzencircle.org
SUMMARY:Sit'n Study
DESCRIPTION:Sit’n Study: Sittings are optional. Sitting: 7am-7:45am – Kinhin: 7:45am-8am – Sitting: 8am-8:45am –  Break Study:  9am-10am Leader: Zona: The Old Woman’s Rice Cakes P.256 From: The Hidden Lamp: Stories from Twenty-Five Centuries of Awakened Women\, edited by Florence Caplow and Susan Moon. Published by Wisdom Publications.
URL:https://saltspringzencircle.org/event/sitn-study-141/
CATEGORIES:Sit 'n' Study
END:VEVENT
END:VCALENDAR