BEGIN:VCALENDAR
VERSION:2.0
PRODID:-// - ECPv6.15.20//NONSGML v1.0//EN
CALSCALE:GREGORIAN
METHOD:PUBLISH
X-ORIGINAL-URL:https://saltspringzencircle.org
X-WR-CALDESC:Events for 
REFRESH-INTERVAL;VALUE=DURATION:PT1H
X-Robots-Tag:noindex
X-PUBLISHED-TTL:PT1H
BEGIN:VTIMEZONE
TZID:America/Vancouver
BEGIN:DAYLIGHT
TZOFFSETFROM:-0800
TZOFFSETTO:-0700
TZNAME:PDT
DTSTART:20210314T100000
END:DAYLIGHT
BEGIN:STANDARD
TZOFFSETFROM:-0700
TZOFFSETTO:-0800
TZNAME:PST
DTSTART:20211107T090000
END:STANDARD
BEGIN:DAYLIGHT
TZOFFSETFROM:-0800
TZOFFSETTO:-0700
TZNAME:PDT
DTSTART:20220313T100000
END:DAYLIGHT
BEGIN:STANDARD
TZOFFSETFROM:-0700
TZOFFSETTO:-0800
TZNAME:PST
DTSTART:20221106T090000
END:STANDARD
BEGIN:DAYLIGHT
TZOFFSETFROM:-0800
TZOFFSETTO:-0700
TZNAME:PDT
DTSTART:20230312T100000
END:DAYLIGHT
BEGIN:STANDARD
TZOFFSETFROM:-0700
TZOFFSETTO:-0800
TZNAME:PST
DTSTART:20231105T090000
END:STANDARD
BEGIN:DAYLIGHT
TZOFFSETFROM:-0800
TZOFFSETTO:-0700
TZNAME:PDT
DTSTART:20240310T100000
END:DAYLIGHT
BEGIN:STANDARD
TZOFFSETFROM:-0700
TZOFFSETTO:-0800
TZNAME:PST
DTSTART:20241103T090000
END:STANDARD
END:VTIMEZONE
BEGIN:VEVENT
DTSTART;TZID=America/Vancouver:20230924T070000
DTEND;TZID=America/Vancouver:20230924T100000
DTSTAMP:20260425T082242
CREATED:20221222T195919Z
LAST-MODIFIED:20230814T170348Z
UID:10000548-1695538800-1695549600@saltspringzencircle.org
SUMMARY:No Sitn'n'Study
DESCRIPTION:No 7:00 a.m. Sit\nNo Sit & Study
URL:https://saltspringzencircle.org/event/sitn-study-48/
CATEGORIES:Sit 'n' Study
END:VEVENT
BEGIN:VEVENT
DTSTART;TZID=America/Vancouver:20230917T070000
DTEND;TZID=America/Vancouver:20230917T100000
DTSTAMP:20260425T082242
CREATED:20221222T195831Z
LAST-MODIFIED:20230814T170104Z
UID:10000547-1694934000-1694944800@saltspringzencircle.org
SUMMARY:Sit'n Study
DESCRIPTION:Sittings are optional: 7am to 7:45am – Kinhin: 7:45am – 8:am – Sitting: 8am-8:45am – Break\nSit’n Study: 9am-10am \n Leader: TBD \nText: Clarify the Great Matter by Taizan Maezumi Roshi. from Appreciate Your Life\, The Essence of Zen Practice. Edited by Wendy Egyoku Nakao and Eve Myosin Marko\, Published by Shambhala Publications\, Inc.
URL:https://saltspringzencircle.org/event/sitn-study-47/
CATEGORIES:Sit 'n' Study
END:VEVENT
BEGIN:VEVENT
DTSTART;TZID=America/Vancouver:20230910T070000
DTEND;TZID=America/Vancouver:20230910T100000
DTSTAMP:20260425T082242
CREATED:20221222T195727Z
LAST-MODIFIED:20230810T174317Z
UID:10000546-1694329200-1694340000@saltspringzencircle.org
SUMMARY:Sit'n Study
DESCRIPTION:Sittings are optional: 7am to 7:45am – Kinhin: 7:45am – 8:am – Sitting: 8am-8:45am – Break\nSit’n Study: 9am-10am \n Leader: TBD\, “Intimacy of Relative and Absolute\,” by Taizan Maezumi Roshi. from Appreciate Your Life\, The Essence of Zen Practice. Edited by Wendy Egyoku Nakao and Eve Myosin Marko\, Published by Shambhala Publications\, Inc.
URL:https://saltspringzencircle.org/event/sitn-study-46/
CATEGORIES:Sit 'n' Study
END:VEVENT
BEGIN:VEVENT
DTSTART;TZID=America/Vancouver:20230903T070000
DTEND;TZID=America/Vancouver:20230903T100000
DTSTAMP:20260425T082242
CREATED:20221222T195621Z
LAST-MODIFIED:20230709T175547Z
UID:10000545-1693724400-1693735200@saltspringzencircle.org
SUMMARY:No Sit'n Study-Summer Break
DESCRIPTION:Sittings are optional: 7am to 7:45am – Kinhin: 7:45am – 8:am – Sitting: 8am-8:45am – Break\nStudy: 9am-10am
URL:https://saltspringzencircle.org/event/sitn-study-45/
CATEGORIES:Sit 'n' Study
END:VEVENT
BEGIN:VEVENT
DTSTART;TZID=America/Vancouver:20230827T070000
DTEND;TZID=America/Vancouver:20230827T100000
DTSTAMP:20260425T082242
CREATED:20221221T233942Z
LAST-MODIFIED:20230709T175459Z
UID:10000514-1693119600-1693130400@saltspringzencircle.org
SUMMARY:No Sit'n Study-Summer Break
DESCRIPTION:Sittings are optional: 7am to 7:45am – Kinhin: 7:45am – 8:am – Sitting: 8am-8:45am – Break\nStudy: 9am-10am
URL:https://saltspringzencircle.org/event/sitn-study-44/
CATEGORIES:Sit 'n' Study
END:VEVENT
BEGIN:VEVENT
DTSTART;TZID=America/Vancouver:20230820T070000
DTEND;TZID=America/Vancouver:20230820T100000
DTSTAMP:20260425T082242
CREATED:20221221T233846Z
LAST-MODIFIED:20230810T173532Z
UID:10000513-1692514800-1692525600@saltspringzencircle.org
SUMMARY:Sit'n Study
DESCRIPTION:Sittings are optional: 7am t“P” \nSit’n Study \nLeader: JoEllen Moldoff: “Pain Fear and Frustration” by Taizan Maezumi Roshi. from Appreciate Your Life\, The Essence of Zen Practice. Edited by Wendy Egyoku Nakao and Eve Myosin Marko\, Published by Shambhala Publications\, Inc.
URL:https://saltspringzencircle.org/event/sitn-study-43/
CATEGORIES:Sit 'n' Study
END:VEVENT
BEGIN:VEVENT
DTSTART;TZID=America/Vancouver:20230813T070000
DTEND;TZID=America/Vancouver:20230813T100000
DTSTAMP:20260425T082242
CREATED:20221221T233751Z
LAST-MODIFIED:20230709T174923Z
UID:10000512-1691910000-1691920800@saltspringzencircle.org
SUMMARY:Sit'n Study
DESCRIPTION:Sittings are optional: 7am to 7:45am – Kinhin: 7:45am – 8:am – Sitting: 8am-8:45am – Break\nStudy: 9am-10am \nLeader: Zona McKenzie: “Realize Your Life as Koan” by Taizan Maezumi Roshi. from Appreciate Your Life\, The Essence of Zen Practice. Edited by Wendy Egyoku Nakao and Eve Myosin Marko\, Published by Shambhala Publications\, Inc.
URL:https://saltspringzencircle.org/event/sitn-study-42/
CATEGORIES:Sit 'n' Study
END:VEVENT
BEGIN:VEVENT
DTSTART;TZID=America/Vancouver:20230806T070000
DTEND;TZID=America/Vancouver:20230806T100000
DTSTAMP:20260425T082242
CREATED:20221221T233652Z
LAST-MODIFIED:20230709T174825Z
UID:10000511-1691305200-1691316000@saltspringzencircle.org
SUMMARY:Sit'n Study
DESCRIPTION:Sittings are optional: 7am to 7:45am – Kinhin: 7:45am – 8:am – Sitting: 8am-8:45am – Break\nStudy: 9am-10am \nLeader: Sheila Dobie: “Raise the Bodhi Mind“  by Taizan Maezumi Roshi. from Appreciate Your Life\, The Essence of Zen Practice. Edited by Wendy Egyoku Nakao and Eve Myosin Marko\, Published by Shambhala Publications\, Inc.
URL:https://saltspringzencircle.org/event/sitn-study-41/
CATEGORIES:Sit 'n' Study
END:VEVENT
BEGIN:VEVENT
DTSTART;TZID=America/Vancouver:20230730T070000
DTEND;TZID=America/Vancouver:20230730T100000
DTSTAMP:20260425T082242
CREATED:20221221T004028Z
LAST-MODIFIED:20230709T175218Z
UID:10000507-1690700400-1690711200@saltspringzencircle.org
SUMMARY:Sit'n Study
DESCRIPTION:Sittings are optional: 7am to 7:45am – Kinhin: 7:45am – 8:am – Sitting: 8am-8:45am – Break\nStudy: 9am-10am \nLeader: Chris Smart: “On Ceremonial Action” by Taizan Maezumi Roshi. from Appreciate Your Life\, The Essence of Zen Practice. Edited by Wendy Egyoku Nakao and Eve Myosin Marko\, Published by Shambhala Publications\, Inc.
URL:https://saltspringzencircle.org/event/sitn-study-40/
CATEGORIES:Sit 'n' Study
END:VEVENT
BEGIN:VEVENT
DTSTART;TZID=America/Vancouver:20230723T070000
DTEND;TZID=America/Vancouver:20230723T100000
DTSTAMP:20260425T082242
CREATED:20221221T003933Z
LAST-MODIFIED:20230709T172709Z
UID:10000506-1690095600-1690106400@saltspringzencircle.org
SUMMARY:No Sit'n Study
DESCRIPTION: No Sit & Study today\, due to Sangha meeting.
URL:https://saltspringzencircle.org/event/sitn-study-39/
CATEGORIES:Sit 'n' Study
END:VEVENT
BEGIN:VEVENT
DTSTART;TZID=America/Vancouver:20230716T070000
DTEND;TZID=America/Vancouver:20230716T100000
DTSTAMP:20260425T082242
CREATED:20221221T003840Z
LAST-MODIFIED:20230709T171249Z
UID:10000505-1689490800-1689501600@saltspringzencircle.org
SUMMARY:Sit'n Study
DESCRIPTION:Sittings are optional: 7am to 7:45am – Kinhin: 7:45am – 8:am – Sitting: 8am-8:45am – Break\nStudy: 9am-10am \nLeader: Douglas Reid: “What is Koan”  by Taizan Maezumi Roshi. from Appreciate Your Life\, The Essence of Zen Practice. Edited by Wendy Egyoku Nakao and Eve Myosin Marko\, Published by Shambhala Publications\, Inc.
URL:https://saltspringzencircle.org/event/sitn-study-38/
CATEGORIES:Sit 'n' Study
END:VEVENT
BEGIN:VEVENT
DTSTART;TZID=America/Vancouver:20230709T070000
DTEND;TZID=America/Vancouver:20230709T100000
DTSTAMP:20260425T082242
CREATED:20221221T003721Z
LAST-MODIFIED:20230629T223141Z
UID:10000504-1688886000-1688896800@saltspringzencircle.org
SUMMARY:Sit'n Study
DESCRIPTION:Sittings are optional: 7am to 7:45am – Kinhin: 7:45am – 8:am – Sitting: 8am-8:45am – Break\nStudy: 9am-10am \nLeader: Shirley Graham:  “Practice the Paramitas“ by Taizan Maezumi Roshi. from Appreciate Your Life\, The Essence of Zen Practice. Edited by Wendy Egyoku Nakao and Eve Myosin Marko\, Published by Shambhala Publications\, Inc.
URL:https://saltspringzencircle.org/event/sitn-study-37/
CATEGORIES:Sit 'n' Study
END:VEVENT
BEGIN:VEVENT
DTSTART;TZID=America/Vancouver:20230702T070000
DTEND;TZID=America/Vancouver:20230702T100000
DTSTAMP:20260425T082242
CREATED:20221221T003631Z
LAST-MODIFIED:20230629T221454Z
UID:10000503-1688281200-1688292000@saltspringzencircle.org
SUMMARY:Sit'n Study
DESCRIPTION:Sittings are optional: 7am to 7:45am – Kinhin: 7:45am – 8:am – Sitting: 8am-8:45am – Break\nStudy: 9am-10am \nLeader: Michelle Reed: “Your Zazen is the Zazen of the Buddhas” from “Appreciate Your Life” by Taizan Maezumi Roshi. Edited by Wendy Egyoku Nakao and Eve Myosin Marko\, Published by Shambhala Publications\, Inc.
URL:https://saltspringzencircle.org/event/sitn-study-36/
CATEGORIES:Sit 'n' Study
END:VEVENT
BEGIN:VEVENT
DTSTART;TZID=America/Vancouver:20230625T070000
DTEND;TZID=America/Vancouver:20230625T100000
DTSTAMP:20260425T082242
CREATED:20221221T001408Z
LAST-MODIFIED:20230603T182740Z
UID:10000489-1687676400-1687687200@saltspringzencircle.org
SUMMARY:Sit'n Study
DESCRIPTION:Sittings are optional: 7am to 7:45am – Kinhin: 7:45am – 8:am – Sitting: 8am-8:45am – Break\nStudy: 9am-10am \nLeader: Heather Martin-McNab: “The Answer is Simple” from “Appreciate Your Life” by Taizan Maezumi Roshi. Edited by Wendy Egyoku Nakao and Eve Myosin Marko\, Published by Shambhala Publications\, Inc.
URL:https://saltspringzencircle.org/event/sitn-study-35/
CATEGORIES:Sit 'n' Study
END:VEVENT
BEGIN:VEVENT
DTSTART;TZID=America/Vancouver:20230618T070000
DTEND;TZID=America/Vancouver:20230618T100000
DTSTAMP:20260425T082242
CREATED:20221221T001307Z
LAST-MODIFIED:20230520T231243Z
UID:10000488-1687071600-1687082400@saltspringzencircle.org
SUMMARY:Sit'n Study
DESCRIPTION:Sittings are optional: 7am to 7:45am – Kinhin: 7:45am – 8:am – Sitting: 8am-8:45am – Break\nStudy: 9am-10am \nLeader: Rory McDonald –  “Close the Gap”  from“Appreciate Your Life” by Taizan Maezumi Roshi. Edited by Wendy Egyoku Nakao and Eve Myosin Marko\, Published by Shambhala Publications\, Inc.
URL:https://saltspringzencircle.org/event/sitn-study-34/
CATEGORIES:Sit 'n' Study
END:VEVENT
BEGIN:VEVENT
DTSTART;TZID=America/Vancouver:20230611T070000
DTEND;TZID=America/Vancouver:20230611T100000
DTSTAMP:20260425T082242
CREATED:20221221T001212Z
LAST-MODIFIED:20230603T182649Z
UID:10000487-1686466800-1686477600@saltspringzencircle.org
SUMMARY:Sit'n Study
DESCRIPTION:Sittings are optional: 7am to 7:45am – Kinhin: 7:45am – 8:am – Sitting: 8am-8:45am – Break\nStudy: 9am-10am \nLeader: Simon Rompre: Do it Over and Over\, and Over from “Appreciate Your Life” by Taizan Maezumi Roshi. Edited by Wendy Egyoku Nakao and Eve Myosin Marko\, Published by Shambhala Publications\, Inc.
URL:https://saltspringzencircle.org/event/sitn-study-33/
CATEGORIES:Sit 'n' Study
END:VEVENT
BEGIN:VEVENT
DTSTART;TZID=America/Vancouver:20230604T070000
DTEND;TZID=America/Vancouver:20230604T100000
DTSTAMP:20260425T082242
CREATED:20221221T001025Z
LAST-MODIFIED:20230501T023426Z
UID:10000486-1685862000-1685872800@saltspringzencircle.org
SUMMARY:Sit'n Study
DESCRIPTION:Sittings are optional: 7am to 7:45am – Kinhin: 7:45am – 8:am – Sitting: 8am-8:45am – Break\nStudy: 9am-10am \nLeader: Hoshin – Why Zazen? from “Appreciate Your Life” by Taizan Maezumi Roshi. Edited by Wendy Egyoku Nakao and Eve Myosin Marko\, Published by Shambhala Publications\, Inc.
URL:https://saltspringzencircle.org/event/sitn-study-32/
CATEGORIES:Sit 'n' Study
END:VEVENT
BEGIN:VEVENT
DTSTART;TZID=America/Vancouver:20230528T070000
DTEND;TZID=America/Vancouver:20230528T100000
DTSTAMP:20260425T082242
CREATED:20230430T170512Z
LAST-MODIFIED:20230430T213641Z
UID:10000600-1685257200-1685268000@saltspringzencircle.org
SUMMARY:Sit'n Study
DESCRIPTION:Sittings are optional: 7am to 7:45am – Kinhin: 7:45am – 8:am – Sitting: 8am-8:45am – Break\nStudy: 9am-10am \nLeader: TBA –The Dharma Seals by Taizan Maezumi Roshi. from Appreciate Your Life\, The Essence of Zen Practice. Edited by Wendy Egyoku Nakao and Eve Myosin Marko\, Published by Shambhala Publications\, Inc.
URL:https://saltspringzencircle.org/event/sitn-study-65/
CATEGORIES:Sit 'n' Study
END:VEVENT
BEGIN:VEVENT
DTSTART;TZID=America/Vancouver:20230528T070000
DTEND;TZID=America/Vancouver:20230528T100000
DTSTAMP:20260425T082242
CREATED:20221217T234218Z
LAST-MODIFIED:20230520T230730Z
UID:10000603-1685257200-1685268000@saltspringzencircle.org
SUMMARY:Sit'n Study
DESCRIPTION:Sittings are optional: 7am to 7:45am – Kinhin: 7:45am – 8:am – Sitting: 8am-8:45am – Break\nStudy: 9am-10am \nLead: Centa Haulde – The Dharma Seals-by Taizan Maezumi Roshi. from Appreciate Your Life\, The Essence of Zen Practice. Edited by Wendy Egyoku Nakao and Eve Myosin Marko\, Published by Shambhala Publications\, Inc. 
URL:https://saltspringzencircle.org/event/sitn-study-31/
CATEGORIES:Sit 'n' Study
END:VEVENT
BEGIN:VEVENT
DTSTART;TZID=America/Vancouver:20230521T070000
DTEND;TZID=America/Vancouver:20230521T220000
DTSTAMP:20260425T082242
CREATED:20230430T170621Z
LAST-MODIFIED:20230505T211831Z
UID:10000599-1684652400-1684706400@saltspringzencircle.org
SUMMARY:Sit'n Study
DESCRIPTION:Sittings are optional: 7am to 7:45am – Kinhin: 7:45am – 8:am – Sitting: 8am-8:45am – Break\nStudy: 9am-10am \nLeader: Michelle Reed-Three “Pillows” of Zen from “Appreciate Your Life” by Taizan Maezumi Roshi. Edited by Wendy Egyoku Nakao and Eve Myosin Marko\, Published by Shambhala Publications\, Inc.
URL:https://saltspringzencircle.org/event/sitn-study-66/
CATEGORIES:Sit 'n' Study
END:VEVENT
BEGIN:VEVENT
DTSTART;TZID=America/Vancouver:20230514T070000
DTEND;TZID=America/Vancouver:20230514T100000
DTSTAMP:20260425T082242
CREATED:20230430T232111Z
LAST-MODIFIED:20230504T201827Z
UID:10000602-1684047600-1684058400@saltspringzencircle.org
SUMMARY:Sit'n Study
DESCRIPTION:Sittings are optional: 7am to 7:45am – Kinhin: 7:45am – 8:am – Sitting: 8am-8:45am – Break\nStudy: 9am-10am \nLeader: Maggie Tuck –Endowed from the Start from “Appreciate Your Life” by Taizan Maezumi Roshi. Edited by Wendy Egyoku Nakao and Eve Myosin Marko\, Published by Shambhala Publications\, Inc.
URL:https://saltspringzencircle.org/event/sitn-study-67/
CATEGORIES:Sit 'n' Study
END:VEVENT
BEGIN:VEVENT
DTSTART;TZID=America/Vancouver:20230507T070000
DTEND;TZID=America/Vancouver:20230507T100000
DTSTAMP:20260425T082242
CREATED:20230430T170417Z
LAST-MODIFIED:20230430T170417Z
UID:10000598-1683442800-1683453600@saltspringzencircle.org
SUMMARY:Sit'n Study
DESCRIPTION:Sittings are optional: 7am to 7:45am – Kinhin: 7:45am – 8:am – Sitting: 8am-8:45am – Break\nStudy: 9am-10am \nLeader: Shirley Graham – “Appreciate Your Life”  from “Appreciate Your Life” by Taizan Maezumi Roshi. Edited by Wendy Egyoku Nakao and Eve Myosin Marko\, Published by Shambhala Publications\, Inc.
URL:https://saltspringzencircle.org/event/sitn-study-64/
CATEGORIES:Sit 'n' Study
END:VEVENT
BEGIN:VEVENT
DTSTART;TZID=America/Vancouver:20230219T090000
DTEND;TZID=America/Vancouver:20230219T100000
DTSTAMP:20260425T082242
CREATED:20221210T000653Z
LAST-MODIFIED:20230130T183150Z
UID:10000427-1676797200-1676800800@saltspringzencircle.org
SUMMARY:Sit'n Study
DESCRIPTION:Sittings are cancelled until March 12\nStudy: 9am-10am\nLeader: Judy Daylen: “The top of the head of zazen” from“You have to say something” by Dainin Katagiri. Edited by Steve Hagen. Published by Shambhala Publications Inc.
URL:https://saltspringzencircle.org/event/sitn-study-18/
CATEGORIES:Sit 'n' Study
END:VEVENT
BEGIN:VEVENT
DTSTART;TZID=America/Vancouver:20230212T090000
DTEND;TZID=America/Vancouver:20230212T100000
DTSTAMP:20260425T082242
CREATED:20221210T000559Z
LAST-MODIFIED:20230130T183044Z
UID:10000426-1676192400-1676196000@saltspringzencircle.org
SUMMARY:Sit'n Study
DESCRIPTION:Sittings are cancelled until March 12\nStudy: 9am-10am\nLeader: Michelle Reed – “The voiceless voice” from “You have to say something” by Dainin Katagiri. Edited by Steve Hagen. Published by Shambhala Publications Inc.
URL:https://saltspringzencircle.org/event/sitn-study-17/
CATEGORIES:Sit 'n' Study
END:VEVENT
BEGIN:VEVENT
DTSTART;TZID=America/Vancouver:20230205T090000
DTEND;TZID=America/Vancouver:20230205T100000
DTSTAMP:20260425T082242
CREATED:20221210T000507Z
LAST-MODIFIED:20230130T182919Z
UID:10000425-1675587600-1675591200@saltspringzencircle.org
SUMMARY:Sit'n Study
DESCRIPTION:Sittings are cancelled until March 12\nStudy: 9am-10am\nLeader: Michelle – “When you can’t move an inch” from “You have to say something” by Dainin Katagiri. Edited by Steve Hagen. Published by Shambhala Publications Inc.
URL:https://saltspringzencircle.org/event/sitn-study-16/
CATEGORIES:Sit 'n' Study
END:VEVENT
BEGIN:VEVENT
DTSTART;TZID=America/Vancouver:20230129T070000
DTEND;TZID=America/Vancouver:20230129T100000
DTSTAMP:20260425T082242
CREATED:20221222T004024Z
LAST-MODIFIED:20230105T031323Z
UID:10000531-1674975600-1674986400@saltspringzencircle.org
SUMMARY:Sit'n Study
DESCRIPTION:Sittings are optional: 7am-7:45am – Kinin 7:45am-8am – Sitting 8am-8:45am. Break \nStudy: 9am-10am \nLeader: Pieta Van Dyke – “Ordinary people” from“You have to say something” by Dainin Katagiri. Edited by Steve Hagen. Published by Shambhala Publications Inc.
URL:https://saltspringzencircle.org/event/sitn-study-15/
CATEGORIES:Sit 'n' Study
END:VEVENT
BEGIN:VEVENT
DTSTART;TZID=America/Vancouver:20230122T070000
DTEND;TZID=America/Vancouver:20230122T100000
DTSTAMP:20260425T082242
CREATED:20221222T003935Z
LAST-MODIFIED:20221230T024305Z
UID:10000530-1674370800-1674381600@saltspringzencircle.org
SUMMARY:Sit'n Study
DESCRIPTION:Sittings are optional: 7am-7:45am – Kinin 7:45am-8am – Sitting 8am-8:45am. Break \nStudy: 9am – 10am\nLeader: Simon Rompre – “Touching the source of existence” from “You have to say something” by Dainin Katagiri. Edited by Steve Hagen. Published by Shambhala Publications Inc.
URL:https://saltspringzencircle.org/event/sitn-study-14/
CATEGORIES:Sit 'n' Study
END:VEVENT
BEGIN:VEVENT
DTSTART;TZID=America/Vancouver:20230115T070000
DTEND;TZID=America/Vancouver:20230115T100000
DTSTAMP:20260425T082242
CREATED:20221222T003843Z
LAST-MODIFIED:20230102T225703Z
UID:10000529-1673766000-1673776800@saltspringzencircle.org
SUMMARY:Sit'n Study
DESCRIPTION:Sittings are optional: 7am-7:45am – Kinin 7:45am-8am – Sitting 8am-8:45am. Break. \nStudy: 9am-10am \nLeader:Judy Daylen –  “Settling in the vast openness of sky” from“You have to say something” by Dainin Katagiri. Edited by Steve Hagen. Published by Shambhala Publications Inc.
URL:https://saltspringzencircle.org/event/sitn-study-13/
CATEGORIES:Sit 'n' Study
END:VEVENT
BEGIN:VEVENT
DTSTART;TZID=America/Vancouver:20230108T070000
DTEND;TZID=America/Vancouver:20230108T100000
DTSTAMP:20260425T082242
CREATED:20221222T003749Z
LAST-MODIFIED:20221227T233529Z
UID:10000528-1673161200-1673172000@saltspringzencircle.org
SUMMARY:Sit'n Study
DESCRIPTION:Sittings are optional: 7am-7:45am – Kinin 7:45am-8am – Sitting 8am-8:45am. Break \nStudy 9am-10am\nLeader: Michelle Reed – “The flow of the moment” from“You have to say something” by Dainin Katagiri. Edited by Steve Hagen. Published by Shambhala Publications Inc.
URL:https://saltspringzencircle.org/event/sitn-study-12/
CATEGORIES:Sit 'n' Study
END:VEVENT
BEGIN:VEVENT
DTSTART;TZID=America/Vancouver:20221225T080000
DTEND;TZID=America/Vancouver:20221225T170000
DTSTAMP:20260425T082242
CREATED:20220903T191534Z
LAST-MODIFIED:20220903T191534Z
UID:10000381-1671955200-1671987600@saltspringzencircle.org
SUMMARY:No Sit’n Study
DESCRIPTION:
URL:https://saltspringzencircle.org/event/no-sitn-study-2/
CATEGORIES:Sit 'n' Study
END:VEVENT
END:VCALENDAR