BEGIN:VCALENDAR
VERSION:2.0
PRODID:-// - ECPv6.15.20//NONSGML v1.0//EN
CALSCALE:GREGORIAN
METHOD:PUBLISH
X-ORIGINAL-URL:https://saltspringzencircle.org
X-WR-CALDESC:Events for 
REFRESH-INTERVAL;VALUE=DURATION:PT1H
X-Robots-Tag:noindex
X-PUBLISHED-TTL:PT1H
BEGIN:VTIMEZONE
TZID:America/Vancouver
BEGIN:DAYLIGHT
TZOFFSETFROM:-0800
TZOFFSETTO:-0700
TZNAME:PDT
DTSTART:20210314T100000
END:DAYLIGHT
BEGIN:STANDARD
TZOFFSETFROM:-0700
TZOFFSETTO:-0800
TZNAME:PST
DTSTART:20211107T090000
END:STANDARD
BEGIN:DAYLIGHT
TZOFFSETFROM:-0800
TZOFFSETTO:-0700
TZNAME:PDT
DTSTART:20220313T100000
END:DAYLIGHT
BEGIN:STANDARD
TZOFFSETFROM:-0700
TZOFFSETTO:-0800
TZNAME:PST
DTSTART:20221106T090000
END:STANDARD
BEGIN:DAYLIGHT
TZOFFSETFROM:-0800
TZOFFSETTO:-0700
TZNAME:PDT
DTSTART:20230312T100000
END:DAYLIGHT
BEGIN:STANDARD
TZOFFSETFROM:-0700
TZOFFSETTO:-0800
TZNAME:PST
DTSTART:20231105T090000
END:STANDARD
END:VTIMEZONE
BEGIN:VEVENT
DTSTART;TZID=America/Vancouver:20221030T070000
DTEND;TZID=America/Vancouver:20221030T100000
DTSTAMP:20260425T162904
CREATED:20220903T185950Z
LAST-MODIFIED:20221006T224833Z
UID:10000374-1667113200-1667124000@saltspringzencircle.org
SUMMARY:Sit'n Study
DESCRIPTION:Sittings are optional: 7am to 7:45am – Kinhin: 7:45am – 8:am – Sitting: 8am-9:45am – Break\nStudy: 9am-10am\nHeather Martin-McNab – “Engaging Effort” from “Deep Hope” by Dianne Rizzetto
URL:https://saltspringzencircle.org/event/sitn-study-5/
CATEGORIES:Sit 'n' Study
END:VEVENT
BEGIN:VEVENT
DTSTART;TZID=America/Vancouver:20221023T080000
DTEND;TZID=America/Vancouver:20221023T170000
DTSTAMP:20260425T162904
CREATED:20220903T185758Z
LAST-MODIFIED:20220903T185758Z
UID:10000373-1666512000-1666544400@saltspringzencircle.org
SUMMARY:No Sit'n Study due to Fall Sesshin
DESCRIPTION:
URL:https://saltspringzencircle.org/event/no-sitn-study-due-to-fall-sesshin/
CATEGORIES:Sit 'n' Study
END:VEVENT
BEGIN:VEVENT
DTSTART;TZID=America/Vancouver:20221016T070000
DTEND;TZID=America/Vancouver:20221016T100000
DTSTAMP:20260425T162904
CREATED:20220903T185647Z
LAST-MODIFIED:20221016T001300Z
UID:10000372-1665903600-1665914400@saltspringzencircle.org
SUMMARY:Sit'n Study
DESCRIPTION:Sittings are optional: 7am to 7:45am – Kinhin: 7:45am – 8:am – Sitting: 8am-8:45am – Break\nStudy: 9am-10am\nShirley Graham – “See the Colour Blue” from “How to Train a Wild Elephant” by Jan Chozen Bay
URL:https://saltspringzencircle.org/event/sitn-study-4/
CATEGORIES:Sit 'n' Study
END:VEVENT
BEGIN:VEVENT
DTSTART;TZID=America/Vancouver:20221009T070000
DTEND;TZID=America/Vancouver:20221009T100000
DTSTAMP:20260425T162904
CREATED:20220903T185518Z
LAST-MODIFIED:20221006T225031Z
UID:10000371-1665298800-1665309600@saltspringzencircle.org
SUMMARY:Sit'n Study
DESCRIPTION:Sittings are optional: 7am to 7:45am – Kinhin: 7:45am – 8:am – Sitting: 8am-9:45am – Break\nStudy: 9am-10am\nSheila Dobie – “Cultivating the Silent Mind” from “The Truth of This Life” by Katherine Thanas
URL:https://saltspringzencircle.org/event/sitn-study-3/
CATEGORIES:Sit 'n' Study
END:VEVENT
BEGIN:VEVENT
DTSTART;TZID=America/Vancouver:20221002T090000
DTEND;TZID=America/Vancouver:20221002T100000
DTSTAMP:20260425T162904
CREATED:20220903T185247Z
LAST-MODIFIED:20220903T185247Z
UID:10000370-1664701200-1664704800@saltspringzencircle.org
SUMMARY:Sit'n Study
DESCRIPTION:Maggie Tuck – “A Farmer Came to See…” from “The Truth of This Life” by Katherine Thanas
URL:https://saltspringzencircle.org/event/sitn-study-2/
CATEGORIES:Sit 'n' Study
END:VEVENT
BEGIN:VEVENT
DTSTART;TZID=America/Vancouver:20220925T090000
DTEND;TZID=America/Vancouver:20220925T100000
DTSTAMP:20260425T162904
CREATED:20220903T184731Z
LAST-MODIFIED:20220903T184731Z
UID:10000369-1664096400-1664100000@saltspringzencircle.org
SUMMARY:Sit'n Study
DESCRIPTION:Julie Higginson – “Depending on Nothing” from “Subtle Sound” by Maureen Stuart
URL:https://saltspringzencircle.org/event/sitn-study/
CATEGORIES:Sit 'n' Study
END:VEVENT
BEGIN:VEVENT
DTSTART;TZID=America/Vancouver:20220918T090000
DTEND;TZID=America/Vancouver:20220918T100000
DTSTAMP:20260425T162904
CREATED:20220826T212623Z
LAST-MODIFIED:20220905T173321Z
UID:10000352-1663491600-1663495200@saltspringzencircle.org
SUMMARY:Sit 'n' Study
DESCRIPTION:September 18: Judy Daylen: – “Being Just This One” from “Seeds For a Boundless Life” by Zen Kai Blanche Hartman
URL:https://saltspringzencircle.org/event/sit-n-study/
CATEGORIES:Sit 'n' Study
END:VEVENT
BEGIN:VEVENT
DTSTART;TZID=America/Vancouver:20220911T090000
DTEND;TZID=America/Vancouver:20220911T100000
DTSTAMP:20260425T162904
CREATED:20220826T211421Z
LAST-MODIFIED:20220905T173415Z
UID:10000350-1662886800-1662890400@saltspringzencircle.org
SUMMARY:Sit’n’Study
DESCRIPTION:September 11: Marion Pape –  “Timeless Freedom” from “Each Moment Is The Universe” by Dainin Katagiri.
URL:https://saltspringzencircle.org/event/sitnstudy/
CATEGORIES:Sit 'n' Study
END:VEVENT
END:VCALENDAR