BEGIN:VCALENDAR
VERSION:2.0
PRODID:-// - ECPv6.15.20//NONSGML v1.0//EN
CALSCALE:GREGORIAN
METHOD:PUBLISH
X-ORIGINAL-URL:https://saltspringzencircle.org
X-WR-CALDESC:Events for 
REFRESH-INTERVAL;VALUE=DURATION:PT1H
X-Robots-Tag:noindex
X-PUBLISHED-TTL:PT1H
BEGIN:VTIMEZONE
TZID:America/Vancouver
BEGIN:DAYLIGHT
TZOFFSETFROM:-0800
TZOFFSETTO:-0700
TZNAME:PDT
DTSTART:20230312T100000
END:DAYLIGHT
BEGIN:STANDARD
TZOFFSETFROM:-0700
TZOFFSETTO:-0800
TZNAME:PST
DTSTART:20231105T090000
END:STANDARD
BEGIN:DAYLIGHT
TZOFFSETFROM:-0800
TZOFFSETTO:-0700
TZNAME:PDT
DTSTART:20240310T100000
END:DAYLIGHT
BEGIN:STANDARD
TZOFFSETFROM:-0700
TZOFFSETTO:-0800
TZNAME:PST
DTSTART:20241103T090000
END:STANDARD
BEGIN:DAYLIGHT
TZOFFSETFROM:-0800
TZOFFSETTO:-0700
TZNAME:PDT
DTSTART:20250309T100000
END:DAYLIGHT
BEGIN:STANDARD
TZOFFSETFROM:-0700
TZOFFSETTO:-0800
TZNAME:PST
DTSTART:20251102T090000
END:STANDARD
BEGIN:DAYLIGHT
TZOFFSETFROM:-0800
TZOFFSETTO:-0700
TZNAME:PDT
DTSTART:20260308T100000
END:DAYLIGHT
BEGIN:STANDARD
TZOFFSETFROM:-0700
TZOFFSETTO:-0800
TZNAME:PST
DTSTART:20261101T090000
END:STANDARD
END:VTIMEZONE
BEGIN:VEVENT
DTSTART;TZID=America/Vancouver:20250525T070000
DTEND;TZID=America/Vancouver:20250525T100000
DTSTAMP:20260424T005749
CREATED:20250221T002754Z
LAST-MODIFIED:20250221T004100Z
UID:10002125-1748156400-1748167200@saltspringzencircle.org
SUMMARY:Sit'n Study
DESCRIPTION:Sit’n Study: Sittings are optional. Sitting: 7am-7:45am – Kinhin: 7:45am-8am – Sitting: 8am-8:45am –  Break Study:  9am-10am Leader: TBA: Miadoro’s Falling P.283 From: The Hidden Lamp: Stories from Twenty-Five Centuries of Awakened Women\, edited by Florence Caplow and Susan Moon. Published by Wisdom Publications.
URL:https://saltspringzencircle.org/event/sitn-study-131/
CATEGORIES:Sit 'n' Study
END:VEVENT
BEGIN:VEVENT
DTSTART;TZID=America/Vancouver:20250525T070000
DTEND;TZID=America/Vancouver:20250525T100000
DTSTAMP:20260424T005749
CREATED:20250220T235844Z
LAST-MODIFIED:20250221T000651Z
UID:10001875-1748156400-1748167200@saltspringzencircle.org
SUMMARY:
DESCRIPTION:Sit’n Study: Sittings are optional. Sitting: 7am-7:45am – Kinhin: 7:45am-8am – Sitting: 8am-8:45am –  Break Study:  9am-10am Leader: TBA: Satsujo Weeps  P.179 From: The Hidden Lamp: Stories from Twenty-Five Centuries of Awakened Women\, edited by Florence Caplow and Susan Moon. Published by Wisdom Publications.
URL:https://saltspringzencircle.org/event/5085/2025-05-25/
CATEGORIES:Sit 'n' Study
END:VEVENT
BEGIN:VEVENT
DTSTART;TZID=America/Vancouver:20250518T070000
DTEND;TZID=America/Vancouver:20250518T100000
DTSTAMP:20260424T005749
CREATED:20250221T000416Z
LAST-MODIFIED:20250504T040754Z
UID:10002123-1747551600-1747562400@saltspringzencircle.org
SUMMARY:Sit'n Study
DESCRIPTION:Sit’n Study: Sittings are optional. Sitting: 7am-7:45am – Kinhin: 7:45am-8am – Sitting: 8am-8:45am –  Break Study:  9am-10am Leader: Sheila Dobie:Zongchi and Bodhidharma’s Flesh P.125 From: The Hidden Lamp: Stories from Twenty-Five Centuries of Awakened Women\, edited by Florence Caplow and Susan Moon. Published by Wisdom Publications.
URL:https://saltspringzencircle.org/event/sitn-study-129/
CATEGORIES:Sit 'n' Study
END:VEVENT
BEGIN:VEVENT
DTSTART;TZID=America/Vancouver:20250518T070000
DTEND;TZID=America/Vancouver:20250518T100000
DTSTAMP:20260424T005749
CREATED:20250220T235844Z
LAST-MODIFIED:20250221T000651Z
UID:10001874-1747551600-1747562400@saltspringzencircle.org
SUMMARY:
DESCRIPTION:Sit’n Study: Sittings are optional. Sitting: 7am-7:45am – Kinhin: 7:45am-8am – Sitting: 8am-8:45am –  Break Study:  9am-10am Leader: TBA: Satsujo Weeps  P.179 From: The Hidden Lamp: Stories from Twenty-Five Centuries of Awakened Women\, edited by Florence Caplow and Susan Moon. Published by Wisdom Publications.
URL:https://saltspringzencircle.org/event/5085/2025-05-18/
CATEGORIES:Sit 'n' Study
END:VEVENT
BEGIN:VEVENT
DTSTART;TZID=America/Vancouver:20250511T070000
DTEND;TZID=America/Vancouver:20250511T100000
DTSTAMP:20260424T005749
CREATED:20250221T002043Z
LAST-MODIFIED:20250425T012040Z
UID:10002124-1746946800-1746957600@saltspringzencircle.org
SUMMARY:Sit'n Study
DESCRIPTION:Sit’n Study: Sittings are optional. Sitting: 7am-7:45am – Kinhin: 7:45am-8am – Sitting: 8am-8:45am –  Break Study:  9am-10am Leader: Simon: Louise Collects Eggs P.125 From: The Book of Householder Koans- Waking Up in the Land of Attachments by Eve Myonen Marko and Wendy Egyoku Nakao. Published by Monkfish Book Publishing Co.
URL:https://saltspringzencircle.org/event/sitn-study-130/
CATEGORIES:Sit 'n' Study
END:VEVENT
BEGIN:VEVENT
DTSTART;TZID=America/Vancouver:20250511T070000
DTEND;TZID=America/Vancouver:20250511T100000
DTSTAMP:20260424T005749
CREATED:20250220T235844Z
LAST-MODIFIED:20250221T000651Z
UID:10001873-1746946800-1746957600@saltspringzencircle.org
SUMMARY:
DESCRIPTION:Sit’n Study: Sittings are optional. Sitting: 7am-7:45am – Kinhin: 7:45am-8am – Sitting: 8am-8:45am –  Break Study:  9am-10am Leader: TBA: Satsujo Weeps  P.179 From: The Hidden Lamp: Stories from Twenty-Five Centuries of Awakened Women\, edited by Florence Caplow and Susan Moon. Published by Wisdom Publications.
URL:https://saltspringzencircle.org/event/5085/2025-05-11/
CATEGORIES:Sit 'n' Study
END:VEVENT
BEGIN:VEVENT
DTSTART;TZID=America/Vancouver:20250504T070000
DTEND;TZID=America/Vancouver:20250504T100000
DTSTAMP:20260424T005749
CREATED:20250221T000937Z
LAST-MODIFIED:20250330T043739Z
UID:10001872-1746342000-1746352800@saltspringzencircle.org
SUMMARY:Sit'n Study
DESCRIPTION:Sit’n Study: Sittings are optional. Sitting: 7am-7:45am – Kinhin: 7:45am-8am – Sitting: 8am-8:45am –  Break Study:  9am-10am Leader: Shirley Graham: Satsujo Weeps  P.179 From: The Hidden Lamp: Stories from Twenty-Five Centuries of Awakened Women\, edited by Florence Caplow and Susan Moon. Published by Wisdom Publications.
URL:https://saltspringzencircle.org/event/5085-2/
CATEGORIES:Sit 'n' Study
END:VEVENT
BEGIN:VEVENT
DTSTART;TZID=America/Vancouver:20250427T070000
DTEND;TZID=America/Vancouver:20250427T100000
DTSTAMP:20260424T005749
CREATED:20241112T171804Z
LAST-MODIFIED:20250403T180012Z
UID:10001345-1745737200-1745748000@saltspringzencircle.org
SUMMARY:Sit'n Study
DESCRIPTION:Sit’n Study: Sittings are optional. Sitting: 7am-7:45am – Kinhin: 7:45am-8am – Sitting: 8am-8:45am –  Break Study:  9am-10am Leader: Bert Lamsa  Martin: The Suffering of the World P.160 From: Book of Householder Koans- Waking Up in the Land of Attachments by Eve Myonen Marko and Wendy Egyoku Nakao. Published by Monkfish Book Publishing Co.
URL:https://saltspringzencircle.org/event/sitn-study-128/
CATEGORIES:Sit 'n' Study
END:VEVENT
BEGIN:VEVENT
DTSTART;TZID=America/Vancouver:20250420T070000
DTEND;TZID=America/Vancouver:20250420T100000
DTSTAMP:20260424T005749
CREATED:20241112T171630Z
LAST-MODIFIED:20250403T180122Z
UID:10001344-1745132400-1745143200@saltspringzencircle.org
SUMMARY:Sit'n Study
DESCRIPTION:Sit’n Study: Sittings are optional. Sitting: 7am-7:45am – Kinhin: 7:45am-8am – Sitting: 8am-8:45am –  Break Study:  9am-10am Leader: Doug Reid: Punna’s Offering P.306 From: The Hidden Lamp: Stories from Twenty-Five Centuries of Awakened Women\, edited by Florence Caplow and Susan Moon. Published by Wisdom Publications.
URL:https://saltspringzencircle.org/event/sitn-study-127/
CATEGORIES:Sit 'n' Study
END:VEVENT
BEGIN:VEVENT
DTSTART;TZID=America/Vancouver:20250413T070000
DTEND;TZID=America/Vancouver:20250413T100000
DTSTAMP:20260424T005749
CREATED:20241112T171329Z
LAST-MODIFIED:20250307T192904Z
UID:10001343-1744527600-1744538400@saltspringzencircle.org
SUMMARY:Sit'n Study
DESCRIPTION:Sit’n Study: Sittings are optional. Sitting: 7am-7:45am – Kinhin: 7:45am-8am – Sitting: 8am-8:45am –  Break Study:  9am-10am Leader:  Kaishin Rory: Ryudo: Yesterday and Today P.154 From The Book of Householder Koans – Waking Up in the Land of Attachments by Eve Myonen Marko and Wendy Egyoku Nakao. Published by Monkfish Book Publishing Co.
URL:https://saltspringzencircle.org/event/sitn-study-126/
CATEGORIES:Sit 'n' Study
END:VEVENT
BEGIN:VEVENT
DTSTART;TZID=America/Vancouver:20250406T070000
DTEND;TZID=America/Vancouver:20250406T100000
DTSTAMP:20260424T005749
CREATED:20241112T171209Z
LAST-MODIFIED:20250330T043043Z
UID:10001342-1743922800-1743933600@saltspringzencircle.org
SUMMARY:Sit'n Study
DESCRIPTION:Sit’n Study: Sittings are optional. Sitting: 7am-7:45am – Kinhin: 7:45am-8am – Sitting: 8am-8:45am –  Break Study:  9am-10am Leader: Chris Smart: Patacara’s Presence of Mind  P.197 From: The Hidden Lamp: Stories from Twenty-Five Centuries of Awakened Women\, edited by Florence Caplow and Susan Moon. Published by Wisdom Publications.
URL:https://saltspringzencircle.org/event/sitn-study-125/
CATEGORIES:Sit 'n' Study
END:VEVENT
BEGIN:VEVENT
DTSTART;TZID=America/Vancouver:20250330T070000
DTEND;TZID=America/Vancouver:20250330T100000
DTSTAMP:20260424T005749
CREATED:20241112T171032Z
LAST-MODIFIED:20250226T004436Z
UID:10001341-1743318000-1743328800@saltspringzencircle.org
SUMMARY:Sit'n Study
DESCRIPTION:Sit’n Study: Sittings are optional. Sitting: 7am-7:45am – Kinhin: 7:45am-8am – Sitting: 8am-8:45am –  Break Study:  9am-10am Bert Lamsa: TBA: “Shishin: Golden Buddha” P.221  From The Book of Householder Koans – Waking Up in the Land of Attachments by Eve Myonen Marko and Wendy Egyoku Nakao. Published by Monkfish Book Publishing Co.
URL:https://saltspringzencircle.org/event/sitn-study-124/
CATEGORIES:Sit 'n' Study
END:VEVENT
BEGIN:VEVENT
DTSTART;TZID=America/Vancouver:20250323T070000
DTEND;TZID=America/Vancouver:20250323T100000
DTSTAMP:20260424T005749
CREATED:20241112T170933Z
LAST-MODIFIED:20250107T211055Z
UID:10001340-1742713200-1742724000@saltspringzencircle.org
SUMMARY:Sit'n Study
DESCRIPTION:Sit’n Study: Sittings are optional. Sitting: 7am-7:45am – Kinhin: 7:45am-8am – Sitting: 8am-8:45am –  Break Study:  9am-10am Leader: Sheila Dobie: “Christina: How Pathetic Am I” P.209. From The Book of Householder Koans – Waking Up in the Land of Attachments by Eve Myonen Marko and Wendy Egyoku Nakao. Published by Monkfish Book Publishing Co.
URL:https://saltspringzencircle.org/event/sitn-study-123/
CATEGORIES:Sit 'n' Study
END:VEVENT
BEGIN:VEVENT
DTSTART;TZID=America/Vancouver:20250316T070000
DTEND;TZID=America/Vancouver:20250316T100000
DTSTAMP:20260424T005749
CREATED:20241112T170629Z
LAST-MODIFIED:20250223T143907Z
UID:10001339-1742108400-1742119200@saltspringzencircle.org
SUMMARY:Sit'n Study
DESCRIPTION:Sit’n Study: Sittings are optional. Sitting: 7am-7:45am – Kinhin: 7:45am-8am – Sitting: 8am-8:45am –  Break Study:  9am-10am Leader: Mary Reher –“Vivianne: Blaming God” P.202. From The Book of Householder Koans:  Waking Up in the Land of Attachments by Eve Myonen Marko\, Wendy Egyoku Nakao. Monkfish Book Publishing Company\, Rhinebeck\, New York
URL:https://saltspringzencircle.org/event/sitn-study-122/
CATEGORIES:Sit 'n' Study
END:VEVENT
BEGIN:VEVENT
DTSTART;TZID=America/Vancouver:20250309T070000
DTEND;TZID=America/Vancouver:20250309T100000
DTSTAMP:20260424T005749
CREATED:20241112T170450Z
LAST-MODIFIED:20250107T210822Z
UID:10001338-1741503600-1741514400@saltspringzencircle.org
SUMMARY:Sit'n Study
DESCRIPTION:Sit’n Study: Sittings are optional. Sitting: 7am-7:45am – Kinhin: 7:45am-8am – Sitting: 8am-8:45am –  Break Study:  9am-10am Leader: Maggie Tuck:  “Enju: The Infinite Black Abyss” P.190. From The Book of Householder Koans – Waking Up in the Land of Attachments by Eve Myonen Marko and Wendy Egyoku Nakao. Published by Monkfish Book Publishing Co.
URL:https://saltspringzencircle.org/event/sitn-study-121/
CATEGORIES:Sit 'n' Study
END:VEVENT
BEGIN:VEVENT
DTSTART;TZID=America/Vancouver:20250302T070000
DTEND;TZID=America/Vancouver:20250302T100000
DTSTAMP:20260424T005749
CREATED:20241112T170308Z
LAST-MODIFIED:20250220T055002Z
UID:10001337-1740898800-1740909600@saltspringzencircle.org
SUMMARY:Sit'n Study
DESCRIPTION:Sit’n Study: Sittings are optional. Sitting: 7am-7:45am – Kinhin: 7:45am-8am – Sitting: 8am-8:45am –  Break Study:  9am-10am Leader:Simon Rompre –“Ryonnen Scars Her Face”  P.117. From The Hidden Lamp: Stories from Twenty-Five Centuries of Awakened Women\, edited by Florence Caplow and Susan Moon. Published by Wisdom Publications.
URL:https://saltspringzencircle.org/event/sitn-study-120/
CATEGORIES:Sit 'n' Study
END:VEVENT
BEGIN:VEVENT
DTSTART;TZID=America/Vancouver:20250223T080000
DTEND;TZID=America/Vancouver:20250223T100000
DTSTAMP:20260424T005749
CREATED:20241112T170129Z
LAST-MODIFIED:20241209T175522Z
UID:10001336-1740297600-1740304800@saltspringzencircle.org
SUMMARY:Sit'n Study
DESCRIPTION:Sit’n Study: Sittings are optional. Sitting: 7am-7:45am – Kinhin: 7:45am-8am – Sitting: 8am-8:45am –  Break Study:  9am-10am Leader: Chris Smart:  “Karen: The Old Woman Meets a Fish” P.171. From The Book of Householder Koans – Waking Up in the Land of Attachments by Eve Myonen Marko and Wendy Egyoku Nakao. Published by Monkfish Book Publishing Co.
URL:https://saltspringzencircle.org/event/sitn-study-119/
CATEGORIES:Sit 'n' Study
END:VEVENT
BEGIN:VEVENT
DTSTART;TZID=America/Vancouver:20250216T070000
DTEND;TZID=America/Vancouver:20250216T100000
DTSTAMP:20260424T005749
CREATED:20241112T165923Z
LAST-MODIFIED:20241209T175443Z
UID:10001335-1739689200-1739700000@saltspringzencircle.org
SUMMARY:Sit'n Study
DESCRIPTION:Sit’n Study: Sittings are optional. Sitting: 7am-7:45am – Kinhin: 7:45am-8am – Sitting: 8am-8:45am –  Break Study:  9am-10am Leader: Michelle Reed – “Punnika and the Brahman’s Purification” P.93. From The Hidden Lamp: Stories from Twenty-Five Centuries of Awakened Women\, edited by Florence Caplow and Susan Moon. Published by Wisdom Publications.
URL:https://saltspringzencircle.org/event/sitn-study-118/
CATEGORIES:Sit 'n' Study
END:VEVENT
BEGIN:VEVENT
DTSTART;TZID=America/Vancouver:20250209T070000
DTEND;TZID=America/Vancouver:20250209T100000
DTSTAMP:20260424T005749
CREATED:20241112T165721Z
LAST-MODIFIED:20250107T210539Z
UID:10001334-1739084400-1739095200@saltspringzencircle.org
SUMMARY:Sit'n Study
DESCRIPTION:Sit’n Study: Sittings are optional. Sitting: 7am-7:45am – Kinhin: 7:45am-8am – Sitting: 8am-8:45am –  Break Study:  9am-10am Leader: Heather “Emma: Pocket of Love” P.46. From The Book of Householder Koans – Waking Up in the Land of Attachments by Eve Myonen Marko and Wendy Egyoku Nakao. Published by Monkfish Book Publishing Co.
URL:https://saltspringzencircle.org/event/sitn-study-117/
CATEGORIES:Sit 'n' Study
END:VEVENT
BEGIN:VEVENT
DTSTART;TZID=America/Vancouver:20250202T070000
DTEND;TZID=America/Vancouver:20250202T100000
DTSTAMP:20260424T005749
CREATED:20241101T201138Z
LAST-MODIFIED:20250107T210422Z
UID:10001332-1738479600-1738490400@saltspringzencircle.org
SUMMARY:Sit'n Study
DESCRIPTION:Sit’n Study: Sittings are optional. Sitting: 7am-7:45am – Kinhin: 7:45am-8am – Sitting: 8am-8:45am –  Break Study:  9am-10am Leader:Shirley Graham –“Chen’s Mountain Flowers” P.57 from The Hidden Lamp: Stories from Twenty-Five Centuries of Awakened Women edited by Florence Caplow and Susan Moon – Wisdom Publications 2013
URL:https://saltspringzencircle.org/event/sitn-study-116/
CATEGORIES:Sit 'n' Study
END:VEVENT
BEGIN:VEVENT
DTSTART;TZID=America/Vancouver:20250126T070000
DTEND;TZID=America/Vancouver:20250126T100000
DTSTAMP:20260424T005749
CREATED:20241101T201006Z
LAST-MODIFIED:20241209T175409Z
UID:10001331-1737874800-1737885600@saltspringzencircle.org
SUMMARY:Sit'n Study
DESCRIPTION:Sit’n Study: Sittings are optional. Sitting: 7am-7:45am – Kinhin: 7:45am-8am – Sitting: 8am-8:45am –  Break Study:  9am-10am Leader: Bert Lamsa: “Nena Cares for her Brother” P.13 from The Book of Householder Koans – Waking Up in the Land of Attachments by Eve Myonen Marko and Wendy Egyoku Nakao. Published by Monkfish Book Publishing Co.
URL:https://saltspringzencircle.org/event/sitn-study-115/
CATEGORIES:Sit 'n' Study
END:VEVENT
BEGIN:VEVENT
DTSTART;TZID=America/Vancouver:20250119T070000
DTEND;TZID=America/Vancouver:20250119T100000
DTSTAMP:20260424T005749
CREATED:20241101T200859Z
LAST-MODIFIED:20250107T210229Z
UID:10001330-1737270000-1737280800@saltspringzencircle.org
SUMMARY:Sit'n Study
DESCRIPTION:Sit’n Study: Sittings are optional. Sitting: 7am-7:45am – Kinhin: 7:45am-8am – Sitting: 8am-8:45am –  Break Study:  9am-10am Leader:Zona – “Quyuan Gives Birth” P.54 from The Hidden Lamp: Stories from Twenty-Five Centuries of Awakened Women edited by Florence Caplow and Susan Moon – Wisdom Publications 2013
URL:https://saltspringzencircle.org/event/sitn-study-114/
CATEGORIES:Sit 'n' Study
END:VEVENT
BEGIN:VEVENT
DTSTART;TZID=America/Vancouver:20250112T070000
DTEND;TZID=America/Vancouver:20250112T100000
DTSTAMP:20260424T005749
CREATED:20241101T200742Z
LAST-MODIFIED:20250107T210129Z
UID:10001329-1736665200-1736676000@saltspringzencircle.org
SUMMARY:Sit'n Study
DESCRIPTION:Sit’n Study: Sittings are optional. Sitting: 7am-7:45am – Kinhin: 7:45am-8am – Sitting: 8am-8:45am –  Break Study:  9am-10am Leader:Rory Kaishin: “Laurie: This Is It” P.9 from The Book of Householder Koans – Waking Up in the Land of Attachments by Eve Myonen Marko and Wendy Egyoku Nakao. Published by Monkfish Book Publishing Co.
URL:https://saltspringzencircle.org/event/sitn-study-113/
CATEGORIES:Sit 'n' Study
END:VEVENT
BEGIN:VEVENT
DTSTART;TZID=America/Vancouver:20250105T070000
DTEND;TZID=America/Vancouver:20250105T100000
DTSTAMP:20260424T005749
CREATED:20241101T200626Z
LAST-MODIFIED:20241209T175205Z
UID:10001328-1736060400-1736071200@saltspringzencircle.org
SUMMARY:Sit'n Study
DESCRIPTION:Sit’n Study: Sittings are optional. Sitting: 7am-7:45am – Kinhin: 7:45am-8am – Sitting: 8am-8:45am –  Break Study:  9am-10am Leader:Doug Reid – “The Old Woman of Mount Wutai”   P.17 from The Hidden Lamp: Stories from Twenty-Five Centuries of Awakened Women edited by Florence Caplow and Susan Moon – Wisdom Publications 2013
URL:https://saltspringzencircle.org/event/sitn-study-112/
CATEGORIES:Sit 'n' Study
END:VEVENT
BEGIN:VEVENT
DTSTART;TZID=America/Vancouver:20241215T070000
DTEND;TZID=America/Vancouver:20241215T100000
DTSTAMP:20260424T005749
CREATED:20240730T191719Z
LAST-MODIFIED:20240823T224041Z
UID:10001327-1734246000-1734256800@saltspringzencircle.org
SUMMARY:Sit'n Study
DESCRIPTION:Sit’n Study: Sittings are optional. Sitting: 7am-7:45am – Kinhin: 7:45am-8am – Sitting: 8am-8:45am – Break\nLeader: Maggie Tuck: The Book of Householder Koans: Ando Feeds Her Hungry Spirit P.256
URL:https://saltspringzencircle.org/event/sitn-study-111/
CATEGORIES:Sit 'n' Study
END:VEVENT
BEGIN:VEVENT
DTSTART;TZID=America/Vancouver:20241208T070000
DTEND;TZID=America/Vancouver:20241208T100000
DTSTAMP:20260424T005749
CREATED:20240730T191231Z
LAST-MODIFIED:20241004T173605Z
UID:10001326-1733641200-1733652000@saltspringzencircle.org
SUMMARY:Sit'n Study
DESCRIPTION:Sit’n Study: Sittings are optional. Sitting: 7am-7:45am – Kinhin: 7:45am-8am – Sitting: 8am-8:45am – Break\nLeader: Mary Reher: The Book of Householder Koans: Jinen: Daniel’s Teeth P.108
URL:https://saltspringzencircle.org/event/sitn-study-110/
CATEGORIES:Sit 'n' Study
END:VEVENT
BEGIN:VEVENT
DTSTART;TZID=America/Vancouver:20241201T070000
DTEND;TZID=America/Vancouver:20241201T100000
DTSTAMP:20260424T005749
CREATED:20240730T190706Z
LAST-MODIFIED:20241128T021643Z
UID:10001325-1733036400-1733047200@saltspringzencircle.org
SUMMARY:Sit'n Study
DESCRIPTION:Sit’n Study: Sittings are optional. Sitting: 7am-7:45am – Kinhin: 7:45am-8am – Sitting: 8am-8:45am – Break\nLeader: Rory MacDonald: The Book of Householder Koans: Myoki: Opening P.117
URL:https://saltspringzencircle.org/event/sitn-study-109/
CATEGORIES:Sit 'n' Study
END:VEVENT
BEGIN:VEVENT
DTSTART;TZID=America/Vancouver:20241124T070000
DTEND;TZID=America/Vancouver:20241124T100000
DTSTAMP:20260424T005749
CREATED:20240730T190007Z
LAST-MODIFIED:20241030T204957Z
UID:10001324-1732431600-1732442400@saltspringzencircle.org
SUMMARY:Sit'n Study
DESCRIPTION:Sit’n Study: Sittings are optional. Sitting: 7am-7:45am – Kinhin: 7:45am-8am – Sitting: 8am-8:45am – Break\nLeader: Simon Rompre: The Book of Householder Koans: Esther: Me\, My Daughter \,and Five Men P.87
URL:https://saltspringzencircle.org/event/sitn-study-108/
CATEGORIES:Sit 'n' Study
END:VEVENT
BEGIN:VEVENT
DTSTART;TZID=America/Vancouver:20241117T070000
DTEND;TZID=America/Vancouver:20241117T100000
DTSTAMP:20260424T005749
CREATED:20240730T185219Z
LAST-MODIFIED:20241006T202137Z
UID:10001323-1731826800-1731837600@saltspringzencircle.org
SUMMARY:Sit''n Study followed by SSZC Annual General Meeting
DESCRIPTION:Sit’n Study: Sittings are optional. Sitting: 7am-7:45am – Kinhin: 7:45am-8am – Sitting: 8am-8:45am – Break\nLeader: Heather Martin-McNab: The Hidden Lamp: Stories from Twenty-Five Centuries of Awakened Women edited by Florence Caplow and Susan Moon – Maylie Scott Meets Loneliness P.144
URL:https://saltspringzencircle.org/event/sitn-study-107/
CATEGORIES:Sit 'n' Study
END:VEVENT
BEGIN:VEVENT
DTSTART;TZID=America/Vancouver:20241110T070000
DTEND;TZID=America/Vancouver:20241110T100000
DTSTAMP:20260424T005749
CREATED:20240730T184453Z
LAST-MODIFIED:20241030T173402Z
UID:10001322-1731222000-1731232800@saltspringzencircle.org
SUMMARY:Sit'n Study
DESCRIPTION:Sit’n Study: Sittings are optional. Sitting: 7am-7:45am – Kinhin: 7:45am-8am – Sitting: 8am-8:45am – Break\nLeader: Kōya Clare Mathias: The Book of Householder Koans: Waking up in the Land of Attachments by Eve Myonen Marko\, Wendy Egyoku Nakao – Kit’s New Practice P.233
URL:https://saltspringzencircle.org/event/sitn-study-106/
CATEGORIES:Sit 'n' Study
END:VEVENT
END:VCALENDAR