BEGIN:VCALENDAR
VERSION:2.0
PRODID:-// - ECPv6.15.20//NONSGML v1.0//EN
CALSCALE:GREGORIAN
METHOD:PUBLISH
X-ORIGINAL-URL:https://saltspringzencircle.org
X-WR-CALDESC:Events for 
REFRESH-INTERVAL;VALUE=DURATION:PT1H
X-Robots-Tag:noindex
X-PUBLISHED-TTL:PT1H
BEGIN:VTIMEZONE
TZID:America/Vancouver
BEGIN:DAYLIGHT
TZOFFSETFROM:-0800
TZOFFSETTO:-0700
TZNAME:PDT
DTSTART:20220313T100000
END:DAYLIGHT
BEGIN:STANDARD
TZOFFSETFROM:-0700
TZOFFSETTO:-0800
TZNAME:PST
DTSTART:20221106T090000
END:STANDARD
BEGIN:DAYLIGHT
TZOFFSETFROM:-0800
TZOFFSETTO:-0700
TZNAME:PDT
DTSTART:20230312T100000
END:DAYLIGHT
BEGIN:STANDARD
TZOFFSETFROM:-0700
TZOFFSETTO:-0800
TZNAME:PST
DTSTART:20231105T090000
END:STANDARD
BEGIN:DAYLIGHT
TZOFFSETFROM:-0800
TZOFFSETTO:-0700
TZNAME:PDT
DTSTART:20240310T100000
END:DAYLIGHT
BEGIN:STANDARD
TZOFFSETFROM:-0700
TZOFFSETTO:-0800
TZNAME:PST
DTSTART:20241103T090000
END:STANDARD
BEGIN:DAYLIGHT
TZOFFSETFROM:-0800
TZOFFSETTO:-0700
TZNAME:PDT
DTSTART:20250309T100000
END:DAYLIGHT
BEGIN:STANDARD
TZOFFSETFROM:-0700
TZOFFSETTO:-0800
TZNAME:PST
DTSTART:20251102T090000
END:STANDARD
END:VTIMEZONE
BEGIN:VEVENT
DTSTART;TZID=America/Vancouver:20240616T070000
DTEND;TZID=America/Vancouver:20240616T100000
DTSTAMP:20260424T120133
CREATED:20240210T164653Z
LAST-MODIFIED:20240609T185338Z
UID:10001303-1718521200-1718532000@saltspringzencircle.org
SUMMARY:Sit'n Study
DESCRIPTION:Sit’n Study: Sittings are optional. Sitting: 7am-7:45am – Kinhin: 7:45am-8am – Sitting: 8am-8:45am – Break\nLeader: Pieta VanDyke – “Loving the World As It Is” from The Truth of This Life by Katherine Thanas (Shambhala Publications Inc. 2018) \n\n\n\n\n 
URL:https://saltspringzencircle.org/event/sitn-study-88/
CATEGORIES:Sit 'n' Study
END:VEVENT
BEGIN:VEVENT
DTSTART;TZID=America/Vancouver:20240609T070000
DTEND;TZID=America/Vancouver:20240609T100000
DTSTAMP:20260424T120133
CREATED:20240210T164256Z
LAST-MODIFIED:20240418T174658Z
UID:10001302-1717916400-1717927200@saltspringzencircle.org
SUMMARY:Sit'n Study
DESCRIPTION:Sit’n Study: Sittings are optional. Sitting: 7am-7:45am – Kinhin: 7:45am-8am – Sitting: 8am-8:45am – Break\nLeader: Sheila Dobie – “Seeing Impermanence Itself” from The Truth of This Life by Katherine Thanas (Shambhala Publications Inc. 2018) \n\n\n\n\n 
URL:https://saltspringzencircle.org/event/sitn-study-87/
CATEGORIES:Sit 'n' Study
END:VEVENT
BEGIN:VEVENT
DTSTART;TZID=America/Vancouver:20240602T070000
DTEND;TZID=America/Vancouver:20240602T100000
DTSTAMP:20260424T120133
CREATED:20240210T163446Z
LAST-MODIFIED:20240507T230332Z
UID:10001301-1717311600-1717322400@saltspringzencircle.org
SUMMARY:Sit'n Study
DESCRIPTION:Sit’n Study: Sittings are optional. Sitting: 7am-7:45am – Kinhin: 7:45am-8am – Sitting: 8am-8:45am – Break\nLeader: Mary Reher – “The True Ch’ien” from The Truth of This Life by Katherine Thanas (Shambhala Publications Inc. 2018)
URL:https://saltspringzencircle.org/event/sitn-study-86/
CATEGORIES:Sit 'n' Study
END:VEVENT
BEGIN:VEVENT
DTSTART;TZID=America/Vancouver:20240526T070000
DTEND;TZID=America/Vancouver:20240526T100000
DTSTAMP:20260424T120133
CREATED:20240131T224032Z
LAST-MODIFIED:20240418T174541Z
UID:10001300-1716706800-1716717600@saltspringzencircle.org
SUMMARY:Sit'n Study
DESCRIPTION:Sit’n Study: Sittings are optional. Sitting: 7am-7:45am – Kinhin: 7:45am-8am – Sitting: 8am-8:45am – Break\nLeader: Doug Reid –“It’s All in the Details” from The Truth of This Life by Katherine Thanas (Shambhala Publications Inc. 2018)
URL:https://saltspringzencircle.org/event/sitn-study-85/
CATEGORIES:Sit 'n' Study
END:VEVENT
BEGIN:VEVENT
DTSTART;TZID=America/Vancouver:20240519T070000
DTEND;TZID=America/Vancouver:20240519T100000
DTSTAMP:20260424T120133
CREATED:20240131T223719Z
LAST-MODIFIED:20240422T232549Z
UID:10001299-1716102000-1716112800@saltspringzencircle.org
SUMMARY:Sit'n Study
DESCRIPTION:Sit’n Study: Sittings are optional. Sitting: 7am-7:45am – Kinhin: 7:45am-8am – Sitting: 8am-8:45am – Break\nLeader: Rory MacDonald –“How the Universe Thinks” from The Truth of This Life by Katherine Thanas (Shambhala Publications Inc. 2018)
URL:https://saltspringzencircle.org/event/sitn-study-84/
CATEGORIES:Sit 'n' Study
END:VEVENT
BEGIN:VEVENT
DTSTART;TZID=America/Vancouver:20240512T070000
DTEND;TZID=America/Vancouver:20240512T100000
DTSTAMP:20260424T120133
CREATED:20240131T215603Z
LAST-MODIFIED:20240419T044007Z
UID:10001298-1715497200-1715508000@saltspringzencircle.org
SUMMARY:Sit'n Study
DESCRIPTION:Sit’n Study: Sittings are optional. Sitting: 7am-7:45am – Kinhin: 7:45am-8am – Sitting: 8am-8:45am – Break\nLeader: Chris Smart –“The Oneness of Two” from The Truth of This Life by Katherine Thanas (Shambhala Publications Inc. 2018)
URL:https://saltspringzencircle.org/event/sitn-study-83/
CATEGORIES:Sit 'n' Study
END:VEVENT
BEGIN:VEVENT
DTSTART;TZID=America/Vancouver:20240505T070000
DTEND;TZID=America/Vancouver:20240505T100000
DTSTAMP:20260424T120133
CREATED:20240131T215238Z
LAST-MODIFIED:20240418T174619Z
UID:10001297-1714892400-1714903200@saltspringzencircle.org
SUMMARY:Sit'n Study
DESCRIPTION:Sit’n Study: Sittings are optional. Sitting: 7am-7:45am – Kinhin: 7:45am-8am – Sitting: 8am-8:45am – Break\nLeader: Judy Daylen – “Depth of Mind (A Two-Day Retreat)” from The Truth of This Life by Katherine Thanas (Shambhala Publications Inc. 2018)
URL:https://saltspringzencircle.org/event/sitn-study-82/
CATEGORIES:Sit 'n' Study
END:VEVENT
BEGIN:VEVENT
DTSTART;TZID=America/Vancouver:20240428T070000
DTEND;TZID=America/Vancouver:20240428T100000
DTSTAMP:20260424T120133
CREATED:20240130T200021Z
LAST-MODIFIED:20240418T174229Z
UID:10001296-1714287600-1714298400@saltspringzencircle.org
SUMMARY:Sit'n Study
DESCRIPTION:Sit’n Study: Sittings are optional. Sitting: 7am-7:45am – Kinhin: 7:45am-8am – Sitting: 8am-8:45am – Break\nLeader: Michelle Reed Study: “What is the Flavor of Plain?” from The Truth of This Life by Katherine Thanas (Shambhala Publications Inc. 2018)
URL:https://saltspringzencircle.org/event/sitn-study-81/
CATEGORIES:Sit 'n' Study
END:VEVENT
BEGIN:VEVENT
DTSTART;TZID=America/Vancouver:20240421T070000
DTEND;TZID=America/Vancouver:20240421T100000
DTSTAMP:20260424T120133
CREATED:20240130T195007Z
LAST-MODIFIED:20240311T145833Z
UID:10001295-1713682800-1713693600@saltspringzencircle.org
SUMMARY:Sit'n Study
DESCRIPTION:Sit’n Study: Sittings are optional. Sitting: 7am-7:45am – Kinhin: 7:45am-8am – Sitting: 8am-8:45am – Break\nLeader: Simon Rompre – Study: “Catch the Body as it Flies” from The Truth of This Life by Katherine Thanas (Shambhala Publishing Inc. 2018) 
URL:https://saltspringzencircle.org/event/sitn-study-80/
CATEGORIES:Sit 'n' Study
END:VEVENT
BEGIN:VEVENT
DTSTART;TZID=America/Vancouver:20240414T070000
DTEND;TZID=America/Vancouver:20240414T100000
DTSTAMP:20260424T120133
CREATED:20240130T194536Z
LAST-MODIFIED:20240311T145749Z
UID:10001294-1713078000-1713088800@saltspringzencircle.org
SUMMARY:Sit'n Study
DESCRIPTION:Sit’n Study: Sittings are optional. Sitting: 7am-7:45am – Kinhin: 7:45am-8am – Sitting: 8am-8:45am – Break\nLeader:Douglas Reid – Study: “Cultivating the Silent Mind” from The Truth of This Life by Katherine Thanas (Shambhala Publishing Inc. 2018) 
URL:https://saltspringzencircle.org/event/sitn-study-79/
CATEGORIES:Sit 'n' Study
END:VEVENT
BEGIN:VEVENT
DTSTART;TZID=America/Vancouver:20240407T070000
DTEND;TZID=America/Vancouver:20240407T100000
DTSTAMP:20260424T120133
CREATED:20240130T194228Z
LAST-MODIFIED:20240311T145708Z
UID:10001293-1712473200-1712484000@saltspringzencircle.org
SUMMARY:Sit'n Study
DESCRIPTION:Sit’n Study: Sittings are optional. Sitting: 7am-7:45am – Kinhin: 7:45am-8am – Sitting: 8am-8:45am – Break\nLeader:Bert Lamsa – Study: “What is the Meaning of a Rose?” from The Truth of This Life by Katherine Thanas (Shambhala Publishing Inc. 2018) 
URL:https://saltspringzencircle.org/event/sitn-study-78/
CATEGORIES:Sit 'n' Study
END:VEVENT
BEGIN:VEVENT
DTSTART;TZID=America/Vancouver:20240331T070000
DTEND;TZID=America/Vancouver:20240331T100000
DTSTAMP:20260424T120133
CREATED:20240130T193802Z
LAST-MODIFIED:20240130T195054Z
UID:10001292-1711868400-1711879200@saltspringzencircle.org
SUMMARY:Sit'n Study
DESCRIPTION:Sit’n Study: Sittings are optional. Sitting: 7am-7:45am – Kinhin: 7:45am-8am – Sitting: 8am-8:45am – Break\nLeader: Rory MacDonald – Study: “To Meet That Which We Cannot Know” from The Truth of This Life by Katherine Thanas (Shambhala Publishing Inc. 2018) 
URL:https://saltspringzencircle.org/event/sitn-study-77/
CATEGORIES:Sit 'n' Study
END:VEVENT
BEGIN:VEVENT
DTSTART;TZID=America/Vancouver:20240324T070000
DTEND;TZID=America/Vancouver:20240324T100000
DTSTAMP:20260424T120133
CREATED:20240130T193349Z
LAST-MODIFIED:20240311T145547Z
UID:10001291-1711263600-1711274400@saltspringzencircle.org
SUMMARY:Sit'n Study
DESCRIPTION:Sit’n Study: Sittings are optional. Sitting: 7am-7:45am – Kinhin: 7:45am-8am – Sitting: 8am-8:45am – Break\nLeader: Maggie Tuck – Study: “This Deepest Self” from The Truth of This Life by Katherine Thanas (Shambhala Publishing Inc. 2018) 
URL:https://saltspringzencircle.org/event/sitn-study-76/
CATEGORIES:Sit 'n' Study
END:VEVENT
BEGIN:VEVENT
DTSTART;TZID=America/Vancouver:20240317T070000
DTEND;TZID=America/Vancouver:20240317T100000
DTSTAMP:20260424T120133
CREATED:20240130T192904Z
LAST-MODIFIED:20240202T001029Z
UID:10001290-1710658800-1710669600@saltspringzencircle.org
SUMMARY:Sit'n Study
DESCRIPTION:Sit’n Study: Sittings are optional. Sitting: 7am-7:45am – Kinhin: 7:45am-8am – Sitting: 8am-8:45am – Break\nLeader: Michelle Reed – Study: “Noticing Our Story Line” from The Truth of This Life by Katherine Thanas (Shambhala Publishing Inc. 2018) 
URL:https://saltspringzencircle.org/event/sitn-study-75/
CATEGORIES:Sit 'n' Study
END:VEVENT
BEGIN:VEVENT
DTSTART;TZID=America/Vancouver:20240310T070000
DTEND;TZID=America/Vancouver:20240310T100000
DTSTAMP:20260424T120133
CREATED:20240130T192446Z
LAST-MODIFIED:20240201T150119Z
UID:10001289-1710054000-1710064800@saltspringzencircle.org
SUMMARY:Sit'n Study
DESCRIPTION:Sit’n Study: Sittings are optional. Sitting: 7am-7:45am – Kinhin: 7:45am-8am – Sitting: 8am-8:45am – Break\nLeader: Chris Smart – Study: “This Very Mind is Buddha” from The Truth of This Life by Katherine Thanas (Shambhala Publishing Inc. 2018) 
URL:https://saltspringzencircle.org/event/sitn-study-74/
CATEGORIES:Sit 'n' Study
END:VEVENT
BEGIN:VEVENT
DTSTART;TZID=America/Vancouver:20240303T070000
DTEND;TZID=America/Vancouver:20240303T100000
DTSTAMP:20260424T120133
CREATED:20240130T192000Z
LAST-MODIFIED:20240302T004139Z
UID:10001288-1709449200-1709460000@saltspringzencircle.org
SUMMARY:Sit'n Study
DESCRIPTION:Sit’n Study: Sittings are optional. Sitting: 7am-7:45am – Kinhin: 7:45am-8am – Sitting: 8am-8:45am – Break\nLeader: Kõya Clare Mathias – Study: “No Pressure to Improve” from The Truth of This Life by Katherine Thanas (Shambhala Publishing Inc. 2018) 
URL:https://saltspringzencircle.org/event/sitn-study-73/
CATEGORIES:Sit 'n' Study
END:VEVENT
BEGIN:VEVENT
DTSTART;TZID=America/Vancouver:20240225T070000
DTEND;TZID=America/Vancouver:20240225T100000
DTSTAMP:20260424T120133
CREATED:20240130T190948Z
LAST-MODIFIED:20240204T035535Z
UID:10001287-1708844400-1708855200@saltspringzencircle.org
SUMMARY:Sit'n Study
DESCRIPTION:Sit’n Study: Sittings are optional. Sitting: 7am-7:45am – Kinhin: 7:45am-8am – Sitting: 8am-8:45am – Break\nLeader: Naseem JanMohamed – Study: “The Joy of Not Choosing'” from The Truth of This Life by Katherine Thanas (Shambhala Publishing Inc. 2018)
URL:https://saltspringzencircle.org/event/sitn-study-72/
CATEGORIES:Sit 'n' Study
END:VEVENT
BEGIN:VEVENT
DTSTART;TZID=America/Vancouver:20240218T070000
DTEND;TZID=America/Vancouver:20240218T100000
DTSTAMP:20260424T120133
CREATED:20240130T182302Z
LAST-MODIFIED:20240201T150039Z
UID:10001027-1708239600-1708250400@saltspringzencircle.org
SUMMARY:Sit'n Study
DESCRIPTION:Sit’n Study: Sittings are optional. Sitting: 7am-7:45am – Kinhin: 7:45am-8am – Sitting: 8am-8:45am – Break\nLeader: Sheila Dobie – Study:“A Farmer Came to See”from The Truth of This Life by Katherine Thanas (Shambhala Publications Inc. 2018)
URL:https://saltspringzencircle.org/event/sitn-study-71/
CATEGORIES:Sit 'n' Study
END:VEVENT
BEGIN:VEVENT
DTSTART;TZID=America/Vancouver:20240211T070000
DTEND;TZID=America/Vancouver:20240211T100000
DTSTAMP:20260424T120133
CREATED:20240116T235811Z
LAST-MODIFIED:20240116T235811Z
UID:10001026-1707634800-1707645600@saltspringzencircle.org
SUMMARY:Sit'n Study
DESCRIPTION:Sit’n Study: Sittings are optional. Sitting: 7am-7:45am – Kinhin: 7:45am-8am – Sitting: 8am-8:45am – Break\nLeader: TBA – Study:  Talk 4 Loon Lake Sesshin 2013 – Everyday Zen Foundation
URL:https://saltspringzencircle.org/event/sitn-study-70/
CATEGORIES:Sit 'n' Study
END:VEVENT
BEGIN:VEVENT
DTSTART;TZID=America/Vancouver:20240128T070000
DTEND;TZID=America/Vancouver:20240128T100000
DTSTAMP:20260424T120133
CREATED:20240116T234346Z
LAST-MODIFIED:20240117T000100Z
UID:10001024-1706425200-1706436000@saltspringzencircle.org
SUMMARY:Sit'n Study
DESCRIPTION:Sit’n Study: Sittings are optional: Sitting:7am-7:45am – Kinhin: 7:45am-8am – Sitting: 8am-8:45am – Break\nStudy: 9am-10am – Leader: TBA Sandokai 1 – Talk2 Loon Lake Sesshin 2013 – Everyday Zen Foundation
URL:https://saltspringzencircle.org/event/sitn-study-68/
CATEGORIES:Sit 'n' Study
END:VEVENT
BEGIN:VEVENT
DTSTART;TZID=America/Vancouver:20240121T070000
DTEND;TZID=America/Vancouver:20240121T100000
DTSTAMP:20260424T120133
CREATED:20240116T231158Z
LAST-MODIFIED:20240116T232008Z
UID:10000606-1705820400-1705831200@saltspringzencircle.org
SUMMARY:Sit'n Study
DESCRIPTION:Sittings are optional: 7am to 7:45am – Kinhin: 7:45am – 8:am – Sitting: 8am-8:45am – Break\nStudy: 9am-10am \nLeader: Judy Daylen \nText: Pre-reading for this session is Appreciate Your Life (Chapter 1 Pages 3-7\n. Shakyamuni Buddha and I are Practicing Together by Taizan Maezumi Roshi. from Appreciate Your Life\, The Essence of Zen Practice. Edited by Wendy Egyoku Nakao and Eve Myoshin Marko\, Published by Shambhala Publications\, Inc. 
URL:https://saltspringzencircle.org/event/sitn-study-68-4-2/
CATEGORIES:Sit 'n' Study
END:VEVENT
BEGIN:VEVENT
DTSTART;TZID=America/Vancouver:20231231T070000
DTEND;TZID=America/Vancouver:20231231T100000
DTSTAMP:20260424T120133
CREATED:20221223T235245Z
LAST-MODIFIED:20231008T011306Z
UID:10000591-1704006000-1704016800@saltspringzencircle.org
SUMMARY:Sit'n Study
DESCRIPTION:Winter Break: No Sit’n Study
URL:https://saltspringzencircle.org/event/sitn-study-62/
CATEGORIES:Sit 'n' Study
END:VEVENT
BEGIN:VEVENT
DTSTART;TZID=America/Vancouver:20231224T070000
DTEND;TZID=America/Vancouver:20231224T100000
DTSTAMP:20260424T120133
CREATED:20221223T235158Z
LAST-MODIFIED:20231008T011404Z
UID:10000590-1703401200-1703412000@saltspringzencircle.org
SUMMARY:Sit'n Study
DESCRIPTION:Winter Break: No Sit’n Study
URL:https://saltspringzencircle.org/event/sitn-study-61/
CATEGORIES:Sit 'n' Study
END:VEVENT
BEGIN:VEVENT
DTSTART;TZID=America/Vancouver:20231217T070000
DTEND;TZID=America/Vancouver:20231217T100000
DTSTAMP:20260424T120133
CREATED:20221223T235058Z
LAST-MODIFIED:20231008T010607Z
UID:10000589-1702796400-1702807200@saltspringzencircle.org
SUMMARY:Sit'n Study
DESCRIPTION:Sittings are optional: 7am to 7:45am – Kinhin: 7:45am – 8:am – Sitting: 8am-8:45am – Break\nStudy: 9am-10am \nLeader: Douglas Reid \nText: On Life and Death by Taizan Maezumi Roshi. from Appreciate Your Life\, The Essence of Zen Practice. Edited by Wendy Egyoku Nakao and Eve Myoshin Marko\, Published by Shambhala Publications\, Inc.
URL:https://saltspringzencircle.org/event/sitn-study-60/
CATEGORIES:Sit 'n' Study
END:VEVENT
BEGIN:VEVENT
DTSTART;TZID=America/Vancouver:20231210T070000
DTEND;TZID=America/Vancouver:20231210T100000
DTSTAMP:20260424T120133
CREATED:20221223T235407Z
LAST-MODIFIED:20231008T010440Z
UID:10000592-1702191600-1702202400@saltspringzencircle.org
SUMMARY:Sit'n Study
DESCRIPTION:Sittings are optional: 7am to 7:45am – Kinhin: 7:45am – 8:am – Sitting: 8am-8:45am – Break\nStudy: 9am-10am \nLeader: Michelle Reed \nText: On Becoming a Buddhist by Taizan Maezumi Roshi. from Appreciate Your Life\, The Essence of Zen Practice. Edited by Wendy Egyoku Nakao and Eve Myoshin Marko\, Published by Shambhala Publications\, Inc.
URL:https://saltspringzencircle.org/event/sitn-study-63/
CATEGORIES:Sit 'n' Study
END:VEVENT
BEGIN:VEVENT
DTSTART;TZID=America/Vancouver:20231203T070000
DTEND;TZID=America/Vancouver:20231203T100000
DTSTAMP:20260424T120133
CREATED:20221223T234948Z
LAST-MODIFIED:20231008T010347Z
UID:10000588-1701586800-1701597600@saltspringzencircle.org
SUMMARY:Sit'n Study
DESCRIPTION:Sittings are optional: 7am to 7:45am – Kinhin: 7:45am – 8:am – Sitting: 8am-8:45am – Break\nStudy: 9am-10am \nLeader: Bert Lamsa \nText: Thusness by Taizan Maezumi Roshi. from Appreciate Your Life\, The Essence of Zen Practice. Edited by Wendy Egyoku Nakao and Eve Myosin Marko\, Published by Shambhala Publications\, Inc.
URL:https://saltspringzencircle.org/event/sitn-study-58/
CATEGORIES:Sit 'n' Study
END:VEVENT
BEGIN:VEVENT
DTSTART;TZID=America/Vancouver:20231126T070000
DTEND;TZID=America/Vancouver:20231126T100000
DTSTAMP:20260424T120133
CREATED:20221223T233007Z
LAST-MODIFIED:20231008T010306Z
UID:10000483-1700982000-1700992800@saltspringzencircle.org
SUMMARY:Sit'n Study
DESCRIPTION:Sittings are optional: 7am to 7:45am – Kinhin: 7:45am – 8:am – Sitting: 8am-8:45am – Break\nStudy: 9am-10am \nLeader: Rory McDonald \nText: Diversity and the “Right Way” by Taizan Maezumi Roshi. from Appreciate Your Life\, The Essence of Zen Practice. Edited by Wendy Egyoku Nakao and Eve Myoshin Marko\, Published by Shambhala Publications\, Inc.
URL:https://saltspringzencircle.org/event/sitn-study-59/
CATEGORIES:Sit 'n' Study
END:VEVENT
BEGIN:VEVENT
DTSTART;TZID=America/Vancouver:20231119T070000
DTEND;TZID=America/Vancouver:20231119T100000
DTSTAMP:20260424T120133
CREATED:20221223T232754Z
LAST-MODIFIED:20231115T140331Z
UID:10000481-1700377200-1700388000@saltspringzencircle.org
SUMMARY:Sit'n Study (followed by SSZC AGM 2023)
DESCRIPTION:Sittings are optional: 7am to 7:45am – Kinhin: 7:45am – 8:am – Sitting: 8am-8:45am – Break\nStudy: 9am-10am\nAnnual General Meeting 2023:10:30am-11:30am \nLeader: TBD \nText: Live the Life of Impermanence by Taizan Maezumi Roshi. from Appreciate Your Life\, The Essence of Zen Practice. Edited by Wendy Egyoku Nakao and Eve Myosin Marko\, Published by Shambhala Publications\, Inc.\nPlease note that the SSZC AGM 2023 will be held from 10:30am-11:30am. All sangha members are encouraged to attend and will be welcome. \n 
URL:https://saltspringzencircle.org/event/sitn-study-57/
CATEGORIES:Sit 'n' Study
END:VEVENT
BEGIN:VEVENT
DTSTART;TZID=America/Vancouver:20231112T070000
DTEND;TZID=America/Vancouver:20231112T100000
DTSTAMP:20260424T120133
CREATED:20221223T232643Z
LAST-MODIFIED:20231008T010102Z
UID:10000479-1699772400-1699783200@saltspringzencircle.org
SUMMARY:Sit'n Study
DESCRIPTION:Sittings are optional: 7am to 7:45am – Kinhin: 7:45am – 8:am – Sitting: 8am-8:45am – Break\nStudy: 9am-10am \nLeader: Koya Clare Mathias \nText: The Seven Wise Sisters by Taizan Maezumi Roshi. from Appreciate Your Life\, The Essence of Zen Practice. Edited by Wendy Egyoku Nakao and Eve Myosin Marko\, Published by Shambhala Publications\, Inc.
URL:https://saltspringzencircle.org/event/sitn-study-56/
CATEGORIES:Sit 'n' Study
END:VEVENT
BEGIN:VEVENT
DTSTART;TZID=America/Vancouver:20231105T070000
DTEND;TZID=America/Vancouver:20231105T100000
DTSTAMP:20260424T120133
CREATED:20221223T232545Z
LAST-MODIFIED:20231008T005953Z
UID:10000477-1699167600-1699178400@saltspringzencircle.org
SUMMARY:Sit'n Study
DESCRIPTION:Sittings are optional: 7am to 7:45am – Kinhin: 7:45am – 8:am – Sitting: 8am-8:45am – Break\nStudy: 9am-10am \nLeader: Sheila Dobie \nText: See the Shadow of the Whip by Taizan Maezumi Roshi. from Appreciate Your Life\, The Essence of Zen Practice. Edited by Wendy Egyoku Nakao and Eve Myosin Marko\, Published by Shambhala Publications\, Inc.
URL:https://saltspringzencircle.org/event/sitn-study-55/
CATEGORIES:Sit 'n' Study
END:VEVENT
END:VCALENDAR