BEGIN:VCALENDAR
VERSION:2.0
PRODID:-// - ECPv6.15.20//NONSGML v1.0//EN
CALSCALE:GREGORIAN
METHOD:PUBLISH
X-ORIGINAL-URL:https://saltspringzencircle.org
X-WR-CALDESC:Events for 
REFRESH-INTERVAL;VALUE=DURATION:PT1H
X-Robots-Tag:noindex
X-PUBLISHED-TTL:PT1H
BEGIN:VTIMEZONE
TZID:America/Vancouver
BEGIN:DAYLIGHT
TZOFFSETFROM:-0800
TZOFFSETTO:-0700
TZNAME:PDT
DTSTART:20230312T100000
END:DAYLIGHT
BEGIN:STANDARD
TZOFFSETFROM:-0700
TZOFFSETTO:-0800
TZNAME:PST
DTSTART:20231105T090000
END:STANDARD
BEGIN:DAYLIGHT
TZOFFSETFROM:-0800
TZOFFSETTO:-0700
TZNAME:PDT
DTSTART:20240310T100000
END:DAYLIGHT
BEGIN:STANDARD
TZOFFSETFROM:-0700
TZOFFSETTO:-0800
TZNAME:PST
DTSTART:20241103T090000
END:STANDARD
BEGIN:DAYLIGHT
TZOFFSETFROM:-0800
TZOFFSETTO:-0700
TZNAME:PDT
DTSTART:20250309T100000
END:DAYLIGHT
BEGIN:STANDARD
TZOFFSETFROM:-0700
TZOFFSETTO:-0800
TZNAME:PST
DTSTART:20251102T090000
END:STANDARD
END:VTIMEZONE
BEGIN:VEVENT
DTSTART;TZID=America/Vancouver:20240306T190000
DTEND;TZID=America/Vancouver:20240306T210000
DTSTAMP:20260425T165111
CREATED:20231231T034335Z
LAST-MODIFIED:20240104T225032Z
UID:10000771-1709751600-1709758800@saltspringzencircle.org
SUMMARY:Evening Zazen
DESCRIPTION:In-Person Evening Zazen with Zoom option at All Saints by-the-Sea Anglican Church\, Upper Hall\, 110 Park Drive\, Ganges 
URL:https://saltspringzencircle.org/event/evening-zazen-69/2024-03-06/
CATEGORIES:Evening Zazen
END:VEVENT
BEGIN:VEVENT
DTSTART;TZID=America/Vancouver:20240304T071500
DTEND;TZID=America/Vancouver:20240304T074500
DTSTAMP:20260425T165111
CREATED:20231231T205735Z
LAST-MODIFIED:20231231T205735Z
UID:10000620-1709536500-1709538300@saltspringzencircle.org
SUMMARY:Morning Zazen
DESCRIPTION:7:05am – Zoom room opens\n7:10am – to be seated on cushions\n7:15am – Robe Chant to be followed by bell (ringing 3 times)\n7:45am – End of sitting
URL:https://saltspringzencircle.org/event/morning-zazen-145/2024-03-04/
CATEGORIES:Morning Zazen
END:VEVENT
BEGIN:VEVENT
DTSTART;TZID=America/Vancouver:20240303T070000
DTEND;TZID=America/Vancouver:20240303T100000
DTSTAMP:20260425T165111
CREATED:20240130T192000Z
LAST-MODIFIED:20240302T004139Z
UID:10001288-1709449200-1709460000@saltspringzencircle.org
SUMMARY:Sit'n Study
DESCRIPTION:Sit’n Study: Sittings are optional. Sitting: 7am-7:45am – Kinhin: 7:45am-8am – Sitting: 8am-8:45am – Break\nLeader: Kõya Clare Mathias – Study: “No Pressure to Improve” from The Truth of This Life by Katherine Thanas (Shambhala Publishing Inc. 2018) 
URL:https://saltspringzencircle.org/event/sitn-study-73/
CATEGORIES:Sit 'n' Study
END:VEVENT
BEGIN:VEVENT
DTSTART;TZID=America/Vancouver:20240301T070500
DTEND;TZID=America/Vancouver:20240301T074500
DTSTAMP:20260425T165111
CREATED:20231231T215406Z
LAST-MODIFIED:20231231T215720Z
UID:10000721-1709276700-1709279100@saltspringzencircle.org
SUMMARY:Morning Zazen
DESCRIPTION:7:05am – Zoom room opens\n7:10am – to be seated on cushions\n7:15am – Robe Chant to be followed by bell (ringing 3 times)\n7:45am – End of sitting
URL:https://saltspringzencircle.org/event/morning-zazen-146/2024-03-01/
END:VEVENT
BEGIN:VEVENT
DTSTART;TZID=America/Vancouver:20240228T190000
DTEND;TZID=America/Vancouver:20240228T210000
DTSTAMP:20260425T165111
CREATED:20231231T034335Z
LAST-MODIFIED:20240104T225032Z
UID:10000770-1709146800-1709154000@saltspringzencircle.org
SUMMARY:Evening Zazen
DESCRIPTION:In-Person Evening Zazen with Zoom option at All Saints by-the-Sea Anglican Church\, Upper Hall\, 110 Park Drive\, Ganges 
URL:https://saltspringzencircle.org/event/evening-zazen-69/2024-02-28/
CATEGORIES:Evening Zazen
END:VEVENT
BEGIN:VEVENT
DTSTART;TZID=America/Vancouver:20240226T071500
DTEND;TZID=America/Vancouver:20240226T074500
DTSTAMP:20260425T165111
CREATED:20231231T205735Z
LAST-MODIFIED:20231231T205735Z
UID:10000619-1708931700-1708933500@saltspringzencircle.org
SUMMARY:Morning Zazen
DESCRIPTION:7:05am – Zoom room opens\n7:10am – to be seated on cushions\n7:15am – Robe Chant to be followed by bell (ringing 3 times)\n7:45am – End of sitting
URL:https://saltspringzencircle.org/event/morning-zazen-145/2024-02-26/
CATEGORIES:Morning Zazen
END:VEVENT
BEGIN:VEVENT
DTSTART;TZID=America/Vancouver:20240225T070000
DTEND;TZID=America/Vancouver:20240225T100000
DTSTAMP:20260425T165111
CREATED:20240130T190948Z
LAST-MODIFIED:20240204T035535Z
UID:10001287-1708844400-1708855200@saltspringzencircle.org
SUMMARY:Sit'n Study
DESCRIPTION:Sit’n Study: Sittings are optional. Sitting: 7am-7:45am – Kinhin: 7:45am-8am – Sitting: 8am-8:45am – Break\nLeader: Naseem JanMohamed – Study: “The Joy of Not Choosing'” from The Truth of This Life by Katherine Thanas (Shambhala Publishing Inc. 2018)
URL:https://saltspringzencircle.org/event/sitn-study-72/
CATEGORIES:Sit 'n' Study
END:VEVENT
BEGIN:VEVENT
DTSTART;TZID=America/Vancouver:20240223T070500
DTEND;TZID=America/Vancouver:20240223T074500
DTSTAMP:20260425T165111
CREATED:20231231T215406Z
LAST-MODIFIED:20231231T215720Z
UID:10000720-1708671900-1708674300@saltspringzencircle.org
SUMMARY:Morning Zazen
DESCRIPTION:7:05am – Zoom room opens\n7:10am – to be seated on cushions\n7:15am – Robe Chant to be followed by bell (ringing 3 times)\n7:45am – End of sitting
URL:https://saltspringzencircle.org/event/morning-zazen-146/2024-02-23/
END:VEVENT
BEGIN:VEVENT
DTSTART;TZID=America/Vancouver:20240221T190000
DTEND;TZID=America/Vancouver:20240221T210000
DTSTAMP:20260425T165111
CREATED:20231231T034335Z
LAST-MODIFIED:20240104T225032Z
UID:10000769-1708542000-1708549200@saltspringzencircle.org
SUMMARY:Evening Zazen
DESCRIPTION:In-Person Evening Zazen with Zoom option at All Saints by-the-Sea Anglican Church\, Upper Hall\, 110 Park Drive\, Ganges 
URL:https://saltspringzencircle.org/event/evening-zazen-69/2024-02-21/
CATEGORIES:Evening Zazen
END:VEVENT
BEGIN:VEVENT
DTSTART;TZID=America/Vancouver:20240219T071500
DTEND;TZID=America/Vancouver:20240219T074500
DTSTAMP:20260425T165111
CREATED:20231231T205735Z
LAST-MODIFIED:20231231T205735Z
UID:10000618-1708326900-1708328700@saltspringzencircle.org
SUMMARY:Morning Zazen
DESCRIPTION:7:05am – Zoom room opens\n7:10am – to be seated on cushions\n7:15am – Robe Chant to be followed by bell (ringing 3 times)\n7:45am – End of sitting
URL:https://saltspringzencircle.org/event/morning-zazen-145/2024-02-19/
CATEGORIES:Morning Zazen
END:VEVENT
BEGIN:VEVENT
DTSTART;TZID=America/Vancouver:20240218T070000
DTEND;TZID=America/Vancouver:20240218T100000
DTSTAMP:20260425T165111
CREATED:20240130T182302Z
LAST-MODIFIED:20240201T150039Z
UID:10001027-1708239600-1708250400@saltspringzencircle.org
SUMMARY:Sit'n Study
DESCRIPTION:Sit’n Study: Sittings are optional. Sitting: 7am-7:45am – Kinhin: 7:45am-8am – Sitting: 8am-8:45am – Break\nLeader: Sheila Dobie – Study:“A Farmer Came to See”from The Truth of This Life by Katherine Thanas (Shambhala Publications Inc. 2018)
URL:https://saltspringzencircle.org/event/sitn-study-71/
CATEGORIES:Sit 'n' Study
END:VEVENT
BEGIN:VEVENT
DTSTART;TZID=America/Vancouver:20240216T070500
DTEND;TZID=America/Vancouver:20240216T074500
DTSTAMP:20260425T165111
CREATED:20231231T215406Z
LAST-MODIFIED:20231231T215720Z
UID:10000719-1708067100-1708069500@saltspringzencircle.org
SUMMARY:Morning Zazen
DESCRIPTION:7:05am – Zoom room opens\n7:10am – to be seated on cushions\n7:15am – Robe Chant to be followed by bell (ringing 3 times)\n7:45am – End of sitting
URL:https://saltspringzencircle.org/event/morning-zazen-146/2024-02-16/
END:VEVENT
BEGIN:VEVENT
DTSTART;TZID=America/Vancouver:20240214T190000
DTEND;TZID=America/Vancouver:20240214T210000
DTSTAMP:20260425T165111
CREATED:20231231T034335Z
LAST-MODIFIED:20240104T225032Z
UID:10000768-1707937200-1707944400@saltspringzencircle.org
SUMMARY:Evening Zazen
DESCRIPTION:In-Person Evening Zazen with Zoom option at All Saints by-the-Sea Anglican Church\, Upper Hall\, 110 Park Drive\, Ganges 
URL:https://saltspringzencircle.org/event/evening-zazen-69/2024-02-14/
CATEGORIES:Evening Zazen
END:VEVENT
BEGIN:VEVENT
DTSTART;TZID=America/Vancouver:20240212T071500
DTEND;TZID=America/Vancouver:20240212T074500
DTSTAMP:20260425T165111
CREATED:20231231T205735Z
LAST-MODIFIED:20231231T205735Z
UID:10000617-1707722100-1707723900@saltspringzencircle.org
SUMMARY:Morning Zazen
DESCRIPTION:7:05am – Zoom room opens\n7:10am – to be seated on cushions\n7:15am – Robe Chant to be followed by bell (ringing 3 times)\n7:45am – End of sitting
URL:https://saltspringzencircle.org/event/morning-zazen-145/2024-02-12/
CATEGORIES:Morning Zazen
END:VEVENT
BEGIN:VEVENT
DTSTART;TZID=America/Vancouver:20240211T070000
DTEND;TZID=America/Vancouver:20240211T100000
DTSTAMP:20260425T165111
CREATED:20240116T235811Z
LAST-MODIFIED:20240116T235811Z
UID:10001026-1707634800-1707645600@saltspringzencircle.org
SUMMARY:Sit'n Study
DESCRIPTION:Sit’n Study: Sittings are optional. Sitting: 7am-7:45am – Kinhin: 7:45am-8am – Sitting: 8am-8:45am – Break\nLeader: TBA – Study:  Talk 4 Loon Lake Sesshin 2013 – Everyday Zen Foundation
URL:https://saltspringzencircle.org/event/sitn-study-70/
CATEGORIES:Sit 'n' Study
END:VEVENT
BEGIN:VEVENT
DTSTART;TZID=America/Vancouver:20240209T070500
DTEND;TZID=America/Vancouver:20240209T074500
DTSTAMP:20260425T165111
CREATED:20231231T215406Z
LAST-MODIFIED:20231231T215720Z
UID:10000718-1707462300-1707464700@saltspringzencircle.org
SUMMARY:Morning Zazen
DESCRIPTION:7:05am – Zoom room opens\n7:10am – to be seated on cushions\n7:15am – Robe Chant to be followed by bell (ringing 3 times)\n7:45am – End of sitting
URL:https://saltspringzencircle.org/event/morning-zazen-146/2024-02-09/
END:VEVENT
BEGIN:VEVENT
DTSTART;TZID=America/Vancouver:20240207T190000
DTEND;TZID=America/Vancouver:20240207T210000
DTSTAMP:20260425T165111
CREATED:20231231T034335Z
LAST-MODIFIED:20240104T225032Z
UID:10000767-1707332400-1707339600@saltspringzencircle.org
SUMMARY:Evening Zazen
DESCRIPTION:In-Person Evening Zazen with Zoom option at All Saints by-the-Sea Anglican Church\, Upper Hall\, 110 Park Drive\, Ganges 
URL:https://saltspringzencircle.org/event/evening-zazen-69/2024-02-07/
CATEGORIES:Evening Zazen
END:VEVENT
BEGIN:VEVENT
DTSTART;TZID=America/Vancouver:20240205T071500
DTEND;TZID=America/Vancouver:20240205T074500
DTSTAMP:20260425T165111
CREATED:20231231T205735Z
LAST-MODIFIED:20231231T205735Z
UID:10000616-1707117300-1707119100@saltspringzencircle.org
SUMMARY:Morning Zazen
DESCRIPTION:7:05am – Zoom room opens\n7:10am – to be seated on cushions\n7:15am – Robe Chant to be followed by bell (ringing 3 times)\n7:45am – End of sitting
URL:https://saltspringzencircle.org/event/morning-zazen-145/2024-02-05/
CATEGORIES:Morning Zazen
END:VEVENT
BEGIN:VEVENT
DTSTART;TZID=America/Vancouver:20240204T070000
DTEND;TZID=America/Vancouver:20240204T100000
DTSTAMP:20260425T165111
CREATED:20240116T235029Z
LAST-MODIFIED:20240116T235029Z
UID:10001025-1707030000-1707040800@saltspringzencircle.org
SUMMARY:Sit'n Study
DESCRIPTION:Sit’n Study: Sittings are optional: Sitting: 7am-7:45am – Kinhin: 7:45am-8am – Sitting: 8am-8:45am – Break\nStudy: 9am-10am – Leader: TBA Talk 3: Loon Lake Sesshin 2013 – Everyday Zen Foundation
URL:https://saltspringzencircle.org/event/sitn-study-69/
END:VEVENT
BEGIN:VEVENT
DTSTART;TZID=America/Vancouver:20240202T070500
DTEND;TZID=America/Vancouver:20240202T074500
DTSTAMP:20260425T165111
CREATED:20231231T215406Z
LAST-MODIFIED:20231231T215720Z
UID:10000717-1706857500-1706859900@saltspringzencircle.org
SUMMARY:Morning Zazen
DESCRIPTION:7:05am – Zoom room opens\n7:10am – to be seated on cushions\n7:15am – Robe Chant to be followed by bell (ringing 3 times)\n7:45am – End of sitting
URL:https://saltspringzencircle.org/event/morning-zazen-146/2024-02-02/
END:VEVENT
BEGIN:VEVENT
DTSTART;TZID=America/Vancouver:20240131T190000
DTEND;TZID=America/Vancouver:20240131T210000
DTSTAMP:20260425T165111
CREATED:20231231T034335Z
LAST-MODIFIED:20240104T225032Z
UID:10000766-1706727600-1706734800@saltspringzencircle.org
SUMMARY:Evening Zazen
DESCRIPTION:In-Person Evening Zazen with Zoom option at All Saints by-the-Sea Anglican Church\, Upper Hall\, 110 Park Drive\, Ganges 
URL:https://saltspringzencircle.org/event/evening-zazen-69/2024-01-31/
CATEGORIES:Evening Zazen
END:VEVENT
BEGIN:VEVENT
DTSTART;TZID=America/Vancouver:20240129T071500
DTEND;TZID=America/Vancouver:20240129T074500
DTSTAMP:20260425T165111
CREATED:20231231T205735Z
LAST-MODIFIED:20231231T205735Z
UID:10000615-1706512500-1706514300@saltspringzencircle.org
SUMMARY:Morning Zazen
DESCRIPTION:7:05am – Zoom room opens\n7:10am – to be seated on cushions\n7:15am – Robe Chant to be followed by bell (ringing 3 times)\n7:45am – End of sitting
URL:https://saltspringzencircle.org/event/morning-zazen-145/2024-01-29/
CATEGORIES:Morning Zazen
END:VEVENT
BEGIN:VEVENT
DTSTART;TZID=America/Vancouver:20240128T070000
DTEND;TZID=America/Vancouver:20240128T100000
DTSTAMP:20260425T165111
CREATED:20240116T234346Z
LAST-MODIFIED:20240117T000100Z
UID:10001024-1706425200-1706436000@saltspringzencircle.org
SUMMARY:Sit'n Study
DESCRIPTION:Sit’n Study: Sittings are optional: Sitting:7am-7:45am – Kinhin: 7:45am-8am – Sitting: 8am-8:45am – Break\nStudy: 9am-10am – Leader: TBA Sandokai 1 – Talk2 Loon Lake Sesshin 2013 – Everyday Zen Foundation
URL:https://saltspringzencircle.org/event/sitn-study-68/
CATEGORIES:Sit 'n' Study
END:VEVENT
BEGIN:VEVENT
DTSTART;TZID=America/Vancouver:20240126T070500
DTEND;TZID=America/Vancouver:20240126T074500
DTSTAMP:20260425T165111
CREATED:20231231T215406Z
LAST-MODIFIED:20231231T215720Z
UID:10000716-1706252700-1706255100@saltspringzencircle.org
SUMMARY:Morning Zazen
DESCRIPTION:7:05am – Zoom room opens\n7:10am – to be seated on cushions\n7:15am – Robe Chant to be followed by bell (ringing 3 times)\n7:45am – End of sitting
URL:https://saltspringzencircle.org/event/morning-zazen-146/2024-01-26/
END:VEVENT
BEGIN:VEVENT
DTSTART;TZID=America/Vancouver:20240124T190000
DTEND;TZID=America/Vancouver:20240124T210000
DTSTAMP:20260425T165111
CREATED:20231231T034335Z
LAST-MODIFIED:20240104T225032Z
UID:10000765-1706122800-1706130000@saltspringzencircle.org
SUMMARY:Evening Zazen
DESCRIPTION:In-Person Evening Zazen with Zoom option at All Saints by-the-Sea Anglican Church\, Upper Hall\, 110 Park Drive\, Ganges 
URL:https://saltspringzencircle.org/event/evening-zazen-69/2024-01-24/
CATEGORIES:Evening Zazen
END:VEVENT
BEGIN:VEVENT
DTSTART;TZID=America/Vancouver:20240122T071500
DTEND;TZID=America/Vancouver:20240122T074500
DTSTAMP:20260425T165111
CREATED:20231231T205735Z
LAST-MODIFIED:20231231T205735Z
UID:10000614-1705907700-1705909500@saltspringzencircle.org
SUMMARY:Morning Zazen
DESCRIPTION:7:05am – Zoom room opens\n7:10am – to be seated on cushions\n7:15am – Robe Chant to be followed by bell (ringing 3 times)\n7:45am – End of sitting
URL:https://saltspringzencircle.org/event/morning-zazen-145/2024-01-22/
CATEGORIES:Morning Zazen
END:VEVENT
BEGIN:VEVENT
DTSTART;TZID=America/Vancouver:20240121T070000
DTEND;TZID=America/Vancouver:20240121T100000
DTSTAMP:20260425T165111
CREATED:20240116T231158Z
LAST-MODIFIED:20240116T232008Z
UID:10000606-1705820400-1705831200@saltspringzencircle.org
SUMMARY:Sit'n Study
DESCRIPTION:Sittings are optional: 7am to 7:45am – Kinhin: 7:45am – 8:am – Sitting: 8am-8:45am – Break\nStudy: 9am-10am \nLeader: Judy Daylen \nText: Pre-reading for this session is Appreciate Your Life (Chapter 1 Pages 3-7\n. Shakyamuni Buddha and I are Practicing Together by Taizan Maezumi Roshi. from Appreciate Your Life\, The Essence of Zen Practice. Edited by Wendy Egyoku Nakao and Eve Myoshin Marko\, Published by Shambhala Publications\, Inc. 
URL:https://saltspringzencircle.org/event/sitn-study-68-4-2/
CATEGORIES:Sit 'n' Study
END:VEVENT
BEGIN:VEVENT
DTSTART;TZID=America/Vancouver:20240119T070500
DTEND;TZID=America/Vancouver:20240119T074500
DTSTAMP:20260425T165111
CREATED:20231231T215406Z
LAST-MODIFIED:20231231T215720Z
UID:10000715-1705647900-1705650300@saltspringzencircle.org
SUMMARY:Morning Zazen
DESCRIPTION:7:05am – Zoom room opens\n7:10am – to be seated on cushions\n7:15am – Robe Chant to be followed by bell (ringing 3 times)\n7:45am – End of sitting
URL:https://saltspringzencircle.org/event/morning-zazen-146/2024-01-19/
END:VEVENT
BEGIN:VEVENT
DTSTART;TZID=America/Vancouver:20240117T190000
DTEND;TZID=America/Vancouver:20240117T210000
DTSTAMP:20260425T165111
CREATED:20231231T034335Z
LAST-MODIFIED:20240104T225032Z
UID:10000764-1705518000-1705525200@saltspringzencircle.org
SUMMARY:Evening Zazen
DESCRIPTION:In-Person Evening Zazen with Zoom option at All Saints by-the-Sea Anglican Church\, Upper Hall\, 110 Park Drive\, Ganges 
URL:https://saltspringzencircle.org/event/evening-zazen-69/2024-01-17/
CATEGORIES:Evening Zazen
END:VEVENT
BEGIN:VEVENT
DTSTART;TZID=America/Vancouver:20240115T071500
DTEND;TZID=America/Vancouver:20240115T074500
DTSTAMP:20260425T165111
CREATED:20231231T205735Z
LAST-MODIFIED:20231231T205735Z
UID:10000613-1705302900-1705304700@saltspringzencircle.org
SUMMARY:Morning Zazen
DESCRIPTION:7:05am – Zoom room opens\n7:10am – to be seated on cushions\n7:15am – Robe Chant to be followed by bell (ringing 3 times)\n7:45am – End of sitting
URL:https://saltspringzencircle.org/event/morning-zazen-145/2024-01-15/
CATEGORIES:Morning Zazen
END:VEVENT
END:VCALENDAR