BEGIN:VCALENDAR
VERSION:2.0
PRODID:-// - ECPv6.15.20//NONSGML v1.0//EN
CALSCALE:GREGORIAN
METHOD:PUBLISH
X-ORIGINAL-URL:https://saltspringzencircle.org
X-WR-CALDESC:Events for 
REFRESH-INTERVAL;VALUE=DURATION:PT1H
X-Robots-Tag:noindex
X-PUBLISHED-TTL:PT1H
BEGIN:VTIMEZONE
TZID:America/Vancouver
BEGIN:DAYLIGHT
TZOFFSETFROM:-0800
TZOFFSETTO:-0700
TZNAME:PDT
DTSTART:20230312T100000
END:DAYLIGHT
BEGIN:STANDARD
TZOFFSETFROM:-0700
TZOFFSETTO:-0800
TZNAME:PST
DTSTART:20231105T090000
END:STANDARD
BEGIN:DAYLIGHT
TZOFFSETFROM:-0800
TZOFFSETTO:-0700
TZNAME:PDT
DTSTART:20240310T100000
END:DAYLIGHT
BEGIN:STANDARD
TZOFFSETFROM:-0700
TZOFFSETTO:-0800
TZNAME:PST
DTSTART:20241103T090000
END:STANDARD
BEGIN:DAYLIGHT
TZOFFSETFROM:-0800
TZOFFSETTO:-0700
TZNAME:PDT
DTSTART:20250309T100000
END:DAYLIGHT
BEGIN:STANDARD
TZOFFSETFROM:-0700
TZOFFSETTO:-0800
TZNAME:PST
DTSTART:20251102T090000
END:STANDARD
END:VTIMEZONE
BEGIN:VEVENT
DTSTART;TZID=America/Vancouver:20240421T070000
DTEND;TZID=America/Vancouver:20240421T100000
DTSTAMP:20260425T165116
CREATED:20240130T195007Z
LAST-MODIFIED:20240311T145833Z
UID:10001295-1713682800-1713693600@saltspringzencircle.org
SUMMARY:Sit'n Study
DESCRIPTION:Sit’n Study: Sittings are optional. Sitting: 7am-7:45am – Kinhin: 7:45am-8am – Sitting: 8am-8:45am – Break\nLeader: Simon Rompre – Study: “Catch the Body as it Flies” from The Truth of This Life by Katherine Thanas (Shambhala Publishing Inc. 2018) 
URL:https://saltspringzencircle.org/event/sitn-study-80/
CATEGORIES:Sit 'n' Study
END:VEVENT
BEGIN:VEVENT
DTSTART;TZID=America/Vancouver:20240419T070500
DTEND;TZID=America/Vancouver:20240419T074500
DTSTAMP:20260425T165116
CREATED:20231231T215406Z
LAST-MODIFIED:20231231T215720Z
UID:10000728-1713510300-1713512700@saltspringzencircle.org
SUMMARY:Morning Zazen
DESCRIPTION:7:05am – Zoom room opens\n7:10am – to be seated on cushions\n7:15am – Robe Chant to be followed by bell (ringing 3 times)\n7:45am – End of sitting
URL:https://saltspringzencircle.org/event/morning-zazen-146/2024-04-19/
END:VEVENT
BEGIN:VEVENT
DTSTART;TZID=America/Vancouver:20240417T190000
DTEND;TZID=America/Vancouver:20240417T210000
DTSTAMP:20260425T165116
CREATED:20231231T034335Z
LAST-MODIFIED:20240104T225032Z
UID:10000777-1713380400-1713387600@saltspringzencircle.org
SUMMARY:Evening Zazen
DESCRIPTION:In-Person Evening Zazen with Zoom option at All Saints by-the-Sea Anglican Church\, Upper Hall\, 110 Park Drive\, Ganges 
URL:https://saltspringzencircle.org/event/evening-zazen-69/2024-04-17/
CATEGORIES:Evening Zazen
END:VEVENT
BEGIN:VEVENT
DTSTART;TZID=America/Vancouver:20240415T071500
DTEND;TZID=America/Vancouver:20240415T074500
DTSTAMP:20260425T165116
CREATED:20231231T205735Z
LAST-MODIFIED:20231231T205735Z
UID:10000626-1713165300-1713167100@saltspringzencircle.org
SUMMARY:Morning Zazen
DESCRIPTION:7:05am – Zoom room opens\n7:10am – to be seated on cushions\n7:15am – Robe Chant to be followed by bell (ringing 3 times)\n7:45am – End of sitting
URL:https://saltspringzencircle.org/event/morning-zazen-145/2024-04-15/
CATEGORIES:Morning Zazen
END:VEVENT
BEGIN:VEVENT
DTSTART;TZID=America/Vancouver:20240414T070000
DTEND;TZID=America/Vancouver:20240414T100000
DTSTAMP:20260425T165116
CREATED:20240130T194536Z
LAST-MODIFIED:20240311T145749Z
UID:10001294-1713078000-1713088800@saltspringzencircle.org
SUMMARY:Sit'n Study
DESCRIPTION:Sit’n Study: Sittings are optional. Sitting: 7am-7:45am – Kinhin: 7:45am-8am – Sitting: 8am-8:45am – Break\nLeader:Douglas Reid – Study: “Cultivating the Silent Mind” from The Truth of This Life by Katherine Thanas (Shambhala Publishing Inc. 2018) 
URL:https://saltspringzencircle.org/event/sitn-study-79/
CATEGORIES:Sit 'n' Study
END:VEVENT
BEGIN:VEVENT
DTSTART;TZID=America/Vancouver:20240412T070500
DTEND;TZID=America/Vancouver:20240412T074500
DTSTAMP:20260425T165116
CREATED:20231231T215406Z
LAST-MODIFIED:20231231T215720Z
UID:10000727-1712905500-1712907900@saltspringzencircle.org
SUMMARY:Morning Zazen
DESCRIPTION:7:05am – Zoom room opens\n7:10am – to be seated on cushions\n7:15am – Robe Chant to be followed by bell (ringing 3 times)\n7:45am – End of sitting
URL:https://saltspringzencircle.org/event/morning-zazen-146/2024-04-12/
END:VEVENT
BEGIN:VEVENT
DTSTART;TZID=America/Vancouver:20240410T190000
DTEND;TZID=America/Vancouver:20240410T210000
DTSTAMP:20260425T165116
CREATED:20231231T034335Z
LAST-MODIFIED:20240104T225032Z
UID:10000776-1712775600-1712782800@saltspringzencircle.org
SUMMARY:Evening Zazen
DESCRIPTION:In-Person Evening Zazen with Zoom option at All Saints by-the-Sea Anglican Church\, Upper Hall\, 110 Park Drive\, Ganges 
URL:https://saltspringzencircle.org/event/evening-zazen-69/2024-04-10/
CATEGORIES:Evening Zazen
END:VEVENT
BEGIN:VEVENT
DTSTART;TZID=America/Vancouver:20240408T071500
DTEND;TZID=America/Vancouver:20240408T074500
DTSTAMP:20260425T165116
CREATED:20231231T205735Z
LAST-MODIFIED:20231231T205735Z
UID:10000625-1712560500-1712562300@saltspringzencircle.org
SUMMARY:Morning Zazen
DESCRIPTION:7:05am – Zoom room opens\n7:10am – to be seated on cushions\n7:15am – Robe Chant to be followed by bell (ringing 3 times)\n7:45am – End of sitting
URL:https://saltspringzencircle.org/event/morning-zazen-145/2024-04-08/
CATEGORIES:Morning Zazen
END:VEVENT
BEGIN:VEVENT
DTSTART;TZID=America/Vancouver:20240407T070000
DTEND;TZID=America/Vancouver:20240407T100000
DTSTAMP:20260425T165116
CREATED:20240130T194228Z
LAST-MODIFIED:20240311T145708Z
UID:10001293-1712473200-1712484000@saltspringzencircle.org
SUMMARY:Sit'n Study
DESCRIPTION:Sit’n Study: Sittings are optional. Sitting: 7am-7:45am – Kinhin: 7:45am-8am – Sitting: 8am-8:45am – Break\nLeader:Bert Lamsa – Study: “What is the Meaning of a Rose?” from The Truth of This Life by Katherine Thanas (Shambhala Publishing Inc. 2018) 
URL:https://saltspringzencircle.org/event/sitn-study-78/
CATEGORIES:Sit 'n' Study
END:VEVENT
BEGIN:VEVENT
DTSTART;TZID=America/Vancouver:20240405T070500
DTEND;TZID=America/Vancouver:20240405T074500
DTSTAMP:20260425T165116
CREATED:20231231T215406Z
LAST-MODIFIED:20231231T215720Z
UID:10000726-1712300700-1712303100@saltspringzencircle.org
SUMMARY:Morning Zazen
DESCRIPTION:7:05am – Zoom room opens\n7:10am – to be seated on cushions\n7:15am – Robe Chant to be followed by bell (ringing 3 times)\n7:45am – End of sitting
URL:https://saltspringzencircle.org/event/morning-zazen-146/2024-04-05/
END:VEVENT
BEGIN:VEVENT
DTSTART;TZID=America/Vancouver:20240403T190000
DTEND;TZID=America/Vancouver:20240403T210000
DTSTAMP:20260425T165116
CREATED:20231231T034335Z
LAST-MODIFIED:20240104T225032Z
UID:10000775-1712170800-1712178000@saltspringzencircle.org
SUMMARY:Evening Zazen
DESCRIPTION:In-Person Evening Zazen with Zoom option at All Saints by-the-Sea Anglican Church\, Upper Hall\, 110 Park Drive\, Ganges 
URL:https://saltspringzencircle.org/event/evening-zazen-69/2024-04-03/
CATEGORIES:Evening Zazen
END:VEVENT
BEGIN:VEVENT
DTSTART;TZID=America/Vancouver:20240401T071500
DTEND;TZID=America/Vancouver:20240401T074500
DTSTAMP:20260425T165116
CREATED:20231231T205735Z
LAST-MODIFIED:20231231T205735Z
UID:10000624-1711955700-1711957500@saltspringzencircle.org
SUMMARY:Morning Zazen
DESCRIPTION:7:05am – Zoom room opens\n7:10am – to be seated on cushions\n7:15am – Robe Chant to be followed by bell (ringing 3 times)\n7:45am – End of sitting
URL:https://saltspringzencircle.org/event/morning-zazen-145/2024-04-01/
CATEGORIES:Morning Zazen
END:VEVENT
BEGIN:VEVENT
DTSTART;TZID=America/Vancouver:20240331T070000
DTEND;TZID=America/Vancouver:20240331T100000
DTSTAMP:20260425T165116
CREATED:20240130T193802Z
LAST-MODIFIED:20240130T195054Z
UID:10001292-1711868400-1711879200@saltspringzencircle.org
SUMMARY:Sit'n Study
DESCRIPTION:Sit’n Study: Sittings are optional. Sitting: 7am-7:45am – Kinhin: 7:45am-8am – Sitting: 8am-8:45am – Break\nLeader: Rory MacDonald – Study: “To Meet That Which We Cannot Know” from The Truth of This Life by Katherine Thanas (Shambhala Publishing Inc. 2018) 
URL:https://saltspringzencircle.org/event/sitn-study-77/
CATEGORIES:Sit 'n' Study
END:VEVENT
BEGIN:VEVENT
DTSTART;TZID=America/Vancouver:20240329T070500
DTEND;TZID=America/Vancouver:20240329T074500
DTSTAMP:20260425T165116
CREATED:20231231T215406Z
LAST-MODIFIED:20231231T215720Z
UID:10000725-1711695900-1711698300@saltspringzencircle.org
SUMMARY:Morning Zazen
DESCRIPTION:7:05am – Zoom room opens\n7:10am – to be seated on cushions\n7:15am – Robe Chant to be followed by bell (ringing 3 times)\n7:45am – End of sitting
URL:https://saltspringzencircle.org/event/morning-zazen-146/2024-03-29/
END:VEVENT
BEGIN:VEVENT
DTSTART;TZID=America/Vancouver:20240327T190000
DTEND;TZID=America/Vancouver:20240327T210000
DTSTAMP:20260425T165116
CREATED:20231231T034335Z
LAST-MODIFIED:20240104T225032Z
UID:10000774-1711566000-1711573200@saltspringzencircle.org
SUMMARY:Evening Zazen
DESCRIPTION:In-Person Evening Zazen with Zoom option at All Saints by-the-Sea Anglican Church\, Upper Hall\, 110 Park Drive\, Ganges 
URL:https://saltspringzencircle.org/event/evening-zazen-69/2024-03-27/
CATEGORIES:Evening Zazen
END:VEVENT
BEGIN:VEVENT
DTSTART;TZID=America/Vancouver:20240325T071500
DTEND;TZID=America/Vancouver:20240325T074500
DTSTAMP:20260425T165116
CREATED:20231231T205735Z
LAST-MODIFIED:20231231T205735Z
UID:10000623-1711350900-1711352700@saltspringzencircle.org
SUMMARY:Morning Zazen
DESCRIPTION:7:05am – Zoom room opens\n7:10am – to be seated on cushions\n7:15am – Robe Chant to be followed by bell (ringing 3 times)\n7:45am – End of sitting
URL:https://saltspringzencircle.org/event/morning-zazen-145/2024-03-25/
CATEGORIES:Morning Zazen
END:VEVENT
BEGIN:VEVENT
DTSTART;TZID=America/Vancouver:20240324T070000
DTEND;TZID=America/Vancouver:20240324T100000
DTSTAMP:20260425T165116
CREATED:20240130T193349Z
LAST-MODIFIED:20240311T145547Z
UID:10001291-1711263600-1711274400@saltspringzencircle.org
SUMMARY:Sit'n Study
DESCRIPTION:Sit’n Study: Sittings are optional. Sitting: 7am-7:45am – Kinhin: 7:45am-8am – Sitting: 8am-8:45am – Break\nLeader: Maggie Tuck – Study: “This Deepest Self” from The Truth of This Life by Katherine Thanas (Shambhala Publishing Inc. 2018) 
URL:https://saltspringzencircle.org/event/sitn-study-76/
CATEGORIES:Sit 'n' Study
END:VEVENT
BEGIN:VEVENT
DTSTART;TZID=America/Vancouver:20240322T070500
DTEND;TZID=America/Vancouver:20240322T074500
DTSTAMP:20260425T165116
CREATED:20231231T215406Z
LAST-MODIFIED:20231231T215720Z
UID:10000724-1711091100-1711093500@saltspringzencircle.org
SUMMARY:Morning Zazen
DESCRIPTION:7:05am – Zoom room opens\n7:10am – to be seated on cushions\n7:15am – Robe Chant to be followed by bell (ringing 3 times)\n7:45am – End of sitting
URL:https://saltspringzencircle.org/event/morning-zazen-146/2024-03-22/
END:VEVENT
BEGIN:VEVENT
DTSTART;TZID=America/Vancouver:20240320T190000
DTEND;TZID=America/Vancouver:20240320T210000
DTSTAMP:20260425T165116
CREATED:20231231T034335Z
LAST-MODIFIED:20240104T225032Z
UID:10000773-1710961200-1710968400@saltspringzencircle.org
SUMMARY:Evening Zazen
DESCRIPTION:In-Person Evening Zazen with Zoom option at All Saints by-the-Sea Anglican Church\, Upper Hall\, 110 Park Drive\, Ganges 
URL:https://saltspringzencircle.org/event/evening-zazen-69/2024-03-20/
CATEGORIES:Evening Zazen
END:VEVENT
BEGIN:VEVENT
DTSTART;TZID=America/Vancouver:20240318T071500
DTEND;TZID=America/Vancouver:20240318T074500
DTSTAMP:20260425T165116
CREATED:20231231T205735Z
LAST-MODIFIED:20231231T205735Z
UID:10000622-1710746100-1710747900@saltspringzencircle.org
SUMMARY:Morning Zazen
DESCRIPTION:7:05am – Zoom room opens\n7:10am – to be seated on cushions\n7:15am – Robe Chant to be followed by bell (ringing 3 times)\n7:45am – End of sitting
URL:https://saltspringzencircle.org/event/morning-zazen-145/2024-03-18/
CATEGORIES:Morning Zazen
END:VEVENT
BEGIN:VEVENT
DTSTART;TZID=America/Vancouver:20240317T070000
DTEND;TZID=America/Vancouver:20240317T100000
DTSTAMP:20260425T165116
CREATED:20240130T192904Z
LAST-MODIFIED:20240202T001029Z
UID:10001290-1710658800-1710669600@saltspringzencircle.org
SUMMARY:Sit'n Study
DESCRIPTION:Sit’n Study: Sittings are optional. Sitting: 7am-7:45am – Kinhin: 7:45am-8am – Sitting: 8am-8:45am – Break\nLeader: Michelle Reed – Study: “Noticing Our Story Line” from The Truth of This Life by Katherine Thanas (Shambhala Publishing Inc. 2018) 
URL:https://saltspringzencircle.org/event/sitn-study-75/
CATEGORIES:Sit 'n' Study
END:VEVENT
BEGIN:VEVENT
DTSTART;TZID=America/Vancouver:20240315T070500
DTEND;TZID=America/Vancouver:20240315T074500
DTSTAMP:20260425T165116
CREATED:20231231T215406Z
LAST-MODIFIED:20231231T215720Z
UID:10000723-1710486300-1710488700@saltspringzencircle.org
SUMMARY:Morning Zazen
DESCRIPTION:7:05am – Zoom room opens\n7:10am – to be seated on cushions\n7:15am – Robe Chant to be followed by bell (ringing 3 times)\n7:45am – End of sitting
URL:https://saltspringzencircle.org/event/morning-zazen-146/2024-03-15/
END:VEVENT
BEGIN:VEVENT
DTSTART;TZID=America/Vancouver:20240313T190000
DTEND;TZID=America/Vancouver:20240313T210000
DTSTAMP:20260425T165116
CREATED:20231231T034335Z
LAST-MODIFIED:20240104T225032Z
UID:10000772-1710356400-1710363600@saltspringzencircle.org
SUMMARY:Evening Zazen
DESCRIPTION:In-Person Evening Zazen with Zoom option at All Saints by-the-Sea Anglican Church\, Upper Hall\, 110 Park Drive\, Ganges 
URL:https://saltspringzencircle.org/event/evening-zazen-69/2024-03-13/
CATEGORIES:Evening Zazen
END:VEVENT
BEGIN:VEVENT
DTSTART;TZID=America/Vancouver:20240311T071500
DTEND;TZID=America/Vancouver:20240311T074500
DTSTAMP:20260425T165116
CREATED:20231231T205735Z
LAST-MODIFIED:20231231T205735Z
UID:10000621-1710141300-1710143100@saltspringzencircle.org
SUMMARY:Morning Zazen
DESCRIPTION:7:05am – Zoom room opens\n7:10am – to be seated on cushions\n7:15am – Robe Chant to be followed by bell (ringing 3 times)\n7:45am – End of sitting
URL:https://saltspringzencircle.org/event/morning-zazen-145/2024-03-11/
CATEGORIES:Morning Zazen
END:VEVENT
BEGIN:VEVENT
DTSTART;TZID=America/Vancouver:20240310T070000
DTEND;TZID=America/Vancouver:20240310T100000
DTSTAMP:20260425T165116
CREATED:20240130T192446Z
LAST-MODIFIED:20240201T150119Z
UID:10001289-1710054000-1710064800@saltspringzencircle.org
SUMMARY:Sit'n Study
DESCRIPTION:Sit’n Study: Sittings are optional. Sitting: 7am-7:45am – Kinhin: 7:45am-8am – Sitting: 8am-8:45am – Break\nLeader: Chris Smart – Study: “This Very Mind is Buddha” from The Truth of This Life by Katherine Thanas (Shambhala Publishing Inc. 2018) 
URL:https://saltspringzencircle.org/event/sitn-study-74/
CATEGORIES:Sit 'n' Study
END:VEVENT
BEGIN:VEVENT
DTSTART;TZID=America/Vancouver:20240308T070500
DTEND;TZID=America/Vancouver:20240308T074500
DTSTAMP:20260425T165116
CREATED:20231231T215406Z
LAST-MODIFIED:20231231T215720Z
UID:10000722-1709881500-1709883900@saltspringzencircle.org
SUMMARY:Morning Zazen
DESCRIPTION:7:05am – Zoom room opens\n7:10am – to be seated on cushions\n7:15am – Robe Chant to be followed by bell (ringing 3 times)\n7:45am – End of sitting
URL:https://saltspringzencircle.org/event/morning-zazen-146/2024-03-08/
END:VEVENT
BEGIN:VEVENT
DTSTART;TZID=America/Vancouver:20240306T190000
DTEND;TZID=America/Vancouver:20240306T210000
DTSTAMP:20260425T165116
CREATED:20231231T034335Z
LAST-MODIFIED:20240104T225032Z
UID:10000771-1709751600-1709758800@saltspringzencircle.org
SUMMARY:Evening Zazen
DESCRIPTION:In-Person Evening Zazen with Zoom option at All Saints by-the-Sea Anglican Church\, Upper Hall\, 110 Park Drive\, Ganges 
URL:https://saltspringzencircle.org/event/evening-zazen-69/2024-03-06/
CATEGORIES:Evening Zazen
END:VEVENT
BEGIN:VEVENT
DTSTART;TZID=America/Vancouver:20240304T071500
DTEND;TZID=America/Vancouver:20240304T074500
DTSTAMP:20260425T165116
CREATED:20231231T205735Z
LAST-MODIFIED:20231231T205735Z
UID:10000620-1709536500-1709538300@saltspringzencircle.org
SUMMARY:Morning Zazen
DESCRIPTION:7:05am – Zoom room opens\n7:10am – to be seated on cushions\n7:15am – Robe Chant to be followed by bell (ringing 3 times)\n7:45am – End of sitting
URL:https://saltspringzencircle.org/event/morning-zazen-145/2024-03-04/
CATEGORIES:Morning Zazen
END:VEVENT
BEGIN:VEVENT
DTSTART;TZID=America/Vancouver:20240303T070000
DTEND;TZID=America/Vancouver:20240303T100000
DTSTAMP:20260425T165116
CREATED:20240130T192000Z
LAST-MODIFIED:20240302T004139Z
UID:10001288-1709449200-1709460000@saltspringzencircle.org
SUMMARY:Sit'n Study
DESCRIPTION:Sit’n Study: Sittings are optional. Sitting: 7am-7:45am – Kinhin: 7:45am-8am – Sitting: 8am-8:45am – Break\nLeader: Kõya Clare Mathias – Study: “No Pressure to Improve” from The Truth of This Life by Katherine Thanas (Shambhala Publishing Inc. 2018) 
URL:https://saltspringzencircle.org/event/sitn-study-73/
CATEGORIES:Sit 'n' Study
END:VEVENT
BEGIN:VEVENT
DTSTART;TZID=America/Vancouver:20240301T070500
DTEND;TZID=America/Vancouver:20240301T074500
DTSTAMP:20260425T165116
CREATED:20231231T215406Z
LAST-MODIFIED:20231231T215720Z
UID:10000721-1709276700-1709279100@saltspringzencircle.org
SUMMARY:Morning Zazen
DESCRIPTION:7:05am – Zoom room opens\n7:10am – to be seated on cushions\n7:15am – Robe Chant to be followed by bell (ringing 3 times)\n7:45am – End of sitting
URL:https://saltspringzencircle.org/event/morning-zazen-146/2024-03-01/
END:VEVENT
END:VCALENDAR