BEGIN:VCALENDAR
VERSION:2.0
PRODID:-// - ECPv6.15.20//NONSGML v1.0//EN
CALSCALE:GREGORIAN
METHOD:PUBLISH
X-ORIGINAL-URL:https://saltspringzencircle.org
X-WR-CALDESC:Events for 
REFRESH-INTERVAL;VALUE=DURATION:PT1H
X-Robots-Tag:noindex
X-PUBLISHED-TTL:PT1H
BEGIN:VTIMEZONE
TZID:America/Vancouver
BEGIN:DAYLIGHT
TZOFFSETFROM:-0800
TZOFFSETTO:-0700
TZNAME:PDT
DTSTART:20230312T100000
END:DAYLIGHT
BEGIN:STANDARD
TZOFFSETFROM:-0700
TZOFFSETTO:-0800
TZNAME:PST
DTSTART:20231105T090000
END:STANDARD
BEGIN:DAYLIGHT
TZOFFSETFROM:-0800
TZOFFSETTO:-0700
TZNAME:PDT
DTSTART:20240310T100000
END:DAYLIGHT
BEGIN:STANDARD
TZOFFSETFROM:-0700
TZOFFSETTO:-0800
TZNAME:PST
DTSTART:20241103T090000
END:STANDARD
BEGIN:DAYLIGHT
TZOFFSETFROM:-0800
TZOFFSETTO:-0700
TZNAME:PDT
DTSTART:20250309T100000
END:DAYLIGHT
BEGIN:STANDARD
TZOFFSETFROM:-0700
TZOFFSETTO:-0800
TZNAME:PST
DTSTART:20251102T090000
END:STANDARD
END:VTIMEZONE
BEGIN:VEVENT
DTSTART;TZID=America/Vancouver:20240612T190000
DTEND;TZID=America/Vancouver:20240612T210000
DTSTAMP:20260425T080442
CREATED:20231231T034335Z
LAST-MODIFIED:20240104T225032Z
UID:10000785-1718218800-1718226000@saltspringzencircle.org
SUMMARY:Evening Zazen
DESCRIPTION:In-Person Evening Zazen with Zoom option at All Saints by-the-Sea Anglican Church\, Upper Hall\, 110 Park Drive\, Ganges 
URL:https://saltspringzencircle.org/event/evening-zazen-69/2024-06-12/
CATEGORIES:Evening Zazen
END:VEVENT
BEGIN:VEVENT
DTSTART;TZID=America/Vancouver:20240610T071500
DTEND;TZID=America/Vancouver:20240610T074500
DTSTAMP:20260425T080442
CREATED:20231231T205735Z
LAST-MODIFIED:20231231T205735Z
UID:10000634-1718003700-1718005500@saltspringzencircle.org
SUMMARY:Morning Zazen
DESCRIPTION:7:05am – Zoom room opens\n7:10am – to be seated on cushions\n7:15am – Robe Chant to be followed by bell (ringing 3 times)\n7:45am – End of sitting
URL:https://saltspringzencircle.org/event/morning-zazen-145/2024-06-10/
CATEGORIES:Morning Zazen
END:VEVENT
BEGIN:VEVENT
DTSTART;TZID=America/Vancouver:20240609T070000
DTEND;TZID=America/Vancouver:20240609T100000
DTSTAMP:20260425T080442
CREATED:20240210T164256Z
LAST-MODIFIED:20240418T174658Z
UID:10001302-1717916400-1717927200@saltspringzencircle.org
SUMMARY:Sit'n Study
DESCRIPTION:Sit’n Study: Sittings are optional. Sitting: 7am-7:45am – Kinhin: 7:45am-8am – Sitting: 8am-8:45am – Break\nLeader: Sheila Dobie – “Seeing Impermanence Itself” from The Truth of This Life by Katherine Thanas (Shambhala Publications Inc. 2018) \n\n\n\n\n 
URL:https://saltspringzencircle.org/event/sitn-study-87/
CATEGORIES:Sit 'n' Study
END:VEVENT
BEGIN:VEVENT
DTSTART;TZID=America/Vancouver:20240607T070500
DTEND;TZID=America/Vancouver:20240607T074500
DTSTAMP:20260425T080442
CREATED:20231231T215406Z
LAST-MODIFIED:20231231T215720Z
UID:10000735-1717743900-1717746300@saltspringzencircle.org
SUMMARY:Morning Zazen
DESCRIPTION:7:05am – Zoom room opens\n7:10am – to be seated on cushions\n7:15am – Robe Chant to be followed by bell (ringing 3 times)\n7:45am – End of sitting
URL:https://saltspringzencircle.org/event/morning-zazen-146/2024-06-07/
END:VEVENT
BEGIN:VEVENT
DTSTART;TZID=America/Vancouver:20240605T190000
DTEND;TZID=America/Vancouver:20240605T210000
DTSTAMP:20260425T080442
CREATED:20231231T034335Z
LAST-MODIFIED:20240104T225032Z
UID:10000784-1717614000-1717621200@saltspringzencircle.org
SUMMARY:Evening Zazen
DESCRIPTION:In-Person Evening Zazen with Zoom option at All Saints by-the-Sea Anglican Church\, Upper Hall\, 110 Park Drive\, Ganges 
URL:https://saltspringzencircle.org/event/evening-zazen-69/2024-06-05/
CATEGORIES:Evening Zazen
END:VEVENT
BEGIN:VEVENT
DTSTART;TZID=America/Vancouver:20240603T071500
DTEND;TZID=America/Vancouver:20240603T074500
DTSTAMP:20260425T080442
CREATED:20231231T205735Z
LAST-MODIFIED:20231231T205735Z
UID:10000633-1717398900-1717400700@saltspringzencircle.org
SUMMARY:Morning Zazen
DESCRIPTION:7:05am – Zoom room opens\n7:10am – to be seated on cushions\n7:15am – Robe Chant to be followed by bell (ringing 3 times)\n7:45am – End of sitting
URL:https://saltspringzencircle.org/event/morning-zazen-145/2024-06-03/
CATEGORIES:Morning Zazen
END:VEVENT
BEGIN:VEVENT
DTSTART;TZID=America/Vancouver:20240602T070000
DTEND;TZID=America/Vancouver:20240602T100000
DTSTAMP:20260425T080442
CREATED:20240210T163446Z
LAST-MODIFIED:20240507T230332Z
UID:10001301-1717311600-1717322400@saltspringzencircle.org
SUMMARY:Sit'n Study
DESCRIPTION:Sit’n Study: Sittings are optional. Sitting: 7am-7:45am – Kinhin: 7:45am-8am – Sitting: 8am-8:45am – Break\nLeader: Mary Reher – “The True Ch’ien” from The Truth of This Life by Katherine Thanas (Shambhala Publications Inc. 2018)
URL:https://saltspringzencircle.org/event/sitn-study-86/
CATEGORIES:Sit 'n' Study
END:VEVENT
BEGIN:VEVENT
DTSTART;TZID=America/Vancouver:20240531T070500
DTEND;TZID=America/Vancouver:20240531T074500
DTSTAMP:20260425T080442
CREATED:20231231T215406Z
LAST-MODIFIED:20231231T215720Z
UID:10000734-1717139100-1717141500@saltspringzencircle.org
SUMMARY:Morning Zazen
DESCRIPTION:7:05am – Zoom room opens\n7:10am – to be seated on cushions\n7:15am – Robe Chant to be followed by bell (ringing 3 times)\n7:45am – End of sitting
URL:https://saltspringzencircle.org/event/morning-zazen-146/2024-05-31/
END:VEVENT
BEGIN:VEVENT
DTSTART;TZID=America/Vancouver:20240529T190000
DTEND;TZID=America/Vancouver:20240529T210000
DTSTAMP:20260425T080442
CREATED:20231231T034335Z
LAST-MODIFIED:20240104T225032Z
UID:10000783-1717009200-1717016400@saltspringzencircle.org
SUMMARY:Evening Zazen
DESCRIPTION:In-Person Evening Zazen with Zoom option at All Saints by-the-Sea Anglican Church\, Upper Hall\, 110 Park Drive\, Ganges 
URL:https://saltspringzencircle.org/event/evening-zazen-69/2024-05-29/
CATEGORIES:Evening Zazen
END:VEVENT
BEGIN:VEVENT
DTSTART;TZID=America/Vancouver:20240527T071500
DTEND;TZID=America/Vancouver:20240527T074500
DTSTAMP:20260425T080442
CREATED:20231231T205735Z
LAST-MODIFIED:20231231T205735Z
UID:10000632-1716794100-1716795900@saltspringzencircle.org
SUMMARY:Morning Zazen
DESCRIPTION:7:05am – Zoom room opens\n7:10am – to be seated on cushions\n7:15am – Robe Chant to be followed by bell (ringing 3 times)\n7:45am – End of sitting
URL:https://saltspringzencircle.org/event/morning-zazen-145/2024-05-27/
CATEGORIES:Morning Zazen
END:VEVENT
BEGIN:VEVENT
DTSTART;TZID=America/Vancouver:20240526T070000
DTEND;TZID=America/Vancouver:20240526T100000
DTSTAMP:20260425T080442
CREATED:20240131T224032Z
LAST-MODIFIED:20240418T174541Z
UID:10001300-1716706800-1716717600@saltspringzencircle.org
SUMMARY:Sit'n Study
DESCRIPTION:Sit’n Study: Sittings are optional. Sitting: 7am-7:45am – Kinhin: 7:45am-8am – Sitting: 8am-8:45am – Break\nLeader: Doug Reid –“It’s All in the Details” from The Truth of This Life by Katherine Thanas (Shambhala Publications Inc. 2018)
URL:https://saltspringzencircle.org/event/sitn-study-85/
CATEGORIES:Sit 'n' Study
END:VEVENT
BEGIN:VEVENT
DTSTART;TZID=America/Vancouver:20240524T070500
DTEND;TZID=America/Vancouver:20240524T074500
DTSTAMP:20260425T080442
CREATED:20231231T215406Z
LAST-MODIFIED:20231231T215720Z
UID:10000733-1716534300-1716536700@saltspringzencircle.org
SUMMARY:Morning Zazen
DESCRIPTION:7:05am – Zoom room opens\n7:10am – to be seated on cushions\n7:15am – Robe Chant to be followed by bell (ringing 3 times)\n7:45am – End of sitting
URL:https://saltspringzencircle.org/event/morning-zazen-146/2024-05-24/
END:VEVENT
BEGIN:VEVENT
DTSTART;TZID=America/Vancouver:20240522T190000
DTEND;TZID=America/Vancouver:20240522T210000
DTSTAMP:20260425T080442
CREATED:20231231T034335Z
LAST-MODIFIED:20240104T225032Z
UID:10000782-1716404400-1716411600@saltspringzencircle.org
SUMMARY:Evening Zazen
DESCRIPTION:In-Person Evening Zazen with Zoom option at All Saints by-the-Sea Anglican Church\, Upper Hall\, 110 Park Drive\, Ganges 
URL:https://saltspringzencircle.org/event/evening-zazen-69/2024-05-22/
CATEGORIES:Evening Zazen
END:VEVENT
BEGIN:VEVENT
DTSTART;TZID=America/Vancouver:20240520T071500
DTEND;TZID=America/Vancouver:20240520T074500
DTSTAMP:20260425T080442
CREATED:20231231T205735Z
LAST-MODIFIED:20231231T205735Z
UID:10000631-1716189300-1716191100@saltspringzencircle.org
SUMMARY:Morning Zazen
DESCRIPTION:7:05am – Zoom room opens\n7:10am – to be seated on cushions\n7:15am – Robe Chant to be followed by bell (ringing 3 times)\n7:45am – End of sitting
URL:https://saltspringzencircle.org/event/morning-zazen-145/2024-05-20/
CATEGORIES:Morning Zazen
END:VEVENT
BEGIN:VEVENT
DTSTART;TZID=America/Vancouver:20240519T070000
DTEND;TZID=America/Vancouver:20240519T100000
DTSTAMP:20260425T080442
CREATED:20240131T223719Z
LAST-MODIFIED:20240422T232549Z
UID:10001299-1716102000-1716112800@saltspringzencircle.org
SUMMARY:Sit'n Study
DESCRIPTION:Sit’n Study: Sittings are optional. Sitting: 7am-7:45am – Kinhin: 7:45am-8am – Sitting: 8am-8:45am – Break\nLeader: Rory MacDonald –“How the Universe Thinks” from The Truth of This Life by Katherine Thanas (Shambhala Publications Inc. 2018)
URL:https://saltspringzencircle.org/event/sitn-study-84/
CATEGORIES:Sit 'n' Study
END:VEVENT
BEGIN:VEVENT
DTSTART;TZID=America/Vancouver:20240517T070500
DTEND;TZID=America/Vancouver:20240517T074500
DTSTAMP:20260425T080442
CREATED:20231231T215406Z
LAST-MODIFIED:20231231T215720Z
UID:10000732-1715929500-1715931900@saltspringzencircle.org
SUMMARY:Morning Zazen
DESCRIPTION:7:05am – Zoom room opens\n7:10am – to be seated on cushions\n7:15am – Robe Chant to be followed by bell (ringing 3 times)\n7:45am – End of sitting
URL:https://saltspringzencircle.org/event/morning-zazen-146/2024-05-17/
END:VEVENT
BEGIN:VEVENT
DTSTART;TZID=America/Vancouver:20240515T190000
DTEND;TZID=America/Vancouver:20240515T210000
DTSTAMP:20260425T080442
CREATED:20231231T034335Z
LAST-MODIFIED:20240104T225032Z
UID:10000781-1715799600-1715806800@saltspringzencircle.org
SUMMARY:Evening Zazen
DESCRIPTION:In-Person Evening Zazen with Zoom option at All Saints by-the-Sea Anglican Church\, Upper Hall\, 110 Park Drive\, Ganges 
URL:https://saltspringzencircle.org/event/evening-zazen-69/2024-05-15/
CATEGORIES:Evening Zazen
END:VEVENT
BEGIN:VEVENT
DTSTART;TZID=America/Vancouver:20240513T071500
DTEND;TZID=America/Vancouver:20240513T074500
DTSTAMP:20260425T080442
CREATED:20231231T205735Z
LAST-MODIFIED:20231231T205735Z
UID:10000630-1715584500-1715586300@saltspringzencircle.org
SUMMARY:Morning Zazen
DESCRIPTION:7:05am – Zoom room opens\n7:10am – to be seated on cushions\n7:15am – Robe Chant to be followed by bell (ringing 3 times)\n7:45am – End of sitting
URL:https://saltspringzencircle.org/event/morning-zazen-145/2024-05-13/
CATEGORIES:Morning Zazen
END:VEVENT
BEGIN:VEVENT
DTSTART;TZID=America/Vancouver:20240512T070000
DTEND;TZID=America/Vancouver:20240512T100000
DTSTAMP:20260425T080442
CREATED:20240131T215603Z
LAST-MODIFIED:20240419T044007Z
UID:10001298-1715497200-1715508000@saltspringzencircle.org
SUMMARY:Sit'n Study
DESCRIPTION:Sit’n Study: Sittings are optional. Sitting: 7am-7:45am – Kinhin: 7:45am-8am – Sitting: 8am-8:45am – Break\nLeader: Chris Smart –“The Oneness of Two” from The Truth of This Life by Katherine Thanas (Shambhala Publications Inc. 2018)
URL:https://saltspringzencircle.org/event/sitn-study-83/
CATEGORIES:Sit 'n' Study
END:VEVENT
BEGIN:VEVENT
DTSTART;TZID=America/Vancouver:20240510T070500
DTEND;TZID=America/Vancouver:20240510T074500
DTSTAMP:20260425T080442
CREATED:20231231T215406Z
LAST-MODIFIED:20231231T215720Z
UID:10000731-1715324700-1715327100@saltspringzencircle.org
SUMMARY:Morning Zazen
DESCRIPTION:7:05am – Zoom room opens\n7:10am – to be seated on cushions\n7:15am – Robe Chant to be followed by bell (ringing 3 times)\n7:45am – End of sitting
URL:https://saltspringzencircle.org/event/morning-zazen-146/2024-05-10/
END:VEVENT
BEGIN:VEVENT
DTSTART;TZID=America/Vancouver:20240508T190000
DTEND;TZID=America/Vancouver:20240508T210000
DTSTAMP:20260425T080442
CREATED:20231231T034335Z
LAST-MODIFIED:20240104T225032Z
UID:10000780-1715194800-1715202000@saltspringzencircle.org
SUMMARY:Evening Zazen
DESCRIPTION:In-Person Evening Zazen with Zoom option at All Saints by-the-Sea Anglican Church\, Upper Hall\, 110 Park Drive\, Ganges 
URL:https://saltspringzencircle.org/event/evening-zazen-69/2024-05-08/
CATEGORIES:Evening Zazen
END:VEVENT
BEGIN:VEVENT
DTSTART;TZID=America/Vancouver:20240506T071500
DTEND;TZID=America/Vancouver:20240506T074500
DTSTAMP:20260425T080442
CREATED:20231231T205735Z
LAST-MODIFIED:20231231T205735Z
UID:10000629-1714979700-1714981500@saltspringzencircle.org
SUMMARY:Morning Zazen
DESCRIPTION:7:05am – Zoom room opens\n7:10am – to be seated on cushions\n7:15am – Robe Chant to be followed by bell (ringing 3 times)\n7:45am – End of sitting
URL:https://saltspringzencircle.org/event/morning-zazen-145/2024-05-06/
CATEGORIES:Morning Zazen
END:VEVENT
BEGIN:VEVENT
DTSTART;TZID=America/Vancouver:20240505T070000
DTEND;TZID=America/Vancouver:20240505T100000
DTSTAMP:20260425T080442
CREATED:20240131T215238Z
LAST-MODIFIED:20240418T174619Z
UID:10001297-1714892400-1714903200@saltspringzencircle.org
SUMMARY:Sit'n Study
DESCRIPTION:Sit’n Study: Sittings are optional. Sitting: 7am-7:45am – Kinhin: 7:45am-8am – Sitting: 8am-8:45am – Break\nLeader: Judy Daylen – “Depth of Mind (A Two-Day Retreat)” from The Truth of This Life by Katherine Thanas (Shambhala Publications Inc. 2018)
URL:https://saltspringzencircle.org/event/sitn-study-82/
CATEGORIES:Sit 'n' Study
END:VEVENT
BEGIN:VEVENT
DTSTART;TZID=America/Vancouver:20240503T070500
DTEND;TZID=America/Vancouver:20240503T074500
DTSTAMP:20260425T080442
CREATED:20231231T215406Z
LAST-MODIFIED:20231231T215720Z
UID:10000730-1714719900-1714722300@saltspringzencircle.org
SUMMARY:Morning Zazen
DESCRIPTION:7:05am – Zoom room opens\n7:10am – to be seated on cushions\n7:15am – Robe Chant to be followed by bell (ringing 3 times)\n7:45am – End of sitting
URL:https://saltspringzencircle.org/event/morning-zazen-146/2024-05-03/
END:VEVENT
BEGIN:VEVENT
DTSTART;TZID=America/Vancouver:20240501T190000
DTEND;TZID=America/Vancouver:20240501T210000
DTSTAMP:20260425T080442
CREATED:20231231T034335Z
LAST-MODIFIED:20240104T225032Z
UID:10000779-1714590000-1714597200@saltspringzencircle.org
SUMMARY:Evening Zazen
DESCRIPTION:In-Person Evening Zazen with Zoom option at All Saints by-the-Sea Anglican Church\, Upper Hall\, 110 Park Drive\, Ganges 
URL:https://saltspringzencircle.org/event/evening-zazen-69/2024-05-01/
CATEGORIES:Evening Zazen
END:VEVENT
BEGIN:VEVENT
DTSTART;TZID=America/Vancouver:20240429T071500
DTEND;TZID=America/Vancouver:20240429T074500
DTSTAMP:20260425T080442
CREATED:20231231T205735Z
LAST-MODIFIED:20231231T205735Z
UID:10000628-1714374900-1714376700@saltspringzencircle.org
SUMMARY:Morning Zazen
DESCRIPTION:7:05am – Zoom room opens\n7:10am – to be seated on cushions\n7:15am – Robe Chant to be followed by bell (ringing 3 times)\n7:45am – End of sitting
URL:https://saltspringzencircle.org/event/morning-zazen-145/2024-04-29/
CATEGORIES:Morning Zazen
END:VEVENT
BEGIN:VEVENT
DTSTART;TZID=America/Vancouver:20240428T070000
DTEND;TZID=America/Vancouver:20240428T100000
DTSTAMP:20260425T080442
CREATED:20240130T200021Z
LAST-MODIFIED:20240418T174229Z
UID:10001296-1714287600-1714298400@saltspringzencircle.org
SUMMARY:Sit'n Study
DESCRIPTION:Sit’n Study: Sittings are optional. Sitting: 7am-7:45am – Kinhin: 7:45am-8am – Sitting: 8am-8:45am – Break\nLeader: Michelle Reed Study: “What is the Flavor of Plain?” from The Truth of This Life by Katherine Thanas (Shambhala Publications Inc. 2018)
URL:https://saltspringzencircle.org/event/sitn-study-81/
CATEGORIES:Sit 'n' Study
END:VEVENT
BEGIN:VEVENT
DTSTART;TZID=America/Vancouver:20240426T070500
DTEND;TZID=America/Vancouver:20240426T074500
DTSTAMP:20260425T080442
CREATED:20231231T215406Z
LAST-MODIFIED:20231231T215720Z
UID:10000729-1714115100-1714117500@saltspringzencircle.org
SUMMARY:Morning Zazen
DESCRIPTION:7:05am – Zoom room opens\n7:10am – to be seated on cushions\n7:15am – Robe Chant to be followed by bell (ringing 3 times)\n7:45am – End of sitting
URL:https://saltspringzencircle.org/event/morning-zazen-146/2024-04-26/
END:VEVENT
BEGIN:VEVENT
DTSTART;TZID=America/Vancouver:20240424T190000
DTEND;TZID=America/Vancouver:20240424T210000
DTSTAMP:20260425T080442
CREATED:20231231T034335Z
LAST-MODIFIED:20240104T225032Z
UID:10000778-1713985200-1713992400@saltspringzencircle.org
SUMMARY:Evening Zazen
DESCRIPTION:In-Person Evening Zazen with Zoom option at All Saints by-the-Sea Anglican Church\, Upper Hall\, 110 Park Drive\, Ganges 
URL:https://saltspringzencircle.org/event/evening-zazen-69/2024-04-24/
CATEGORIES:Evening Zazen
END:VEVENT
BEGIN:VEVENT
DTSTART;TZID=America/Vancouver:20240422T071500
DTEND;TZID=America/Vancouver:20240422T074500
DTSTAMP:20260425T080442
CREATED:20231231T205735Z
LAST-MODIFIED:20231231T205735Z
UID:10000627-1713770100-1713771900@saltspringzencircle.org
SUMMARY:Morning Zazen
DESCRIPTION:7:05am – Zoom room opens\n7:10am – to be seated on cushions\n7:15am – Robe Chant to be followed by bell (ringing 3 times)\n7:45am – End of sitting
URL:https://saltspringzencircle.org/event/morning-zazen-145/2024-04-22/
CATEGORIES:Morning Zazen
END:VEVENT
END:VCALENDAR