BEGIN:VCALENDAR
VERSION:2.0
PRODID:-// - ECPv6.15.20//NONSGML v1.0//EN
CALSCALE:GREGORIAN
METHOD:PUBLISH
X-ORIGINAL-URL:https://saltspringzencircle.org
X-WR-CALDESC:Events for 
REFRESH-INTERVAL;VALUE=DURATION:PT1H
X-Robots-Tag:noindex
X-PUBLISHED-TTL:PT1H
BEGIN:VTIMEZONE
TZID:America/Vancouver
BEGIN:DAYLIGHT
TZOFFSETFROM:-0800
TZOFFSETTO:-0700
TZNAME:PDT
DTSTART:20240310T100000
END:DAYLIGHT
BEGIN:STANDARD
TZOFFSETFROM:-0700
TZOFFSETTO:-0800
TZNAME:PST
DTSTART:20241103T090000
END:STANDARD
BEGIN:DAYLIGHT
TZOFFSETFROM:-0800
TZOFFSETTO:-0700
TZNAME:PDT
DTSTART:20250309T100000
END:DAYLIGHT
BEGIN:STANDARD
TZOFFSETFROM:-0700
TZOFFSETTO:-0800
TZNAME:PST
DTSTART:20251102T090000
END:STANDARD
BEGIN:DAYLIGHT
TZOFFSETFROM:-0800
TZOFFSETTO:-0700
TZNAME:PDT
DTSTART:20260308T100000
END:DAYLIGHT
BEGIN:STANDARD
TZOFFSETFROM:-0700
TZOFFSETTO:-0800
TZNAME:PST
DTSTART:20261101T090000
END:STANDARD
END:VTIMEZONE
BEGIN:VEVENT
DTSTART;TZID=America/Vancouver:20250704T070000
DTEND;TZID=America/Vancouver:20250704T074500
DTSTAMP:20260424T024839
CREATED:20250103T155802Z
LAST-MODIFIED:20250103T183152Z
UID:10001637-1751612400-1751615100@saltspringzencircle.org
SUMMARY:Morning Zazen
DESCRIPTION:Please be seated by 7am
URL:https://saltspringzencircle.org/event/morning-zazen-150/2025-07-04/
CATEGORIES:Morning Zazen
END:VEVENT
BEGIN:VEVENT
DTSTART;TZID=America/Vancouver:20250702T190000
DTEND;TZID=America/Vancouver:20250702T210000
DTSTAMP:20260424T024839
CREATED:20231231T034335Z
LAST-MODIFIED:20240104T225032Z
UID:10000840-1751482800-1751490000@saltspringzencircle.org
SUMMARY:Evening Zazen
DESCRIPTION:In-Person Evening Zazen with Zoom option at All Saints by-the-Sea Anglican Church\, Upper Hall\, 110 Park Drive\, Ganges 
URL:https://saltspringzencircle.org/event/evening-zazen-69/2025-07-02/
CATEGORIES:Evening Zazen
END:VEVENT
BEGIN:VEVENT
DTSTART;TZID=America/Vancouver:20250630T070000
DTEND;TZID=America/Vancouver:20250630T074500
DTSTAMP:20260424T024839
CREATED:20250103T155503Z
LAST-MODIFIED:20250103T155503Z
UID:10001373-1751266800-1751269500@saltspringzencircle.org
SUMMARY:Morning Zazen
DESCRIPTION:
URL:https://saltspringzencircle.org/event/morning-zazen-149/2025-06-30/
CATEGORIES:Morning Zazen
END:VEVENT
BEGIN:VEVENT
DTSTART;TZID=America/Vancouver:20250629T070000
DTEND;TZID=America/Vancouver:20250629T100000
DTSTAMP:20260424T024839
CREATED:20250221T195404Z
LAST-MODIFIED:20250616T041822Z
UID:10002130-1751180400-1751191200@saltspringzencircle.org
SUMMARY:Sit'n Study
DESCRIPTION:Sit’n Study: Sittings are optional. Sitting: 7am-7:45am – Kinhin: 7:45am-8am – Sitting: 8am-8:45am –  Break Study:  9am-10am Leader: Maggie: Greg’s Body P.182 From: The Book of Householder Koans- Waking Up in the Land of Attachments by Eve Myonen Marko and Wendy Egyoku Nakao. Published by Monkfish Book Publishing Co.
URL:https://saltspringzencircle.org/event/sitn-study-136/
CATEGORIES:Sit 'n' Study
END:VEVENT
BEGIN:VEVENT
DTSTART;TZID=America/Vancouver:20250629T070000
DTEND;TZID=America/Vancouver:20250629T100000
DTSTAMP:20260424T024839
CREATED:20250220T235844Z
LAST-MODIFIED:20250221T000651Z
UID:10001880-1751180400-1751191200@saltspringzencircle.org
SUMMARY:
DESCRIPTION:Sit’n Study: Sittings are optional. Sitting: 7am-7:45am – Kinhin: 7:45am-8am – Sitting: 8am-8:45am –  Break Study:  9am-10am Leader: TBA: Satsujo Weeps  P.179 From: The Hidden Lamp: Stories from Twenty-Five Centuries of Awakened Women\, edited by Florence Caplow and Susan Moon. Published by Wisdom Publications.
URL:https://saltspringzencircle.org/event/5085/2025-06-29/
CATEGORIES:Sit 'n' Study
END:VEVENT
BEGIN:VEVENT
DTSTART;TZID=America/Vancouver:20250627T070000
DTEND;TZID=America/Vancouver:20250627T074500
DTSTAMP:20260424T024839
CREATED:20250103T155802Z
LAST-MODIFIED:20250103T183152Z
UID:10001636-1751007600-1751010300@saltspringzencircle.org
SUMMARY:Morning Zazen
DESCRIPTION:Please be seated by 7am
URL:https://saltspringzencircle.org/event/morning-zazen-150/2025-06-27/
CATEGORIES:Morning Zazen
END:VEVENT
BEGIN:VEVENT
DTSTART;TZID=America/Vancouver:20250625T190000
DTEND;TZID=America/Vancouver:20250625T210000
DTSTAMP:20260424T024839
CREATED:20231231T034335Z
LAST-MODIFIED:20240104T225032Z
UID:10000839-1750878000-1750885200@saltspringzencircle.org
SUMMARY:Evening Zazen
DESCRIPTION:In-Person Evening Zazen with Zoom option at All Saints by-the-Sea Anglican Church\, Upper Hall\, 110 Park Drive\, Ganges 
URL:https://saltspringzencircle.org/event/evening-zazen-69/2025-06-25/
CATEGORIES:Evening Zazen
END:VEVENT
BEGIN:VEVENT
DTSTART;TZID=America/Vancouver:20250623T070000
DTEND;TZID=America/Vancouver:20250623T074500
DTSTAMP:20260424T024839
CREATED:20250103T155503Z
LAST-MODIFIED:20250103T155503Z
UID:10001372-1750662000-1750664700@saltspringzencircle.org
SUMMARY:Morning Zazen
DESCRIPTION:
URL:https://saltspringzencircle.org/event/morning-zazen-149/2025-06-23/
CATEGORIES:Morning Zazen
END:VEVENT
BEGIN:VEVENT
DTSTART;TZID=America/Vancouver:20250622T070000
DTEND;TZID=America/Vancouver:20250622T100000
DTSTAMP:20260424T024839
CREATED:20250221T194821Z
LAST-MODIFIED:20250502T204058Z
UID:10002129-1750575600-1750586400@saltspringzencircle.org
SUMMARY:Sit'n Study
DESCRIPTION:Sit’n Study: Sittings are optional. Sitting: 7am-7:45am – Kinhin: 7:45am-8am – Sitting: 8am-8:45am –  Break Study:  9am-10am Leader: Mary Reher:  Kongshi’s Bathhouse P.244  From: The Hidden Lamp: Stories from Twenty-Five Centuries of Awakened Women\, edited by Florence Caplow and Susan Moon. Published by Wisdom Publications.
URL:https://saltspringzencircle.org/event/sitn-study-135/
CATEGORIES:Sit 'n' Study
END:VEVENT
BEGIN:VEVENT
DTSTART;TZID=America/Vancouver:20250622T070000
DTEND;TZID=America/Vancouver:20250622T100000
DTSTAMP:20260424T024839
CREATED:20250220T235844Z
LAST-MODIFIED:20250221T000651Z
UID:10001879-1750575600-1750586400@saltspringzencircle.org
SUMMARY:
DESCRIPTION:Sit’n Study: Sittings are optional. Sitting: 7am-7:45am – Kinhin: 7:45am-8am – Sitting: 8am-8:45am –  Break Study:  9am-10am Leader: TBA: Satsujo Weeps  P.179 From: The Hidden Lamp: Stories from Twenty-Five Centuries of Awakened Women\, edited by Florence Caplow and Susan Moon. Published by Wisdom Publications.
URL:https://saltspringzencircle.org/event/5085/2025-06-22/
CATEGORIES:Sit 'n' Study
END:VEVENT
BEGIN:VEVENT
DTSTART;TZID=America/Vancouver:20250620T070000
DTEND;TZID=America/Vancouver:20250620T074500
DTSTAMP:20260424T024839
CREATED:20250103T155802Z
LAST-MODIFIED:20250103T183152Z
UID:10001635-1750402800-1750405500@saltspringzencircle.org
SUMMARY:Morning Zazen
DESCRIPTION:Please be seated by 7am
URL:https://saltspringzencircle.org/event/morning-zazen-150/2025-06-20/
CATEGORIES:Morning Zazen
END:VEVENT
BEGIN:VEVENT
DTSTART;TZID=America/Vancouver:20250618T190000
DTEND;TZID=America/Vancouver:20250618T210000
DTSTAMP:20260424T024839
CREATED:20231231T034335Z
LAST-MODIFIED:20240104T225032Z
UID:10000838-1750273200-1750280400@saltspringzencircle.org
SUMMARY:Evening Zazen
DESCRIPTION:In-Person Evening Zazen with Zoom option at All Saints by-the-Sea Anglican Church\, Upper Hall\, 110 Park Drive\, Ganges 
URL:https://saltspringzencircle.org/event/evening-zazen-69/2025-06-18/
CATEGORIES:Evening Zazen
END:VEVENT
BEGIN:VEVENT
DTSTART;TZID=America/Vancouver:20250616T070000
DTEND;TZID=America/Vancouver:20250616T074500
DTSTAMP:20260424T024839
CREATED:20250103T155503Z
LAST-MODIFIED:20250103T155503Z
UID:10001371-1750057200-1750059900@saltspringzencircle.org
SUMMARY:Morning Zazen
DESCRIPTION:
URL:https://saltspringzencircle.org/event/morning-zazen-149/2025-06-16/
CATEGORIES:Morning Zazen
END:VEVENT
BEGIN:VEVENT
DTSTART;TZID=America/Vancouver:20250615T070000
DTEND;TZID=America/Vancouver:20250615T100000
DTSTAMP:20260424T024839
CREATED:20250221T194241Z
LAST-MODIFIED:20250330T044056Z
UID:10002128-1749970800-1749981600@saltspringzencircle.org
SUMMARY:Sit'n Study
DESCRIPTION:Sit’n Study: Sittings are optional. Sitting: 7am-7:45am – Kinhin: 7:45am-8am – Sitting: 8am-8:45am –  Break Study:  9am-10am Leader: Shirley Graham: From: Yu Uses Her Full Strength P72 The Hidden Lamp: Stories from Twenty-Five Centuries of Awakened Women edited by Florence Caplow and Susan Moon. Wisdom Publications 2013 
URL:https://saltspringzencircle.org/event/sitn-study-134/
CATEGORIES:Sit 'n' Study
END:VEVENT
BEGIN:VEVENT
DTSTART;TZID=America/Vancouver:20250615T070000
DTEND;TZID=America/Vancouver:20250615T100000
DTSTAMP:20260424T024839
CREATED:20250220T235844Z
LAST-MODIFIED:20250221T000651Z
UID:10001878-1749970800-1749981600@saltspringzencircle.org
SUMMARY:
DESCRIPTION:Sit’n Study: Sittings are optional. Sitting: 7am-7:45am – Kinhin: 7:45am-8am – Sitting: 8am-8:45am –  Break Study:  9am-10am Leader: TBA: Satsujo Weeps  P.179 From: The Hidden Lamp: Stories from Twenty-Five Centuries of Awakened Women\, edited by Florence Caplow and Susan Moon. Published by Wisdom Publications.
URL:https://saltspringzencircle.org/event/5085/2025-06-15/
CATEGORIES:Sit 'n' Study
END:VEVENT
BEGIN:VEVENT
DTSTART;TZID=America/Vancouver:20250613T070000
DTEND;TZID=America/Vancouver:20250613T074500
DTSTAMP:20260424T024839
CREATED:20250103T155802Z
LAST-MODIFIED:20250103T183152Z
UID:10001634-1749798000-1749800700@saltspringzencircle.org
SUMMARY:Morning Zazen
DESCRIPTION:Please be seated by 7am
URL:https://saltspringzencircle.org/event/morning-zazen-150/2025-06-13/
CATEGORIES:Morning Zazen
END:VEVENT
BEGIN:VEVENT
DTSTART;TZID=America/Vancouver:20250611T190000
DTEND;TZID=America/Vancouver:20250611T210000
DTSTAMP:20260424T024839
CREATED:20231231T034335Z
LAST-MODIFIED:20240104T225032Z
UID:10000837-1749668400-1749675600@saltspringzencircle.org
SUMMARY:Evening Zazen
DESCRIPTION:In-Person Evening Zazen with Zoom option at All Saints by-the-Sea Anglican Church\, Upper Hall\, 110 Park Drive\, Ganges 
URL:https://saltspringzencircle.org/event/evening-zazen-69/2025-06-11/
CATEGORIES:Evening Zazen
END:VEVENT
BEGIN:VEVENT
DTSTART;TZID=America/Vancouver:20250609T070000
DTEND;TZID=America/Vancouver:20250609T074500
DTSTAMP:20260424T024839
CREATED:20250103T155503Z
LAST-MODIFIED:20250103T155503Z
UID:10001370-1749452400-1749455100@saltspringzencircle.org
SUMMARY:Morning Zazen
DESCRIPTION:
URL:https://saltspringzencircle.org/event/morning-zazen-149/2025-06-09/
CATEGORIES:Morning Zazen
END:VEVENT
BEGIN:VEVENT
DTSTART;TZID=America/Vancouver:20250608T070000
DTEND;TZID=America/Vancouver:20250608T100000
DTSTAMP:20260424T024839
CREATED:20250221T193847Z
LAST-MODIFIED:20250608T150909Z
UID:10002127-1749366000-1749376800@saltspringzencircle.org
SUMMARY:Sit'n Study
DESCRIPTION:Sit’n Study: Sittings are optional. Sitting: 7am-7:45am – Kinhin: 7:45am-8am – Sitting: 8am-8:45am –  Break Study:  9am-10am Leader: Michelle Reed: Judith: Vigil P.104 From: The Book of Householder Koans- Waking Up in the Land of Attachments by Eve Myonen Marko and Wendy Egyoku Nakao. Published by Monkfish Book Publishing Co.
URL:https://saltspringzencircle.org/event/sitn-study-133/
CATEGORIES:Sit 'n' Study
END:VEVENT
BEGIN:VEVENT
DTSTART;TZID=America/Vancouver:20250608T070000
DTEND;TZID=America/Vancouver:20250608T100000
DTSTAMP:20260424T024839
CREATED:20250220T235844Z
LAST-MODIFIED:20250221T000651Z
UID:10001877-1749366000-1749376800@saltspringzencircle.org
SUMMARY:
DESCRIPTION:Sit’n Study: Sittings are optional. Sitting: 7am-7:45am – Kinhin: 7:45am-8am – Sitting: 8am-8:45am –  Break Study:  9am-10am Leader: TBA: Satsujo Weeps  P.179 From: The Hidden Lamp: Stories from Twenty-Five Centuries of Awakened Women\, edited by Florence Caplow and Susan Moon. Published by Wisdom Publications.
URL:https://saltspringzencircle.org/event/5085/2025-06-08/
CATEGORIES:Sit 'n' Study
END:VEVENT
BEGIN:VEVENT
DTSTART;TZID=America/Vancouver:20250606T070000
DTEND;TZID=America/Vancouver:20250606T074500
DTSTAMP:20260424T024839
CREATED:20250103T155802Z
LAST-MODIFIED:20250103T183152Z
UID:10001633-1749193200-1749195900@saltspringzencircle.org
SUMMARY:Morning Zazen
DESCRIPTION:Please be seated by 7am
URL:https://saltspringzencircle.org/event/morning-zazen-150/2025-06-06/
CATEGORIES:Morning Zazen
END:VEVENT
BEGIN:VEVENT
DTSTART;TZID=America/Vancouver:20250604T190000
DTEND;TZID=America/Vancouver:20250604T210000
DTSTAMP:20260424T024839
CREATED:20231231T034335Z
LAST-MODIFIED:20240104T225032Z
UID:10000836-1749063600-1749070800@saltspringzencircle.org
SUMMARY:Evening Zazen
DESCRIPTION:In-Person Evening Zazen with Zoom option at All Saints by-the-Sea Anglican Church\, Upper Hall\, 110 Park Drive\, Ganges 
URL:https://saltspringzencircle.org/event/evening-zazen-69/2025-06-04/
CATEGORIES:Evening Zazen
END:VEVENT
BEGIN:VEVENT
DTSTART;TZID=America/Vancouver:20250602T070000
DTEND;TZID=America/Vancouver:20250602T074500
DTSTAMP:20260424T024839
CREATED:20250103T155503Z
LAST-MODIFIED:20250103T155503Z
UID:10001369-1748847600-1748850300@saltspringzencircle.org
SUMMARY:Morning Zazen
DESCRIPTION:
URL:https://saltspringzencircle.org/event/morning-zazen-149/2025-06-02/
CATEGORIES:Morning Zazen
END:VEVENT
BEGIN:VEVENT
DTSTART;TZID=America/Vancouver:20250601T070000
DTEND;TZID=America/Vancouver:20250601T100000
DTSTAMP:20260424T024839
CREATED:20250221T193424Z
LAST-MODIFIED:20250508T003833Z
UID:10002126-1748761200-1748772000@saltspringzencircle.org
SUMMARY:Sit'n Study
DESCRIPTION:Sit’n Study: Sittings are optional. Sitting: 7am-7:45am – Kinhin: 7:45am-8am – Sitting: 8am-8:45am –  Break Study:  9am-10am Leader: Kaishin Rory: Darla Jean Folds Towels P.144  From: The Book of Householder Koans- Waking Up in the Land of Attachments by Eve Myonen Marko and Wendy Egyoku Nakao. Published by Monkfish Book Publishing Co.
URL:https://saltspringzencircle.org/event/sitn-study-132/
CATEGORIES:Sit 'n' Study
END:VEVENT
BEGIN:VEVENT
DTSTART;TZID=America/Vancouver:20250601T070000
DTEND;TZID=America/Vancouver:20250601T100000
DTSTAMP:20260424T024839
CREATED:20250220T235844Z
LAST-MODIFIED:20250221T000651Z
UID:10001876-1748761200-1748772000@saltspringzencircle.org
SUMMARY:
DESCRIPTION:Sit’n Study: Sittings are optional. Sitting: 7am-7:45am – Kinhin: 7:45am-8am – Sitting: 8am-8:45am –  Break Study:  9am-10am Leader: TBA: Satsujo Weeps  P.179 From: The Hidden Lamp: Stories from Twenty-Five Centuries of Awakened Women\, edited by Florence Caplow and Susan Moon. Published by Wisdom Publications.
URL:https://saltspringzencircle.org/event/5085/2025-06-01/
CATEGORIES:Sit 'n' Study
END:VEVENT
BEGIN:VEVENT
DTSTART;TZID=America/Vancouver:20250530T070000
DTEND;TZID=America/Vancouver:20250530T074500
DTSTAMP:20260424T024839
CREATED:20250103T155802Z
LAST-MODIFIED:20250103T183152Z
UID:10001632-1748588400-1748591100@saltspringzencircle.org
SUMMARY:Morning Zazen
DESCRIPTION:Please be seated by 7am
URL:https://saltspringzencircle.org/event/morning-zazen-150/2025-05-30/
CATEGORIES:Morning Zazen
END:VEVENT
BEGIN:VEVENT
DTSTART;TZID=America/Vancouver:20250528T190000
DTEND;TZID=America/Vancouver:20250528T210000
DTSTAMP:20260424T024839
CREATED:20250525T230214Z
LAST-MODIFIED:20250525T230248Z
UID:10002139-1748458800-1748466000@saltspringzencircle.org
SUMMARY:Evening Zazen: Fusatsu Ceremony and Way-Seeking Talk
DESCRIPTION:Fusatsu Ceremony followed by Kaishin Rory\, who will be giving his Way-Seeking talk.  
URL:https://saltspringzencircle.org/event/evening-zazen-fusatsu-ceremony-and-way-seeking-talk/
CATEGORIES:Evening Zazen
END:VEVENT
BEGIN:VEVENT
DTSTART;TZID=America/Vancouver:20250528T190000
DTEND;TZID=America/Vancouver:20250528T210000
DTSTAMP:20260424T024839
CREATED:20231231T034335Z
LAST-MODIFIED:20240104T225032Z
UID:10000835-1748458800-1748466000@saltspringzencircle.org
SUMMARY:Evening Zazen
DESCRIPTION:In-Person Evening Zazen with Zoom option at All Saints by-the-Sea Anglican Church\, Upper Hall\, 110 Park Drive\, Ganges 
URL:https://saltspringzencircle.org/event/evening-zazen-69/2025-05-28/
CATEGORIES:Evening Zazen
END:VEVENT
BEGIN:VEVENT
DTSTART;TZID=America/Vancouver:20250526T070000
DTEND;TZID=America/Vancouver:20250526T074500
DTSTAMP:20260424T024839
CREATED:20250103T155503Z
LAST-MODIFIED:20250103T155503Z
UID:10001368-1748242800-1748245500@saltspringzencircle.org
SUMMARY:Morning Zazen
DESCRIPTION:
URL:https://saltspringzencircle.org/event/morning-zazen-149/2025-05-26/
CATEGORIES:Morning Zazen
END:VEVENT
BEGIN:VEVENT
DTSTART;TZID=America/Vancouver:20250525T070000
DTEND;TZID=America/Vancouver:20250525T100000
DTSTAMP:20260424T024839
CREATED:20250221T002754Z
LAST-MODIFIED:20250221T004100Z
UID:10002125-1748156400-1748167200@saltspringzencircle.org
SUMMARY:Sit'n Study
DESCRIPTION:Sit’n Study: Sittings are optional. Sitting: 7am-7:45am – Kinhin: 7:45am-8am – Sitting: 8am-8:45am –  Break Study:  9am-10am Leader: TBA: Miadoro’s Falling P.283 From: The Hidden Lamp: Stories from Twenty-Five Centuries of Awakened Women\, edited by Florence Caplow and Susan Moon. Published by Wisdom Publications.
URL:https://saltspringzencircle.org/event/sitn-study-131/
CATEGORIES:Sit 'n' Study
END:VEVENT
END:VCALENDAR