BEGIN:VCALENDAR
VERSION:2.0
PRODID:-// - ECPv6.15.20//NONSGML v1.0//EN
CALSCALE:GREGORIAN
METHOD:PUBLISH
X-ORIGINAL-URL:https://saltspringzencircle.org
X-WR-CALDESC:Events for 
REFRESH-INTERVAL;VALUE=DURATION:PT1H
X-Robots-Tag:noindex
X-PUBLISHED-TTL:PT1H
BEGIN:VTIMEZONE
TZID:America/Vancouver
BEGIN:DAYLIGHT
TZOFFSETFROM:-0800
TZOFFSETTO:-0700
TZNAME:PDT
DTSTART:20270314T100000
END:DAYLIGHT
BEGIN:STANDARD
TZOFFSETFROM:-0700
TZOFFSETTO:-0800
TZNAME:PST
DTSTART:20271107T090000
END:STANDARD
BEGIN:DAYLIGHT
TZOFFSETFROM:-0800
TZOFFSETTO:-0700
TZNAME:PDT
DTSTART:20280312T100000
END:DAYLIGHT
BEGIN:STANDARD
TZOFFSETFROM:-0700
TZOFFSETTO:-0800
TZNAME:PST
DTSTART:20281105T090000
END:STANDARD
BEGIN:DAYLIGHT
TZOFFSETFROM:-0800
TZOFFSETTO:-0700
TZNAME:PDT
DTSTART:20290311T100000
END:DAYLIGHT
BEGIN:STANDARD
TZOFFSETFROM:-0700
TZOFFSETTO:-0800
TZNAME:PST
DTSTART:20291104T090000
END:STANDARD
END:VTIMEZONE
BEGIN:VEVENT
DTSTART;TZID=America/Vancouver:20280223T190000
DTEND;TZID=America/Vancouver:20280223T210000
DTSTAMP:20260425T052519
CREATED:20231231T034335Z
LAST-MODIFIED:20240104T225032Z
UID:10000978-1834945200-1834952400@saltspringzencircle.org
SUMMARY:Evening Zazen
DESCRIPTION:In-Person Evening Zazen with Zoom option at All Saints by-the-Sea Anglican Church\, Upper Hall\, 110 Park Drive\, Ganges 
URL:https://saltspringzencircle.org/event/evening-zazen-69/2028-02-23/
CATEGORIES:Evening Zazen
END:VEVENT
BEGIN:VEVENT
DTSTART;TZID=America/Vancouver:20280225T070000
DTEND;TZID=America/Vancouver:20280225T074500
DTSTAMP:20260425T052519
CREATED:20250103T155802Z
LAST-MODIFIED:20250103T183152Z
UID:10001775-1835074800-1835077500@saltspringzencircle.org
SUMMARY:Morning Zazen
DESCRIPTION:Please be seated by 7am
URL:https://saltspringzencircle.org/event/morning-zazen-150/2028-02-25/
CATEGORIES:Morning Zazen
END:VEVENT
BEGIN:VEVENT
DTSTART;TZID=America/Vancouver:20280228T070000
DTEND;TZID=America/Vancouver:20280228T074500
DTSTAMP:20260425T052519
CREATED:20250103T155503Z
LAST-MODIFIED:20250103T155503Z
UID:10001512-1835334000-1835336700@saltspringzencircle.org
SUMMARY:Morning Zazen
DESCRIPTION:
URL:https://saltspringzencircle.org/event/morning-zazen-149/2028-02-28/
CATEGORIES:Morning Zazen
END:VEVENT
BEGIN:VEVENT
DTSTART;TZID=America/Vancouver:20280301T190000
DTEND;TZID=America/Vancouver:20280301T210000
DTSTAMP:20260425T052519
CREATED:20231231T034335Z
LAST-MODIFIED:20240104T225032Z
UID:10000979-1835550000-1835557200@saltspringzencircle.org
SUMMARY:Evening Zazen
DESCRIPTION:In-Person Evening Zazen with Zoom option at All Saints by-the-Sea Anglican Church\, Upper Hall\, 110 Park Drive\, Ganges 
URL:https://saltspringzencircle.org/event/evening-zazen-69/2028-03-01/
CATEGORIES:Evening Zazen
END:VEVENT
BEGIN:VEVENT
DTSTART;TZID=America/Vancouver:20280303T070000
DTEND;TZID=America/Vancouver:20280303T074500
DTSTAMP:20260425T052519
CREATED:20250103T155802Z
LAST-MODIFIED:20250103T183152Z
UID:10001776-1835679600-1835682300@saltspringzencircle.org
SUMMARY:Morning Zazen
DESCRIPTION:Please be seated by 7am
URL:https://saltspringzencircle.org/event/morning-zazen-150/2028-03-03/
CATEGORIES:Morning Zazen
END:VEVENT
BEGIN:VEVENT
DTSTART;TZID=America/Vancouver:20280306T070000
DTEND;TZID=America/Vancouver:20280306T074500
DTSTAMP:20260425T052519
CREATED:20250103T155503Z
LAST-MODIFIED:20250103T155503Z
UID:10001513-1835938800-1835941500@saltspringzencircle.org
SUMMARY:Morning Zazen
DESCRIPTION:
URL:https://saltspringzencircle.org/event/morning-zazen-149/2028-03-06/
CATEGORIES:Morning Zazen
END:VEVENT
BEGIN:VEVENT
DTSTART;TZID=America/Vancouver:20280308T190000
DTEND;TZID=America/Vancouver:20280308T210000
DTSTAMP:20260425T052519
CREATED:20231231T034335Z
LAST-MODIFIED:20240104T225032Z
UID:10000980-1836154800-1836162000@saltspringzencircle.org
SUMMARY:Evening Zazen
DESCRIPTION:In-Person Evening Zazen with Zoom option at All Saints by-the-Sea Anglican Church\, Upper Hall\, 110 Park Drive\, Ganges 
URL:https://saltspringzencircle.org/event/evening-zazen-69/2028-03-08/
CATEGORIES:Evening Zazen
END:VEVENT
BEGIN:VEVENT
DTSTART;TZID=America/Vancouver:20280310T070000
DTEND;TZID=America/Vancouver:20280310T074500
DTSTAMP:20260425T052519
CREATED:20250103T155802Z
LAST-MODIFIED:20250103T183152Z
UID:10001777-1836284400-1836287100@saltspringzencircle.org
SUMMARY:Morning Zazen
DESCRIPTION:Please be seated by 7am
URL:https://saltspringzencircle.org/event/morning-zazen-150/2028-03-10/
CATEGORIES:Morning Zazen
END:VEVENT
BEGIN:VEVENT
DTSTART;TZID=America/Vancouver:20280313T070000
DTEND;TZID=America/Vancouver:20280313T074500
DTSTAMP:20260425T052519
CREATED:20250103T155503Z
LAST-MODIFIED:20250103T155503Z
UID:10001514-1836543600-1836546300@saltspringzencircle.org
SUMMARY:Morning Zazen
DESCRIPTION:
URL:https://saltspringzencircle.org/event/morning-zazen-149/2028-03-13/
CATEGORIES:Morning Zazen
END:VEVENT
BEGIN:VEVENT
DTSTART;TZID=America/Vancouver:20280315T190000
DTEND;TZID=America/Vancouver:20280315T210000
DTSTAMP:20260425T052519
CREATED:20231231T034335Z
LAST-MODIFIED:20240104T225032Z
UID:10000981-1836759600-1836766800@saltspringzencircle.org
SUMMARY:Evening Zazen
DESCRIPTION:In-Person Evening Zazen with Zoom option at All Saints by-the-Sea Anglican Church\, Upper Hall\, 110 Park Drive\, Ganges 
URL:https://saltspringzencircle.org/event/evening-zazen-69/2028-03-15/
CATEGORIES:Evening Zazen
END:VEVENT
BEGIN:VEVENT
DTSTART;TZID=America/Vancouver:20280317T070000
DTEND;TZID=America/Vancouver:20280317T074500
DTSTAMP:20260425T052519
CREATED:20250103T155802Z
LAST-MODIFIED:20250103T183152Z
UID:10001778-1836889200-1836891900@saltspringzencircle.org
SUMMARY:Morning Zazen
DESCRIPTION:Please be seated by 7am
URL:https://saltspringzencircle.org/event/morning-zazen-150/2028-03-17/
CATEGORIES:Morning Zazen
END:VEVENT
BEGIN:VEVENT
DTSTART;TZID=America/Vancouver:20280320T070000
DTEND;TZID=America/Vancouver:20280320T074500
DTSTAMP:20260425T052519
CREATED:20250103T155503Z
LAST-MODIFIED:20250103T155503Z
UID:10001515-1837148400-1837151100@saltspringzencircle.org
SUMMARY:Morning Zazen
DESCRIPTION:
URL:https://saltspringzencircle.org/event/morning-zazen-149/2028-03-20/
CATEGORIES:Morning Zazen
END:VEVENT
BEGIN:VEVENT
DTSTART;TZID=America/Vancouver:20280322T190000
DTEND;TZID=America/Vancouver:20280322T210000
DTSTAMP:20260425T052519
CREATED:20231231T034335Z
LAST-MODIFIED:20240104T225032Z
UID:10000982-1837364400-1837371600@saltspringzencircle.org
SUMMARY:Evening Zazen
DESCRIPTION:In-Person Evening Zazen with Zoom option at All Saints by-the-Sea Anglican Church\, Upper Hall\, 110 Park Drive\, Ganges 
URL:https://saltspringzencircle.org/event/evening-zazen-69/2028-03-22/
CATEGORIES:Evening Zazen
END:VEVENT
BEGIN:VEVENT
DTSTART;TZID=America/Vancouver:20280324T070000
DTEND;TZID=America/Vancouver:20280324T074500
DTSTAMP:20260425T052519
CREATED:20250103T155802Z
LAST-MODIFIED:20250103T183152Z
UID:10001779-1837494000-1837496700@saltspringzencircle.org
SUMMARY:Morning Zazen
DESCRIPTION:Please be seated by 7am
URL:https://saltspringzencircle.org/event/morning-zazen-150/2028-03-24/
CATEGORIES:Morning Zazen
END:VEVENT
BEGIN:VEVENT
DTSTART;TZID=America/Vancouver:20280327T070000
DTEND;TZID=America/Vancouver:20280327T074500
DTSTAMP:20260425T052519
CREATED:20250103T155503Z
LAST-MODIFIED:20250103T155503Z
UID:10001516-1837753200-1837755900@saltspringzencircle.org
SUMMARY:Morning Zazen
DESCRIPTION:
URL:https://saltspringzencircle.org/event/morning-zazen-149/2028-03-27/
CATEGORIES:Morning Zazen
END:VEVENT
BEGIN:VEVENT
DTSTART;TZID=America/Vancouver:20280329T190000
DTEND;TZID=America/Vancouver:20280329T210000
DTSTAMP:20260425T052519
CREATED:20231231T034335Z
LAST-MODIFIED:20240104T225032Z
UID:10000983-1837969200-1837976400@saltspringzencircle.org
SUMMARY:Evening Zazen
DESCRIPTION:In-Person Evening Zazen with Zoom option at All Saints by-the-Sea Anglican Church\, Upper Hall\, 110 Park Drive\, Ganges 
URL:https://saltspringzencircle.org/event/evening-zazen-69/2028-03-29/
CATEGORIES:Evening Zazen
END:VEVENT
BEGIN:VEVENT
DTSTART;TZID=America/Vancouver:20280331T070000
DTEND;TZID=America/Vancouver:20280331T074500
DTSTAMP:20260425T052519
CREATED:20250103T155802Z
LAST-MODIFIED:20250103T183152Z
UID:10001780-1838098800-1838101500@saltspringzencircle.org
SUMMARY:Morning Zazen
DESCRIPTION:Please be seated by 7am
URL:https://saltspringzencircle.org/event/morning-zazen-150/2028-03-31/
CATEGORIES:Morning Zazen
END:VEVENT
BEGIN:VEVENT
DTSTART;TZID=America/Vancouver:20280403T070000
DTEND;TZID=America/Vancouver:20280403T074500
DTSTAMP:20260425T052519
CREATED:20250103T155503Z
LAST-MODIFIED:20250103T155503Z
UID:10001517-1838358000-1838360700@saltspringzencircle.org
SUMMARY:Morning Zazen
DESCRIPTION:
URL:https://saltspringzencircle.org/event/morning-zazen-149/2028-04-03/
CATEGORIES:Morning Zazen
END:VEVENT
BEGIN:VEVENT
DTSTART;TZID=America/Vancouver:20280405T190000
DTEND;TZID=America/Vancouver:20280405T210000
DTSTAMP:20260425T052519
CREATED:20231231T034335Z
LAST-MODIFIED:20240104T225032Z
UID:10000984-1838574000-1838581200@saltspringzencircle.org
SUMMARY:Evening Zazen
DESCRIPTION:In-Person Evening Zazen with Zoom option at All Saints by-the-Sea Anglican Church\, Upper Hall\, 110 Park Drive\, Ganges 
URL:https://saltspringzencircle.org/event/evening-zazen-69/2028-04-05/
CATEGORIES:Evening Zazen
END:VEVENT
BEGIN:VEVENT
DTSTART;TZID=America/Vancouver:20280407T070000
DTEND;TZID=America/Vancouver:20280407T074500
DTSTAMP:20260425T052519
CREATED:20250103T155802Z
LAST-MODIFIED:20250103T183152Z
UID:10001781-1838703600-1838706300@saltspringzencircle.org
SUMMARY:Morning Zazen
DESCRIPTION:Please be seated by 7am
URL:https://saltspringzencircle.org/event/morning-zazen-150/2028-04-07/
CATEGORIES:Morning Zazen
END:VEVENT
BEGIN:VEVENT
DTSTART;TZID=America/Vancouver:20280410T070000
DTEND;TZID=America/Vancouver:20280410T074500
DTSTAMP:20260425T052519
CREATED:20250103T155503Z
LAST-MODIFIED:20250103T155503Z
UID:10001518-1838962800-1838965500@saltspringzencircle.org
SUMMARY:Morning Zazen
DESCRIPTION:
URL:https://saltspringzencircle.org/event/morning-zazen-149/2028-04-10/
CATEGORIES:Morning Zazen
END:VEVENT
BEGIN:VEVENT
DTSTART;TZID=America/Vancouver:20280412T190000
DTEND;TZID=America/Vancouver:20280412T210000
DTSTAMP:20260425T052519
CREATED:20231231T034335Z
LAST-MODIFIED:20240104T225032Z
UID:10000985-1839178800-1839186000@saltspringzencircle.org
SUMMARY:Evening Zazen
DESCRIPTION:In-Person Evening Zazen with Zoom option at All Saints by-the-Sea Anglican Church\, Upper Hall\, 110 Park Drive\, Ganges 
URL:https://saltspringzencircle.org/event/evening-zazen-69/2028-04-12/
CATEGORIES:Evening Zazen
END:VEVENT
BEGIN:VEVENT
DTSTART;TZID=America/Vancouver:20280414T070000
DTEND;TZID=America/Vancouver:20280414T074500
DTSTAMP:20260425T052519
CREATED:20250103T155802Z
LAST-MODIFIED:20250103T183152Z
UID:10001782-1839308400-1839311100@saltspringzencircle.org
SUMMARY:Morning Zazen
DESCRIPTION:Please be seated by 7am
URL:https://saltspringzencircle.org/event/morning-zazen-150/2028-04-14/
CATEGORIES:Morning Zazen
END:VEVENT
BEGIN:VEVENT
DTSTART;TZID=America/Vancouver:20280417T070000
DTEND;TZID=America/Vancouver:20280417T074500
DTSTAMP:20260425T052519
CREATED:20250103T155503Z
LAST-MODIFIED:20250103T155503Z
UID:10001519-1839567600-1839570300@saltspringzencircle.org
SUMMARY:Morning Zazen
DESCRIPTION:
URL:https://saltspringzencircle.org/event/morning-zazen-149/2028-04-17/
CATEGORIES:Morning Zazen
END:VEVENT
BEGIN:VEVENT
DTSTART;TZID=America/Vancouver:20280419T190000
DTEND;TZID=America/Vancouver:20280419T210000
DTSTAMP:20260425T052519
CREATED:20231231T034335Z
LAST-MODIFIED:20240104T225032Z
UID:10000986-1839783600-1839790800@saltspringzencircle.org
SUMMARY:Evening Zazen
DESCRIPTION:In-Person Evening Zazen with Zoom option at All Saints by-the-Sea Anglican Church\, Upper Hall\, 110 Park Drive\, Ganges 
URL:https://saltspringzencircle.org/event/evening-zazen-69/2028-04-19/
CATEGORIES:Evening Zazen
END:VEVENT
BEGIN:VEVENT
DTSTART;TZID=America/Vancouver:20280421T070000
DTEND;TZID=America/Vancouver:20280421T074500
DTSTAMP:20260425T052519
CREATED:20250103T155802Z
LAST-MODIFIED:20250103T183152Z
UID:10001783-1839913200-1839915900@saltspringzencircle.org
SUMMARY:Morning Zazen
DESCRIPTION:Please be seated by 7am
URL:https://saltspringzencircle.org/event/morning-zazen-150/2028-04-21/
CATEGORIES:Morning Zazen
END:VEVENT
BEGIN:VEVENT
DTSTART;TZID=America/Vancouver:20280424T070000
DTEND;TZID=America/Vancouver:20280424T074500
DTSTAMP:20260425T052519
CREATED:20250103T155503Z
LAST-MODIFIED:20250103T155503Z
UID:10001520-1840172400-1840175100@saltspringzencircle.org
SUMMARY:Morning Zazen
DESCRIPTION:
URL:https://saltspringzencircle.org/event/morning-zazen-149/2028-04-24/
CATEGORIES:Morning Zazen
END:VEVENT
BEGIN:VEVENT
DTSTART;TZID=America/Vancouver:20280426T190000
DTEND;TZID=America/Vancouver:20280426T210000
DTSTAMP:20260425T052519
CREATED:20231231T034335Z
LAST-MODIFIED:20240104T225032Z
UID:10000987-1840388400-1840395600@saltspringzencircle.org
SUMMARY:Evening Zazen
DESCRIPTION:In-Person Evening Zazen with Zoom option at All Saints by-the-Sea Anglican Church\, Upper Hall\, 110 Park Drive\, Ganges 
URL:https://saltspringzencircle.org/event/evening-zazen-69/2028-04-26/
CATEGORIES:Evening Zazen
END:VEVENT
BEGIN:VEVENT
DTSTART;TZID=America/Vancouver:20280428T070000
DTEND;TZID=America/Vancouver:20280428T074500
DTSTAMP:20260425T052519
CREATED:20250103T155802Z
LAST-MODIFIED:20250103T183152Z
UID:10001784-1840518000-1840520700@saltspringzencircle.org
SUMMARY:Morning Zazen
DESCRIPTION:Please be seated by 7am
URL:https://saltspringzencircle.org/event/morning-zazen-150/2028-04-28/
CATEGORIES:Morning Zazen
END:VEVENT
BEGIN:VEVENT
DTSTART;TZID=America/Vancouver:20280501T070000
DTEND;TZID=America/Vancouver:20280501T074500
DTSTAMP:20260425T052520
CREATED:20250103T155503Z
LAST-MODIFIED:20250103T155503Z
UID:10001521-1840777200-1840779900@saltspringzencircle.org
SUMMARY:Morning Zazen
DESCRIPTION:
URL:https://saltspringzencircle.org/event/morning-zazen-149/2028-05-01/
CATEGORIES:Morning Zazen
END:VEVENT
END:VCALENDAR