BEGIN:VCALENDAR
VERSION:2.0
PRODID:-// - ECPv6.15.20//NONSGML v1.0//EN
CALSCALE:GREGORIAN
METHOD:PUBLISH
X-ORIGINAL-URL:https://saltspringzencircle.org
X-WR-CALDESC:Events for 
REFRESH-INTERVAL;VALUE=DURATION:PT1H
X-Robots-Tag:noindex
X-PUBLISHED-TTL:PT1H
BEGIN:VTIMEZONE
TZID:America/Vancouver
BEGIN:DAYLIGHT
TZOFFSETFROM:-0800
TZOFFSETTO:-0700
TZNAME:PDT
DTSTART:20230312T100000
END:DAYLIGHT
BEGIN:STANDARD
TZOFFSETFROM:-0700
TZOFFSETTO:-0800
TZNAME:PST
DTSTART:20231105T090000
END:STANDARD
BEGIN:DAYLIGHT
TZOFFSETFROM:-0800
TZOFFSETTO:-0700
TZNAME:PDT
DTSTART:20240310T100000
END:DAYLIGHT
BEGIN:STANDARD
TZOFFSETFROM:-0700
TZOFFSETTO:-0800
TZNAME:PST
DTSTART:20241103T090000
END:STANDARD
BEGIN:DAYLIGHT
TZOFFSETFROM:-0800
TZOFFSETTO:-0700
TZNAME:PDT
DTSTART:20250309T100000
END:DAYLIGHT
BEGIN:STANDARD
TZOFFSETFROM:-0700
TZOFFSETTO:-0800
TZNAME:PST
DTSTART:20251102T090000
END:STANDARD
END:VTIMEZONE
BEGIN:VEVENT
DTSTART;TZID=America/Vancouver:20241108T070500
DTEND;TZID=America/Vancouver:20241108T074500
DTSTAMP:20260425T054019
CREATED:20231231T215406Z
LAST-MODIFIED:20231231T215720Z
UID:10000757-1731049500-1731051900@saltspringzencircle.org
SUMMARY:Morning Zazen
DESCRIPTION:7:05am – Zoom room opens\n7:10am – to be seated on cushions\n7:15am – Robe Chant to be followed by bell (ringing 3 times)\n7:45am – End of sitting
URL:https://saltspringzencircle.org/event/morning-zazen-146/2024-11-08/
END:VEVENT
BEGIN:VEVENT
DTSTART;TZID=America/Vancouver:20241106T190000
DTEND;TZID=America/Vancouver:20241106T210000
DTSTAMP:20260425T054019
CREATED:20231231T034335Z
LAST-MODIFIED:20240104T225032Z
UID:10000806-1730919600-1730926800@saltspringzencircle.org
SUMMARY:Evening Zazen
DESCRIPTION:In-Person Evening Zazen with Zoom option at All Saints by-the-Sea Anglican Church\, Upper Hall\, 110 Park Drive\, Ganges 
URL:https://saltspringzencircle.org/event/evening-zazen-69/2024-11-06/
CATEGORIES:Evening Zazen
END:VEVENT
BEGIN:VEVENT
DTSTART;TZID=America/Vancouver:20241104T071500
DTEND;TZID=America/Vancouver:20241104T074500
DTSTAMP:20260425T054019
CREATED:20231231T205735Z
LAST-MODIFIED:20231231T205735Z
UID:10000655-1730704500-1730706300@saltspringzencircle.org
SUMMARY:Morning Zazen
DESCRIPTION:7:05am – Zoom room opens\n7:10am – to be seated on cushions\n7:15am – Robe Chant to be followed by bell (ringing 3 times)\n7:45am – End of sitting
URL:https://saltspringzencircle.org/event/morning-zazen-145/2024-11-04/
CATEGORIES:Morning Zazen
END:VEVENT
BEGIN:VEVENT
DTSTART;TZID=America/Vancouver:20241103T070000
DTEND;TZID=America/Vancouver:20241103T100000
DTSTAMP:20260425T054019
CREATED:20240730T183705Z
LAST-MODIFIED:20241004T194332Z
UID:10001321-1730617200-1730628000@saltspringzencircle.org
SUMMARY:Sit'n Study
DESCRIPTION:Sit’n Study: Sittings are optional. Sitting: 7am-7:45am – Kinhin: 7:45am-8am – Sitting: 8am-8:45am – Break\nLeader: Sheila Dobie: The Hidden Lamp: Stories from Twenty-Five Centuries of Awakened Women edited by Florence Caplow and Susan Moon – Miazong’s Disappointment P.234
URL:https://saltspringzencircle.org/event/sitn-study-105/
CATEGORIES:Sit 'n' Study
END:VEVENT
BEGIN:VEVENT
DTSTART;TZID=America/Vancouver:20241101T070500
DTEND;TZID=America/Vancouver:20241101T074500
DTSTAMP:20260425T054019
CREATED:20231231T215406Z
LAST-MODIFIED:20231231T215720Z
UID:10000756-1730444700-1730447100@saltspringzencircle.org
SUMMARY:Morning Zazen
DESCRIPTION:7:05am – Zoom room opens\n7:10am – to be seated on cushions\n7:15am – Robe Chant to be followed by bell (ringing 3 times)\n7:45am – End of sitting
URL:https://saltspringzencircle.org/event/morning-zazen-146/2024-11-01/
END:VEVENT
BEGIN:VEVENT
DTSTART;TZID=America/Vancouver:20241030T190000
DTEND;TZID=America/Vancouver:20241030T210000
DTSTAMP:20260425T054019
CREATED:20231231T034335Z
LAST-MODIFIED:20240104T225032Z
UID:10000805-1730314800-1730322000@saltspringzencircle.org
SUMMARY:Evening Zazen
DESCRIPTION:In-Person Evening Zazen with Zoom option at All Saints by-the-Sea Anglican Church\, Upper Hall\, 110 Park Drive\, Ganges 
URL:https://saltspringzencircle.org/event/evening-zazen-69/2024-10-30/
CATEGORIES:Evening Zazen
END:VEVENT
BEGIN:VEVENT
DTSTART;TZID=America/Vancouver:20241028T071500
DTEND;TZID=America/Vancouver:20241028T074500
DTSTAMP:20260425T054019
CREATED:20231231T205735Z
LAST-MODIFIED:20231231T205735Z
UID:10000654-1730099700-1730101500@saltspringzencircle.org
SUMMARY:Morning Zazen
DESCRIPTION:7:05am – Zoom room opens\n7:10am – to be seated on cushions\n7:15am – Robe Chant to be followed by bell (ringing 3 times)\n7:45am – End of sitting
URL:https://saltspringzencircle.org/event/morning-zazen-145/2024-10-28/
CATEGORIES:Morning Zazen
END:VEVENT
BEGIN:VEVENT
DTSTART;TZID=America/Vancouver:20241025T070500
DTEND;TZID=America/Vancouver:20241025T074500
DTSTAMP:20260425T054019
CREATED:20231231T215406Z
LAST-MODIFIED:20231231T215720Z
UID:10000755-1729839900-1729842300@saltspringzencircle.org
SUMMARY:Morning Zazen
DESCRIPTION:7:05am – Zoom room opens\n7:10am – to be seated on cushions\n7:15am – Robe Chant to be followed by bell (ringing 3 times)\n7:45am – End of sitting
URL:https://saltspringzencircle.org/event/morning-zazen-146/2024-10-25/
END:VEVENT
BEGIN:VEVENT
DTSTART;VALUE=DATE:20241024
DTEND;VALUE=DATE:20241028
DTSTAMP:20260425T054019
CREATED:20231231T035546Z
LAST-MODIFIED:20231231T035632Z
UID:10000609-1729728000-1730073599@saltspringzencircle.org
SUMMARY:FALL SESSHIN
DESCRIPTION:Fall Session will be held at the Beaver Point Hall
URL:https://saltspringzencircle.org/event/fall-sesshin-2/
CATEGORIES:Sesshins
END:VEVENT
BEGIN:VEVENT
DTSTART;TZID=America/Vancouver:20241023T190000
DTEND;TZID=America/Vancouver:20241023T210000
DTSTAMP:20260425T054019
CREATED:20231231T034335Z
LAST-MODIFIED:20240104T225032Z
UID:10000804-1729710000-1729717200@saltspringzencircle.org
SUMMARY:Evening Zazen
DESCRIPTION:In-Person Evening Zazen with Zoom option at All Saints by-the-Sea Anglican Church\, Upper Hall\, 110 Park Drive\, Ganges 
URL:https://saltspringzencircle.org/event/evening-zazen-69/2024-10-23/
CATEGORIES:Evening Zazen
END:VEVENT
BEGIN:VEVENT
DTSTART;TZID=America/Vancouver:20241021T071500
DTEND;TZID=America/Vancouver:20241021T074500
DTSTAMP:20260425T054019
CREATED:20231231T205735Z
LAST-MODIFIED:20231231T205735Z
UID:10000653-1729494900-1729496700@saltspringzencircle.org
SUMMARY:Morning Zazen
DESCRIPTION:7:05am – Zoom room opens\n7:10am – to be seated on cushions\n7:15am – Robe Chant to be followed by bell (ringing 3 times)\n7:45am – End of sitting
URL:https://saltspringzencircle.org/event/morning-zazen-145/2024-10-21/
CATEGORIES:Morning Zazen
END:VEVENT
BEGIN:VEVENT
DTSTART;TZID=America/Vancouver:20241021T070000
DTEND;TZID=America/Vancouver:20241021T100000
DTSTAMP:20260425T054019
CREATED:20240718T022035Z
LAST-MODIFIED:20240718T023429Z
UID:10001312-1729494000-1729504800@saltspringzencircle.org
SUMMARY:Sit'n Study
DESCRIPTION:Sit’n Study: Sittings are optional. Sitting: 7am-7:45am – Kinhin: 7:45am-8am – Sitting: 8am-8:45am – Break\nLeader: Judy Daylen – “On Spiritual Friendship” 2016 – from “When You Greet Me I Bow”: Notes and Reflections from a Life in Zen by Norman Fischer
URL:https://saltspringzencircle.org/event/sitn-study-97/
CATEGORIES:Sit 'n' Study
END:VEVENT
BEGIN:VEVENT
DTSTART;TZID=America/Vancouver:20241020T070000
DTEND;TZID=America/Vancouver:20241020T100000
DTSTAMP:20260425T054019
CREATED:20240729T225422Z
LAST-MODIFIED:20240823T223837Z
UID:10001320-1729407600-1729418400@saltspringzencircle.org
SUMMARY:Sit'n Study
DESCRIPTION:Sit’n Study: Sittings are optional. Sitting: 7am-7:45am – Kinhin: 7:45am-8am – Sitting: 8am-8:45am – Break\nLeader: Judy Daylen: When You Greet Me I Bow: Notes and Reflections from a Life in Zen by Norman Fischer
URL:https://saltspringzencircle.org/event/sitn-study-104/
CATEGORIES:Sit 'n' Study
END:VEVENT
BEGIN:VEVENT
DTSTART;TZID=America/Vancouver:20241018T070500
DTEND;TZID=America/Vancouver:20241018T074500
DTSTAMP:20260425T054019
CREATED:20231231T215406Z
LAST-MODIFIED:20231231T215720Z
UID:10000754-1729235100-1729237500@saltspringzencircle.org
SUMMARY:Morning Zazen
DESCRIPTION:7:05am – Zoom room opens\n7:10am – to be seated on cushions\n7:15am – Robe Chant to be followed by bell (ringing 3 times)\n7:45am – End of sitting
URL:https://saltspringzencircle.org/event/morning-zazen-146/2024-10-18/
END:VEVENT
BEGIN:VEVENT
DTSTART;TZID=America/Vancouver:20241016T190000
DTEND;TZID=America/Vancouver:20241016T210000
DTSTAMP:20260425T054019
CREATED:20231231T034335Z
LAST-MODIFIED:20240104T225032Z
UID:10000803-1729105200-1729112400@saltspringzencircle.org
SUMMARY:Evening Zazen
DESCRIPTION:In-Person Evening Zazen with Zoom option at All Saints by-the-Sea Anglican Church\, Upper Hall\, 110 Park Drive\, Ganges 
URL:https://saltspringzencircle.org/event/evening-zazen-69/2024-10-16/
CATEGORIES:Evening Zazen
END:VEVENT
BEGIN:VEVENT
DTSTART;TZID=America/Vancouver:20241014T071500
DTEND;TZID=America/Vancouver:20241014T074500
DTSTAMP:20260425T054019
CREATED:20231231T205735Z
LAST-MODIFIED:20231231T205735Z
UID:10000652-1728890100-1728891900@saltspringzencircle.org
SUMMARY:Morning Zazen
DESCRIPTION:7:05am – Zoom room opens\n7:10am – to be seated on cushions\n7:15am – Robe Chant to be followed by bell (ringing 3 times)\n7:45am – End of sitting
URL:https://saltspringzencircle.org/event/morning-zazen-145/2024-10-14/
CATEGORIES:Morning Zazen
END:VEVENT
BEGIN:VEVENT
DTSTART;TZID=America/Vancouver:20241013T070000
DTEND;TZID=America/Vancouver:20241013T100000
DTSTAMP:20260425T054019
CREATED:20240729T224745Z
LAST-MODIFIED:20240805T150842Z
UID:10001319-1728802800-1728813600@saltspringzencircle.org
SUMMARY:Sit'n Study
DESCRIPTION:Sit’n Study: Sittings are optional. Sitting: 7am-7:45am – Kinhin: 7:45am-8am – Sitting: 8am-8:45am – Break\nLeader:Michelle Reed: The Book of Householder Koans: Waking up in the Land of Attachments by Eve Myonen Marko\, Wendy Egyoku Nakao – Gyokuun Genetically Modified P.248
URL:https://saltspringzencircle.org/event/sitn-study-103/
CATEGORIES:Sit 'n' Study
END:VEVENT
BEGIN:VEVENT
DTSTART;TZID=America/Vancouver:20241011T070500
DTEND;TZID=America/Vancouver:20241011T074500
DTSTAMP:20260425T054019
CREATED:20231231T215406Z
LAST-MODIFIED:20231231T215720Z
UID:10000753-1728630300-1728632700@saltspringzencircle.org
SUMMARY:Morning Zazen
DESCRIPTION:7:05am – Zoom room opens\n7:10am – to be seated on cushions\n7:15am – Robe Chant to be followed by bell (ringing 3 times)\n7:45am – End of sitting
URL:https://saltspringzencircle.org/event/morning-zazen-146/2024-10-11/
END:VEVENT
BEGIN:VEVENT
DTSTART;TZID=America/Vancouver:20241009T190000
DTEND;TZID=America/Vancouver:20241009T210000
DTSTAMP:20260425T054019
CREATED:20231231T034335Z
LAST-MODIFIED:20240104T225032Z
UID:10000802-1728500400-1728507600@saltspringzencircle.org
SUMMARY:Evening Zazen
DESCRIPTION:In-Person Evening Zazen with Zoom option at All Saints by-the-Sea Anglican Church\, Upper Hall\, 110 Park Drive\, Ganges 
URL:https://saltspringzencircle.org/event/evening-zazen-69/2024-10-09/
CATEGORIES:Evening Zazen
END:VEVENT
BEGIN:VEVENT
DTSTART;TZID=America/Vancouver:20241007T071500
DTEND;TZID=America/Vancouver:20241007T074500
DTSTAMP:20260425T054019
CREATED:20231231T205735Z
LAST-MODIFIED:20231231T205735Z
UID:10000651-1728285300-1728287100@saltspringzencircle.org
SUMMARY:Morning Zazen
DESCRIPTION:7:05am – Zoom room opens\n7:10am – to be seated on cushions\n7:15am – Robe Chant to be followed by bell (ringing 3 times)\n7:45am – End of sitting
URL:https://saltspringzencircle.org/event/morning-zazen-145/2024-10-07/
CATEGORIES:Morning Zazen
END:VEVENT
BEGIN:VEVENT
DTSTART;TZID=America/Vancouver:20241006T070000
DTEND;TZID=America/Vancouver:20241006T100000
DTSTAMP:20260425T054019
CREATED:20240729T224053Z
LAST-MODIFIED:20240823T223714Z
UID:10001318-1728198000-1728208800@saltspringzencircle.org
SUMMARY:Sit'n Study
DESCRIPTION:Sit’n Study: Sittings are optional. Sitting: 7am-7:45am – Kinhin: 7:45am-8am – Sitting: 8am-8:45am – Break\nLeader: Doug Reid: The Hidden Lamp: Stories from Twenty-Five Centuries of Awakened Women edited by Florence Caplow and Susan Moon – Chiyono’s No Water\, No Moon P.37
URL:https://saltspringzencircle.org/event/sitn-study-102/
CATEGORIES:Sit 'n' Study
END:VEVENT
BEGIN:VEVENT
DTSTART;TZID=America/Vancouver:20241004T070500
DTEND;TZID=America/Vancouver:20241004T074500
DTSTAMP:20260425T054019
CREATED:20231231T215406Z
LAST-MODIFIED:20231231T215720Z
UID:10000752-1728025500-1728027900@saltspringzencircle.org
SUMMARY:Morning Zazen
DESCRIPTION:7:05am – Zoom room opens\n7:10am – to be seated on cushions\n7:15am – Robe Chant to be followed by bell (ringing 3 times)\n7:45am – End of sitting
URL:https://saltspringzencircle.org/event/morning-zazen-146/2024-10-04/
END:VEVENT
BEGIN:VEVENT
DTSTART;TZID=America/Vancouver:20241002T190000
DTEND;TZID=America/Vancouver:20241002T210000
DTSTAMP:20260425T054019
CREATED:20241007T041909Z
LAST-MODIFIED:20241007T041910Z
UID:10000801-1727895600-1727902800@saltspringzencircle.org
SUMMARY:Evening Zazen
DESCRIPTION:In-Person Evening Zazen with Zoom option at All Saints by-the-Sea Anglican Church\, Upper Hall\, 110 Park Drive\, Ganges  \nWhat Is Zen? Talk by Judy Daylen recording.
URL:https://saltspringzencircle.org/event/evening-zazen-69-9/
CATEGORIES:Evening Zazen
END:VEVENT
BEGIN:VEVENT
DTSTART;TZID=America/Vancouver:20240930T071500
DTEND;TZID=America/Vancouver:20240930T074500
DTSTAMP:20260425T054019
CREATED:20231231T205735Z
LAST-MODIFIED:20231231T205735Z
UID:10000650-1727680500-1727682300@saltspringzencircle.org
SUMMARY:Morning Zazen
DESCRIPTION:7:05am – Zoom room opens\n7:10am – to be seated on cushions\n7:15am – Robe Chant to be followed by bell (ringing 3 times)\n7:45am – End of sitting
URL:https://saltspringzencircle.org/event/morning-zazen-145/2024-09-30/
CATEGORIES:Morning Zazen
END:VEVENT
BEGIN:VEVENT
DTSTART;TZID=America/Vancouver:20240929T070000
DTEND;TZID=America/Vancouver:20240929T100000
DTSTAMP:20260425T054019
CREATED:20240729T223602Z
LAST-MODIFIED:20240820T171617Z
UID:10001317-1727593200-1727604000@saltspringzencircle.org
SUMMARY:Sit'n Study
DESCRIPTION:Sit’n Study: Sittings are optional. Sitting: 7am-7:45am – Kinhin: 7:45am-8am – Sitting: 8am-8:45am – Break\nLeader: Koya C.Mathias: The Book of Householder Koans: Waking up in the Land of Attachments by Eve Myonen Marko\, Wendy Egyoku Nakao – The Climbing Rose Vine P.29
URL:https://saltspringzencircle.org/event/sitn-study-101/
CATEGORIES:Sit 'n' Study
END:VEVENT
BEGIN:VEVENT
DTSTART;TZID=America/Vancouver:20240927T070500
DTEND;TZID=America/Vancouver:20240927T074500
DTSTAMP:20260425T054019
CREATED:20231231T215406Z
LAST-MODIFIED:20231231T215720Z
UID:10000751-1727420700-1727423100@saltspringzencircle.org
SUMMARY:Morning Zazen
DESCRIPTION:7:05am – Zoom room opens\n7:10am – to be seated on cushions\n7:15am – Robe Chant to be followed by bell (ringing 3 times)\n7:45am – End of sitting
URL:https://saltspringzencircle.org/event/morning-zazen-146/2024-09-27/
END:VEVENT
BEGIN:VEVENT
DTSTART;TZID=America/Vancouver:20240925T190000
DTEND;TZID=America/Vancouver:20240925T210000
DTSTAMP:20260425T054019
CREATED:20240929T202514Z
LAST-MODIFIED:20240929T202515Z
UID:10000800-1727290800-1727298000@saltspringzencircle.org
SUMMARY:Evening Zazen
DESCRIPTION:In-Person Evening Zazen with Zoom option at All Saints by-the-Sea Anglican Church\, Upper Hall\, 110 Park Drive\, Ganges  \nWhat Is Zen? Talk by Michelle Reed recording.
URL:https://saltspringzencircle.org/event/evening-zazen-69-8/
CATEGORIES:Evening Zazen
END:VEVENT
BEGIN:VEVENT
DTSTART;TZID=America/Vancouver:20240923T071500
DTEND;TZID=America/Vancouver:20240923T074500
DTSTAMP:20260425T054019
CREATED:20231231T205735Z
LAST-MODIFIED:20231231T205735Z
UID:10000649-1727075700-1727077500@saltspringzencircle.org
SUMMARY:Morning Zazen
DESCRIPTION:7:05am – Zoom room opens\n7:10am – to be seated on cushions\n7:15am – Robe Chant to be followed by bell (ringing 3 times)\n7:45am – End of sitting
URL:https://saltspringzencircle.org/event/morning-zazen-145/2024-09-23/
CATEGORIES:Morning Zazen
END:VEVENT
BEGIN:VEVENT
DTSTART;TZID=America/Vancouver:20240922T070000
DTEND;TZID=America/Vancouver:20240922T100000
DTSTAMP:20260425T054019
CREATED:20240729T223011Z
LAST-MODIFIED:20240823T223553Z
UID:10001316-1726988400-1726999200@saltspringzencircle.org
SUMMARY:St'n Study
DESCRIPTION:Sit’n Study: Sittings are optional. Sitting: 7am-7:45am – Kinhin: 7:45am-8am – Sitting: 8am-8:45am – Break\nLeader: Sheila Dobie: The Hidden Lamp: Stories from Twenty-Five Centuries of Awakened Women edited by Florence Caplow and Susan Moon – Ling Shao’s Shining Grasses P. 271
URL:https://saltspringzencircle.org/event/stn-study/
CATEGORIES:Sit 'n' Study
END:VEVENT
BEGIN:VEVENT
DTSTART;TZID=America/Vancouver:20240920T070500
DTEND;TZID=America/Vancouver:20240920T074500
DTSTAMP:20260425T054019
CREATED:20231231T215406Z
LAST-MODIFIED:20231231T215720Z
UID:10000750-1726815900-1726818300@saltspringzencircle.org
SUMMARY:Morning Zazen
DESCRIPTION:7:05am – Zoom room opens\n7:10am – to be seated on cushions\n7:15am – Robe Chant to be followed by bell (ringing 3 times)\n7:45am – End of sitting
URL:https://saltspringzencircle.org/event/morning-zazen-146/2024-09-20/
END:VEVENT
END:VCALENDAR