BEGIN:VCALENDAR
VERSION:2.0
PRODID:-// - ECPv6.15.20//NONSGML v1.0//EN
CALSCALE:GREGORIAN
METHOD:PUBLISH
X-ORIGINAL-URL:https://saltspringzencircle.org
X-WR-CALDESC:Events for 
REFRESH-INTERVAL;VALUE=DURATION:PT1H
X-Robots-Tag:noindex
X-PUBLISHED-TTL:PT1H
BEGIN:VTIMEZONE
TZID:America/Vancouver
BEGIN:DAYLIGHT
TZOFFSETFROM:-0800
TZOFFSETTO:-0700
TZNAME:PDT
DTSTART:20240310T100000
END:DAYLIGHT
BEGIN:STANDARD
TZOFFSETFROM:-0700
TZOFFSETTO:-0800
TZNAME:PST
DTSTART:20241103T090000
END:STANDARD
BEGIN:DAYLIGHT
TZOFFSETFROM:-0800
TZOFFSETTO:-0700
TZNAME:PDT
DTSTART:20250309T100000
END:DAYLIGHT
BEGIN:STANDARD
TZOFFSETFROM:-0700
TZOFFSETTO:-0800
TZNAME:PST
DTSTART:20251102T090000
END:STANDARD
BEGIN:DAYLIGHT
TZOFFSETFROM:-0800
TZOFFSETTO:-0700
TZNAME:PDT
DTSTART:20260308T100000
END:DAYLIGHT
BEGIN:STANDARD
TZOFFSETFROM:-0700
TZOFFSETTO:-0800
TZNAME:PST
DTSTART:20261101T090000
END:STANDARD
END:VTIMEZONE
BEGIN:VEVENT
DTSTART;TZID=America/Vancouver:20250316T070000
DTEND;TZID=America/Vancouver:20250316T100000
DTSTAMP:20260425T071110
CREATED:20241112T170629Z
LAST-MODIFIED:20250223T143907Z
UID:10001339-1742108400-1742119200@saltspringzencircle.org
SUMMARY:Sit'n Study
DESCRIPTION:Sit’n Study: Sittings are optional. Sitting: 7am-7:45am – Kinhin: 7:45am-8am – Sitting: 8am-8:45am –  Break Study:  9am-10am Leader: Mary Reher –“Vivianne: Blaming God” P.202. From The Book of Householder Koans:  Waking Up in the Land of Attachments by Eve Myonen Marko\, Wendy Egyoku Nakao. Monkfish Book Publishing Company\, Rhinebeck\, New York
URL:https://saltspringzencircle.org/event/sitn-study-122/
CATEGORIES:Sit 'n' Study
END:VEVENT
BEGIN:VEVENT
DTSTART;TZID=America/Vancouver:20250314T070000
DTEND;TZID=America/Vancouver:20250314T074500
DTSTAMP:20260425T071110
CREATED:20250103T155802Z
LAST-MODIFIED:20250103T183152Z
UID:10001621-1741935600-1741938300@saltspringzencircle.org
SUMMARY:Morning Zazen
DESCRIPTION:Please be seated by 7am
URL:https://saltspringzencircle.org/event/morning-zazen-150/2025-03-14/
CATEGORIES:Morning Zazen
END:VEVENT
BEGIN:VEVENT
DTSTART;TZID=America/Vancouver:20250312T190000
DTEND;TZID=America/Vancouver:20250312T210000
DTSTAMP:20260425T071110
CREATED:20231231T034335Z
LAST-MODIFIED:20240104T225032Z
UID:10000824-1741806000-1741813200@saltspringzencircle.org
SUMMARY:Evening Zazen
DESCRIPTION:In-Person Evening Zazen with Zoom option at All Saints by-the-Sea Anglican Church\, Upper Hall\, 110 Park Drive\, Ganges 
URL:https://saltspringzencircle.org/event/evening-zazen-69/2025-03-12/
CATEGORIES:Evening Zazen
END:VEVENT
BEGIN:VEVENT
DTSTART;TZID=America/Vancouver:20250310T070000
DTEND;TZID=America/Vancouver:20250310T074500
DTSTAMP:20260425T071110
CREATED:20250103T155503Z
LAST-MODIFIED:20250103T155503Z
UID:10001357-1741590000-1741592700@saltspringzencircle.org
SUMMARY:Morning Zazen
DESCRIPTION:
URL:https://saltspringzencircle.org/event/morning-zazen-149/2025-03-10/
CATEGORIES:Morning Zazen
END:VEVENT
BEGIN:VEVENT
DTSTART;TZID=America/Vancouver:20250309T070000
DTEND;TZID=America/Vancouver:20250309T100000
DTSTAMP:20260425T071110
CREATED:20241112T170450Z
LAST-MODIFIED:20250107T210822Z
UID:10001338-1741503600-1741514400@saltspringzencircle.org
SUMMARY:Sit'n Study
DESCRIPTION:Sit’n Study: Sittings are optional. Sitting: 7am-7:45am – Kinhin: 7:45am-8am – Sitting: 8am-8:45am –  Break Study:  9am-10am Leader: Maggie Tuck:  “Enju: The Infinite Black Abyss” P.190. From The Book of Householder Koans – Waking Up in the Land of Attachments by Eve Myonen Marko and Wendy Egyoku Nakao. Published by Monkfish Book Publishing Co.
URL:https://saltspringzencircle.org/event/sitn-study-121/
CATEGORIES:Sit 'n' Study
END:VEVENT
BEGIN:VEVENT
DTSTART;TZID=America/Vancouver:20250307T070000
DTEND;TZID=America/Vancouver:20250307T074500
DTSTAMP:20260425T071110
CREATED:20250103T155802Z
LAST-MODIFIED:20250103T183152Z
UID:10001620-1741330800-1741333500@saltspringzencircle.org
SUMMARY:Morning Zazen
DESCRIPTION:Please be seated by 7am
URL:https://saltspringzencircle.org/event/morning-zazen-150/2025-03-07/
CATEGORIES:Morning Zazen
END:VEVENT
BEGIN:VEVENT
DTSTART;TZID=America/Vancouver:20250305T190000
DTEND;TZID=America/Vancouver:20250305T210000
DTSTAMP:20260425T071110
CREATED:20231231T034335Z
LAST-MODIFIED:20240104T225032Z
UID:10000823-1741201200-1741208400@saltspringzencircle.org
SUMMARY:Evening Zazen
DESCRIPTION:In-Person Evening Zazen with Zoom option at All Saints by-the-Sea Anglican Church\, Upper Hall\, 110 Park Drive\, Ganges 
URL:https://saltspringzencircle.org/event/evening-zazen-69/2025-03-05/
CATEGORIES:Evening Zazen
END:VEVENT
BEGIN:VEVENT
DTSTART;TZID=America/Vancouver:20250303T070000
DTEND;TZID=America/Vancouver:20250303T074500
DTSTAMP:20260425T071110
CREATED:20250103T155503Z
LAST-MODIFIED:20250103T155503Z
UID:10001356-1740985200-1740987900@saltspringzencircle.org
SUMMARY:Morning Zazen
DESCRIPTION:
URL:https://saltspringzencircle.org/event/morning-zazen-149/2025-03-03/
CATEGORIES:Morning Zazen
END:VEVENT
BEGIN:VEVENT
DTSTART;TZID=America/Vancouver:20250302T070000
DTEND;TZID=America/Vancouver:20250302T100000
DTSTAMP:20260425T071110
CREATED:20241112T170308Z
LAST-MODIFIED:20250220T055002Z
UID:10001337-1740898800-1740909600@saltspringzencircle.org
SUMMARY:Sit'n Study
DESCRIPTION:Sit’n Study: Sittings are optional. Sitting: 7am-7:45am – Kinhin: 7:45am-8am – Sitting: 8am-8:45am –  Break Study:  9am-10am Leader:Simon Rompre –“Ryonnen Scars Her Face”  P.117. From The Hidden Lamp: Stories from Twenty-Five Centuries of Awakened Women\, edited by Florence Caplow and Susan Moon. Published by Wisdom Publications.
URL:https://saltspringzencircle.org/event/sitn-study-120/
CATEGORIES:Sit 'n' Study
END:VEVENT
BEGIN:VEVENT
DTSTART;TZID=America/Vancouver:20250228T070000
DTEND;TZID=America/Vancouver:20250228T074500
DTSTAMP:20260425T071110
CREATED:20250103T155802Z
LAST-MODIFIED:20250103T183152Z
UID:10001619-1740726000-1740728700@saltspringzencircle.org
SUMMARY:Morning Zazen
DESCRIPTION:Please be seated by 7am
URL:https://saltspringzencircle.org/event/morning-zazen-150/2025-02-28/
CATEGORIES:Morning Zazen
END:VEVENT
BEGIN:VEVENT
DTSTART;TZID=America/Vancouver:20250226T190000
DTEND;TZID=America/Vancouver:20250226T210000
DTSTAMP:20260425T071110
CREATED:20231231T034335Z
LAST-MODIFIED:20240104T225032Z
UID:10000822-1740596400-1740603600@saltspringzencircle.org
SUMMARY:Evening Zazen
DESCRIPTION:In-Person Evening Zazen with Zoom option at All Saints by-the-Sea Anglican Church\, Upper Hall\, 110 Park Drive\, Ganges 
URL:https://saltspringzencircle.org/event/evening-zazen-69/2025-02-26/
CATEGORIES:Evening Zazen
END:VEVENT
BEGIN:VEVENT
DTSTART;TZID=America/Vancouver:20250224T070000
DTEND;TZID=America/Vancouver:20250224T074500
DTSTAMP:20260425T071110
CREATED:20250103T155503Z
LAST-MODIFIED:20250103T155503Z
UID:10001355-1740380400-1740383100@saltspringzencircle.org
SUMMARY:Morning Zazen
DESCRIPTION:
URL:https://saltspringzencircle.org/event/morning-zazen-149/2025-02-24/
CATEGORIES:Morning Zazen
END:VEVENT
BEGIN:VEVENT
DTSTART;TZID=America/Vancouver:20250223T080000
DTEND;TZID=America/Vancouver:20250223T100000
DTSTAMP:20260425T071110
CREATED:20241112T170129Z
LAST-MODIFIED:20241209T175522Z
UID:10001336-1740297600-1740304800@saltspringzencircle.org
SUMMARY:Sit'n Study
DESCRIPTION:Sit’n Study: Sittings are optional. Sitting: 7am-7:45am – Kinhin: 7:45am-8am – Sitting: 8am-8:45am –  Break Study:  9am-10am Leader: Chris Smart:  “Karen: The Old Woman Meets a Fish” P.171. From The Book of Householder Koans – Waking Up in the Land of Attachments by Eve Myonen Marko and Wendy Egyoku Nakao. Published by Monkfish Book Publishing Co.
URL:https://saltspringzencircle.org/event/sitn-study-119/
CATEGORIES:Sit 'n' Study
END:VEVENT
BEGIN:VEVENT
DTSTART;TZID=America/Vancouver:20250221T080000
DTEND;TZID=America/Vancouver:20250221T170000
DTSTAMP:20260425T071110
CREATED:20250221T195608Z
LAST-MODIFIED:20250221T195608Z
UID:10002131-1740124800-1740157200@saltspringzencircle.org
SUMMARY:Sit'n Study
DESCRIPTION:
URL:https://saltspringzencircle.org/event/sitn-study-137/
END:VEVENT
BEGIN:VEVENT
DTSTART;TZID=America/Vancouver:20250221T070000
DTEND;TZID=America/Vancouver:20250221T074500
DTSTAMP:20260425T071110
CREATED:20250103T155802Z
LAST-MODIFIED:20250103T183152Z
UID:10001618-1740121200-1740123900@saltspringzencircle.org
SUMMARY:Morning Zazen
DESCRIPTION:Please be seated by 7am
URL:https://saltspringzencircle.org/event/morning-zazen-150/2025-02-21/
CATEGORIES:Morning Zazen
END:VEVENT
BEGIN:VEVENT
DTSTART;TZID=America/Vancouver:20250219T190000
DTEND;TZID=America/Vancouver:20250219T210000
DTSTAMP:20260425T071110
CREATED:20231231T034335Z
LAST-MODIFIED:20240104T225032Z
UID:10000821-1739991600-1739998800@saltspringzencircle.org
SUMMARY:Evening Zazen
DESCRIPTION:In-Person Evening Zazen with Zoom option at All Saints by-the-Sea Anglican Church\, Upper Hall\, 110 Park Drive\, Ganges 
URL:https://saltspringzencircle.org/event/evening-zazen-69/2025-02-19/
CATEGORIES:Evening Zazen
END:VEVENT
BEGIN:VEVENT
DTSTART;TZID=America/Vancouver:20250217T070000
DTEND;TZID=America/Vancouver:20250217T074500
DTSTAMP:20260425T071110
CREATED:20250103T155503Z
LAST-MODIFIED:20250103T155503Z
UID:10001354-1739775600-1739778300@saltspringzencircle.org
SUMMARY:Morning Zazen
DESCRIPTION:
URL:https://saltspringzencircle.org/event/morning-zazen-149/2025-02-17/
CATEGORIES:Morning Zazen
END:VEVENT
BEGIN:VEVENT
DTSTART;TZID=America/Vancouver:20250216T070000
DTEND;TZID=America/Vancouver:20250216T100000
DTSTAMP:20260425T071110
CREATED:20241112T165923Z
LAST-MODIFIED:20241209T175443Z
UID:10001335-1739689200-1739700000@saltspringzencircle.org
SUMMARY:Sit'n Study
DESCRIPTION:Sit’n Study: Sittings are optional. Sitting: 7am-7:45am – Kinhin: 7:45am-8am – Sitting: 8am-8:45am –  Break Study:  9am-10am Leader: Michelle Reed – “Punnika and the Brahman’s Purification” P.93. From The Hidden Lamp: Stories from Twenty-Five Centuries of Awakened Women\, edited by Florence Caplow and Susan Moon. Published by Wisdom Publications.
URL:https://saltspringzencircle.org/event/sitn-study-118/
CATEGORIES:Sit 'n' Study
END:VEVENT
BEGIN:VEVENT
DTSTART;TZID=America/Vancouver:20250214T070000
DTEND;TZID=America/Vancouver:20250214T074500
DTSTAMP:20260425T071110
CREATED:20250103T155802Z
LAST-MODIFIED:20250103T183152Z
UID:10001617-1739516400-1739519100@saltspringzencircle.org
SUMMARY:Morning Zazen
DESCRIPTION:Please be seated by 7am
URL:https://saltspringzencircle.org/event/morning-zazen-150/2025-02-14/
CATEGORIES:Morning Zazen
END:VEVENT
BEGIN:VEVENT
DTSTART;TZID=America/Vancouver:20250212T190000
DTEND;TZID=America/Vancouver:20250212T210000
DTSTAMP:20260425T071110
CREATED:20231231T034335Z
LAST-MODIFIED:20240104T225032Z
UID:10000820-1739386800-1739394000@saltspringzencircle.org
SUMMARY:Evening Zazen
DESCRIPTION:In-Person Evening Zazen with Zoom option at All Saints by-the-Sea Anglican Church\, Upper Hall\, 110 Park Drive\, Ganges 
URL:https://saltspringzencircle.org/event/evening-zazen-69/2025-02-12/
CATEGORIES:Evening Zazen
END:VEVENT
BEGIN:VEVENT
DTSTART;TZID=America/Vancouver:20250210T070000
DTEND;TZID=America/Vancouver:20250210T074500
DTSTAMP:20260425T071110
CREATED:20250103T155503Z
LAST-MODIFIED:20250103T155503Z
UID:10001353-1739170800-1739173500@saltspringzencircle.org
SUMMARY:Morning Zazen
DESCRIPTION:
URL:https://saltspringzencircle.org/event/morning-zazen-149/2025-02-10/
CATEGORIES:Morning Zazen
END:VEVENT
BEGIN:VEVENT
DTSTART;TZID=America/Vancouver:20250209T070000
DTEND;TZID=America/Vancouver:20250209T100000
DTSTAMP:20260425T071110
CREATED:20241112T165721Z
LAST-MODIFIED:20250107T210539Z
UID:10001334-1739084400-1739095200@saltspringzencircle.org
SUMMARY:Sit'n Study
DESCRIPTION:Sit’n Study: Sittings are optional. Sitting: 7am-7:45am – Kinhin: 7:45am-8am – Sitting: 8am-8:45am –  Break Study:  9am-10am Leader: Heather “Emma: Pocket of Love” P.46. From The Book of Householder Koans – Waking Up in the Land of Attachments by Eve Myonen Marko and Wendy Egyoku Nakao. Published by Monkfish Book Publishing Co.
URL:https://saltspringzencircle.org/event/sitn-study-117/
CATEGORIES:Sit 'n' Study
END:VEVENT
BEGIN:VEVENT
DTSTART;TZID=America/Vancouver:20250207T070000
DTEND;TZID=America/Vancouver:20250207T074500
DTSTAMP:20260425T071110
CREATED:20250103T155802Z
LAST-MODIFIED:20250103T183152Z
UID:10001616-1738911600-1738914300@saltspringzencircle.org
SUMMARY:Morning Zazen
DESCRIPTION:Please be seated by 7am
URL:https://saltspringzencircle.org/event/morning-zazen-150/2025-02-07/
CATEGORIES:Morning Zazen
END:VEVENT
BEGIN:VEVENT
DTSTART;TZID=America/Vancouver:20250205T190000
DTEND;TZID=America/Vancouver:20250205T210000
DTSTAMP:20260425T071110
CREATED:20231231T034335Z
LAST-MODIFIED:20240104T225032Z
UID:10000819-1738782000-1738789200@saltspringzencircle.org
SUMMARY:Evening Zazen
DESCRIPTION:In-Person Evening Zazen with Zoom option at All Saints by-the-Sea Anglican Church\, Upper Hall\, 110 Park Drive\, Ganges 
URL:https://saltspringzencircle.org/event/evening-zazen-69/2025-02-05/
CATEGORIES:Evening Zazen
END:VEVENT
BEGIN:VEVENT
DTSTART;TZID=America/Vancouver:20250203T070000
DTEND;TZID=America/Vancouver:20250203T074500
DTSTAMP:20260425T071110
CREATED:20250103T155503Z
LAST-MODIFIED:20250103T155503Z
UID:10001352-1738566000-1738568700@saltspringzencircle.org
SUMMARY:Morning Zazen
DESCRIPTION:
URL:https://saltspringzencircle.org/event/morning-zazen-149/2025-02-03/
CATEGORIES:Morning Zazen
END:VEVENT
BEGIN:VEVENT
DTSTART;TZID=America/Vancouver:20250202T070000
DTEND;TZID=America/Vancouver:20250202T100000
DTSTAMP:20260425T071110
CREATED:20241101T201138Z
LAST-MODIFIED:20250107T210422Z
UID:10001332-1738479600-1738490400@saltspringzencircle.org
SUMMARY:Sit'n Study
DESCRIPTION:Sit’n Study: Sittings are optional. Sitting: 7am-7:45am – Kinhin: 7:45am-8am – Sitting: 8am-8:45am –  Break Study:  9am-10am Leader:Shirley Graham –“Chen’s Mountain Flowers” P.57 from The Hidden Lamp: Stories from Twenty-Five Centuries of Awakened Women edited by Florence Caplow and Susan Moon – Wisdom Publications 2013
URL:https://saltspringzencircle.org/event/sitn-study-116/
CATEGORIES:Sit 'n' Study
END:VEVENT
BEGIN:VEVENT
DTSTART;TZID=America/Vancouver:20250131T070000
DTEND;TZID=America/Vancouver:20250131T074500
DTSTAMP:20260425T071110
CREATED:20250103T155802Z
LAST-MODIFIED:20250103T183152Z
UID:10001615-1738306800-1738309500@saltspringzencircle.org
SUMMARY:Morning Zazen
DESCRIPTION:Please be seated by 7am
URL:https://saltspringzencircle.org/event/morning-zazen-150/2025-01-31/
CATEGORIES:Morning Zazen
END:VEVENT
BEGIN:VEVENT
DTSTART;TZID=America/Vancouver:20250129T190000
DTEND;TZID=America/Vancouver:20250129T210000
DTSTAMP:20260425T071110
CREATED:20231231T034335Z
LAST-MODIFIED:20240104T225032Z
UID:10000818-1738177200-1738184400@saltspringzencircle.org
SUMMARY:Evening Zazen
DESCRIPTION:In-Person Evening Zazen with Zoom option at All Saints by-the-Sea Anglican Church\, Upper Hall\, 110 Park Drive\, Ganges 
URL:https://saltspringzencircle.org/event/evening-zazen-69/2025-01-29/
CATEGORIES:Evening Zazen
END:VEVENT
BEGIN:VEVENT
DTSTART;TZID=America/Vancouver:20250127T070000
DTEND;TZID=America/Vancouver:20250127T074500
DTSTAMP:20260425T071110
CREATED:20250103T155503Z
LAST-MODIFIED:20250103T155503Z
UID:10001351-1737961200-1737963900@saltspringzencircle.org
SUMMARY:Morning Zazen
DESCRIPTION:
URL:https://saltspringzencircle.org/event/morning-zazen-149/2025-01-27/
CATEGORIES:Morning Zazen
END:VEVENT
BEGIN:VEVENT
DTSTART;TZID=America/Vancouver:20250126T070000
DTEND;TZID=America/Vancouver:20250126T100000
DTSTAMP:20260425T071110
CREATED:20241101T201006Z
LAST-MODIFIED:20241209T175409Z
UID:10001331-1737874800-1737885600@saltspringzencircle.org
SUMMARY:Sit'n Study
DESCRIPTION:Sit’n Study: Sittings are optional. Sitting: 7am-7:45am – Kinhin: 7:45am-8am – Sitting: 8am-8:45am –  Break Study:  9am-10am Leader: Bert Lamsa: “Nena Cares for her Brother” P.13 from The Book of Householder Koans – Waking Up in the Land of Attachments by Eve Myonen Marko and Wendy Egyoku Nakao. Published by Monkfish Book Publishing Co.
URL:https://saltspringzencircle.org/event/sitn-study-115/
CATEGORIES:Sit 'n' Study
END:VEVENT
END:VCALENDAR