BEGIN:VCALENDAR
VERSION:2.0
PRODID:-// - ECPv6.15.20//NONSGML v1.0//EN
CALSCALE:GREGORIAN
METHOD:PUBLISH
X-ORIGINAL-URL:https://saltspringzencircle.org
X-WR-CALDESC:Events for 
REFRESH-INTERVAL;VALUE=DURATION:PT1H
X-Robots-Tag:noindex
X-PUBLISHED-TTL:PT1H
BEGIN:VTIMEZONE
TZID:America/Vancouver
BEGIN:DAYLIGHT
TZOFFSETFROM:-0800
TZOFFSETTO:-0700
TZNAME:PDT
DTSTART:20250309T100000
END:DAYLIGHT
BEGIN:STANDARD
TZOFFSETFROM:-0700
TZOFFSETTO:-0800
TZNAME:PST
DTSTART:20251102T090000
END:STANDARD
BEGIN:DAYLIGHT
TZOFFSETFROM:-0800
TZOFFSETTO:-0700
TZNAME:PDT
DTSTART:20260308T100000
END:DAYLIGHT
BEGIN:STANDARD
TZOFFSETFROM:-0700
TZOFFSETTO:-0800
TZNAME:PST
DTSTART:20261101T090000
END:STANDARD
BEGIN:DAYLIGHT
TZOFFSETFROM:-0800
TZOFFSETTO:-0700
TZNAME:PDT
DTSTART:20270314T100000
END:DAYLIGHT
BEGIN:STANDARD
TZOFFSETFROM:-0700
TZOFFSETTO:-0800
TZNAME:PST
DTSTART:20271107T090000
END:STANDARD
END:VTIMEZONE
BEGIN:VEVENT
DTSTART;TZID=America/Vancouver:20260422T190000
DTEND;TZID=America/Vancouver:20260422T210000
DTSTAMP:20260423T113033
CREATED:20231231T034335Z
LAST-MODIFIED:20240104T225032Z
UID:10000882-1776884400-1776891600@saltspringzencircle.org
SUMMARY:Evening Zazen
DESCRIPTION:In-Person Evening Zazen with Zoom option at All Saints by-the-Sea Anglican Church\, Upper Hall\, 110 Park Drive\, Ganges 
URL:https://saltspringzencircle.org/event/evening-zazen-69/2026-04-22/
CATEGORIES:Evening Zazen
END:VEVENT
BEGIN:VEVENT
DTSTART;TZID=America/Vancouver:20260424T070000
DTEND;TZID=America/Vancouver:20260424T074500
DTSTAMP:20260423T113033
CREATED:20250103T155802Z
LAST-MODIFIED:20250103T183152Z
UID:10001679-1777014000-1777016700@saltspringzencircle.org
SUMMARY:Morning Zazen
DESCRIPTION:Please be seated by 7am
URL:https://saltspringzencircle.org/event/morning-zazen-150/2026-04-24/
CATEGORIES:Morning Zazen
END:VEVENT
BEGIN:VEVENT
DTSTART;TZID=America/Vancouver:20260425T080000
DTEND;TZID=America/Vancouver:20260425T150000
DTSTAMP:20260423T113033
CREATED:20260313T171608Z
LAST-MODIFIED:20260313T171908Z
UID:10002469-1777104000-1777129200@saltspringzencircle.org
SUMMARY:One Day Saturday Sit--Cedar Lane
DESCRIPTION:Join us for in-person zazen at 210 Cedar Lane\, Salt Spring Island. \nWe will sit from 8:30-3:00; please bring a bag lunch and your own zafu and zabuton\, if possible.
URL:https://saltspringzencircle.org/event/one-day-saturday-sit-cedar-lane/
END:VEVENT
BEGIN:VEVENT
DTSTART;TZID=America/Vancouver:20260426T071500
DTEND;TZID=America/Vancouver:20260426T100000
DTSTAMP:20260423T113033
CREATED:20251214T193105Z
LAST-MODIFIED:20260315T202228Z
UID:10002334-1777187700-1777197600@saltspringzencircle.org
SUMMARY:Sit'n Study
DESCRIPTION:Sit’n Study: Sittings are optional. Sitting: 7:15am-7:55am – Kinhin: 7:55am-8:05am – Sitting: 8:05am-8:45am –  Break Study:  9am-10am Leader: Michelle Reed:  The Garuda’s Discernment From: Becoming Yourself: Teachings on the Zen Way of Life by Shunryu Suzuki  Published by Penguin Random House
URL:https://saltspringzencircle.org/event/sitn-study-148-17/
END:VEVENT
BEGIN:VEVENT
DTSTART;TZID=America/Vancouver:20260427T070000
DTEND;TZID=America/Vancouver:20260427T074500
DTSTAMP:20260423T113033
CREATED:20250103T155503Z
LAST-MODIFIED:20250103T155503Z
UID:10001416-1777273200-1777275900@saltspringzencircle.org
SUMMARY:Morning Zazen
DESCRIPTION:
URL:https://saltspringzencircle.org/event/morning-zazen-149/2026-04-27/
CATEGORIES:Morning Zazen
END:VEVENT
BEGIN:VEVENT
DTSTART;TZID=America/Vancouver:20260429T190000
DTEND;TZID=America/Vancouver:20260429T210000
DTSTAMP:20260423T113033
CREATED:20260403T010610Z
LAST-MODIFIED:20260409T165321Z
UID:10000883-1777489200-1777496400@saltspringzencircle.org
SUMMARY:Evening Zazen
DESCRIPTION:Fusatsu (Full Moon Ceremony) and All DOAN meeting after \nIn-Person Evening Zazen with Zoom option at All Saints by-the-Sea Anglican Church\, Upper Hall\, 110 Park Drive\, Ganges 
URL:https://saltspringzencircle.org/event/evening-zazen-69-27/
CATEGORIES:Evening Zazen
END:VEVENT
BEGIN:VEVENT
DTSTART;TZID=America/Vancouver:20260501T070000
DTEND;TZID=America/Vancouver:20260501T074500
DTSTAMP:20260423T113033
CREATED:20250103T155802Z
LAST-MODIFIED:20250103T183152Z
UID:10001680-1777618800-1777621500@saltspringzencircle.org
SUMMARY:Morning Zazen
DESCRIPTION:Please be seated by 7am
URL:https://saltspringzencircle.org/event/morning-zazen-150/2026-05-01/
CATEGORIES:Morning Zazen
END:VEVENT
BEGIN:VEVENT
DTSTART;TZID=America/Vancouver:20260503T071500
DTEND;TZID=America/Vancouver:20260503T100000
DTSTAMP:20260423T113033
CREATED:20260315T202440Z
LAST-MODIFIED:20260403T012240Z
UID:10002456-1777792500-1777802400@saltspringzencircle.org
SUMMARY:Sit'n Study
DESCRIPTION:Sit’n Study: Sittings are optional. Sitting: 7:15am-7:55am – Kinhin: 7:55am-8:05am – Sitting: 8:05am-8:45am –  15 Min Break Study:  9am-10am Leader: Chris Smart  Every Day is a Good Day From: Becoming Yourself: Teachings on the Zen Way of Life by Shunryu Suzuki  Published by Penguin Random House
URL:https://saltspringzencircle.org/event/sitn-study-149-2/
END:VEVENT
BEGIN:VEVENT
DTSTART;TZID=America/Vancouver:20260504T070000
DTEND;TZID=America/Vancouver:20260504T074500
DTSTAMP:20260423T113033
CREATED:20250103T155503Z
LAST-MODIFIED:20250103T155503Z
UID:10001417-1777878000-1777880700@saltspringzencircle.org
SUMMARY:Morning Zazen
DESCRIPTION:
URL:https://saltspringzencircle.org/event/morning-zazen-149/2026-05-04/
CATEGORIES:Morning Zazen
END:VEVENT
BEGIN:VEVENT
DTSTART;TZID=America/Vancouver:20260506T190000
DTEND;TZID=America/Vancouver:20260506T210000
DTSTAMP:20260423T113033
CREATED:20231231T034335Z
LAST-MODIFIED:20240104T225032Z
UID:10000884-1778094000-1778101200@saltspringzencircle.org
SUMMARY:Evening Zazen
DESCRIPTION:In-Person Evening Zazen with Zoom option at All Saints by-the-Sea Anglican Church\, Upper Hall\, 110 Park Drive\, Ganges 
URL:https://saltspringzencircle.org/event/evening-zazen-69/2026-05-06/
CATEGORIES:Evening Zazen
END:VEVENT
BEGIN:VEVENT
DTSTART;TZID=America/Vancouver:20260508T070000
DTEND;TZID=America/Vancouver:20260508T074500
DTSTAMP:20260423T113033
CREATED:20250103T155802Z
LAST-MODIFIED:20250103T183152Z
UID:10001681-1778223600-1778226300@saltspringzencircle.org
SUMMARY:Morning Zazen
DESCRIPTION:Please be seated by 7am
URL:https://saltspringzencircle.org/event/morning-zazen-150/2026-05-08/
CATEGORIES:Morning Zazen
END:VEVENT
BEGIN:VEVENT
DTSTART;TZID=America/Vancouver:20260510T071500
DTEND;TZID=America/Vancouver:20260510T100000
DTSTAMP:20260423T113033
CREATED:20260315T203749Z
LAST-MODIFIED:20260407T220124Z
UID:10002457-1778397300-1778407200@saltspringzencircle.org
SUMMARY:Sit'n Study
DESCRIPTION:Sit’n Study: Sittings are optional. Sitting: 7:15am-7:55am – Kinhin: 7:55am-8:05am – Sitting: 8:05am-8:45am –  15 Min Break Study:  9am-10am Leader: Sheila Dobie: Ethics are Our Nature From: Becoming Yourself: Teachings on the Zen Way of Life by Shunryu Suzuki  Published by Penguin Random House
URL:https://saltspringzencircle.org/event/sitn-study-149-3/
END:VEVENT
BEGIN:VEVENT
DTSTART;TZID=America/Vancouver:20260511T070000
DTEND;TZID=America/Vancouver:20260511T074500
DTSTAMP:20260423T113033
CREATED:20250103T155503Z
LAST-MODIFIED:20250103T155503Z
UID:10001418-1778482800-1778485500@saltspringzencircle.org
SUMMARY:Morning Zazen
DESCRIPTION:
URL:https://saltspringzencircle.org/event/morning-zazen-149/2026-05-11/
CATEGORIES:Morning Zazen
END:VEVENT
BEGIN:VEVENT
DTSTART;TZID=America/Vancouver:20260513T190000
DTEND;TZID=America/Vancouver:20260513T210000
DTSTAMP:20260423T113033
CREATED:20231231T034335Z
LAST-MODIFIED:20240104T225032Z
UID:10000885-1778698800-1778706000@saltspringzencircle.org
SUMMARY:Evening Zazen
DESCRIPTION:In-Person Evening Zazen with Zoom option at All Saints by-the-Sea Anglican Church\, Upper Hall\, 110 Park Drive\, Ganges 
URL:https://saltspringzencircle.org/event/evening-zazen-69/2026-05-13/
CATEGORIES:Evening Zazen
END:VEVENT
BEGIN:VEVENT
DTSTART;TZID=America/Vancouver:20260515T070000
DTEND;TZID=America/Vancouver:20260515T074500
DTSTAMP:20260423T113033
CREATED:20250103T155802Z
LAST-MODIFIED:20250103T183152Z
UID:10001682-1778828400-1778831100@saltspringzencircle.org
SUMMARY:Morning Zazen
DESCRIPTION:Please be seated by 7am
URL:https://saltspringzencircle.org/event/morning-zazen-150/2026-05-15/
CATEGORIES:Morning Zazen
END:VEVENT
BEGIN:VEVENT
DTSTART;TZID=America/Vancouver:20260517T071500
DTEND;TZID=America/Vancouver:20260517T100000
DTSTAMP:20260423T113033
CREATED:20260315T204138Z
LAST-MODIFIED:20260315T204806Z
UID:10002458-1779002100-1779012000@saltspringzencircle.org
SUMMARY:Sit'n Study
DESCRIPTION:Sit’n Study: Sittings are optional. Sitting: 7:15am-7:55am – Kinhin: 7:55am-8:05am – Sitting: 8:05am-8:45am –  15 Min Break Study:  9am-10am Leader: Bert Lamsa: Just Being Yourself From: Becoming Yourself: Teachings on the Zen Way of Life by Shunryu Suzuki  Published by Penguin Random House
URL:https://saltspringzencircle.org/event/sitn-study-149-4/
END:VEVENT
BEGIN:VEVENT
DTSTART;TZID=America/Vancouver:20260518T070000
DTEND;TZID=America/Vancouver:20260518T074500
DTSTAMP:20260423T113033
CREATED:20250103T155503Z
LAST-MODIFIED:20250103T155503Z
UID:10001419-1779087600-1779090300@saltspringzencircle.org
SUMMARY:Morning Zazen
DESCRIPTION:
URL:https://saltspringzencircle.org/event/morning-zazen-149/2026-05-18/
CATEGORIES:Morning Zazen
END:VEVENT
BEGIN:VEVENT
DTSTART;TZID=America/Vancouver:20260520T190000
DTEND;TZID=America/Vancouver:20260520T210000
DTSTAMP:20260423T113033
CREATED:20231231T034335Z
LAST-MODIFIED:20240104T225032Z
UID:10000886-1779303600-1779310800@saltspringzencircle.org
SUMMARY:Evening Zazen
DESCRIPTION:In-Person Evening Zazen with Zoom option at All Saints by-the-Sea Anglican Church\, Upper Hall\, 110 Park Drive\, Ganges 
URL:https://saltspringzencircle.org/event/evening-zazen-69/2026-05-20/
CATEGORIES:Evening Zazen
END:VEVENT
BEGIN:VEVENT
DTSTART;TZID=America/Vancouver:20260522T070000
DTEND;TZID=America/Vancouver:20260522T074500
DTSTAMP:20260423T113033
CREATED:20250103T155802Z
LAST-MODIFIED:20250103T183152Z
UID:10001683-1779433200-1779435900@saltspringzencircle.org
SUMMARY:Morning Zazen
DESCRIPTION:Please be seated by 7am
URL:https://saltspringzencircle.org/event/morning-zazen-150/2026-05-22/
CATEGORIES:Morning Zazen
END:VEVENT
BEGIN:VEVENT
DTSTART;TZID=America/Vancouver:20260524T071500
DTEND;TZID=America/Vancouver:20260524T100000
DTSTAMP:20260423T113033
CREATED:20260315T205216Z
LAST-MODIFIED:20260407T220834Z
UID:10002459-1779606900-1779616800@saltspringzencircle.org
SUMMARY:Sit'n Study
DESCRIPTION:Sit’n Study: Sittings are optional. Sitting: 7:15am-7:55am – Kinhin: 7:55am-8:05am – Sitting: 8:05am-8:45am –  15 Min Break Study:  9am-10am Leader: Mary Reher: Beyond Moral Rules From: Becoming Yourself: Teachings on the Zen Way of Life by Shunryu Suzuki  Published by Penguin Random House
URL:https://saltspringzencircle.org/event/sitn-study-149-5/
END:VEVENT
BEGIN:VEVENT
DTSTART;TZID=America/Vancouver:20260525T070000
DTEND;TZID=America/Vancouver:20260525T074500
DTSTAMP:20260423T113033
CREATED:20250103T155503Z
LAST-MODIFIED:20250103T155503Z
UID:10001420-1779692400-1779695100@saltspringzencircle.org
SUMMARY:Morning Zazen
DESCRIPTION:
URL:https://saltspringzencircle.org/event/morning-zazen-149/2026-05-25/
CATEGORIES:Morning Zazen
END:VEVENT
BEGIN:VEVENT
DTSTART;TZID=America/Vancouver:20260527T190000
DTEND;TZID=America/Vancouver:20260527T210000
DTSTAMP:20260423T113033
CREATED:20231231T034335Z
LAST-MODIFIED:20240104T225032Z
UID:10000887-1779908400-1779915600@saltspringzencircle.org
SUMMARY:Evening Zazen
DESCRIPTION:In-Person Evening Zazen with Zoom option at All Saints by-the-Sea Anglican Church\, Upper Hall\, 110 Park Drive\, Ganges 
URL:https://saltspringzencircle.org/event/evening-zazen-69/2026-05-27/
CATEGORIES:Evening Zazen
END:VEVENT
BEGIN:VEVENT
DTSTART;TZID=America/Vancouver:20260529T070000
DTEND;TZID=America/Vancouver:20260529T074500
DTSTAMP:20260423T113033
CREATED:20250103T155802Z
LAST-MODIFIED:20250103T183152Z
UID:10001684-1780038000-1780040700@saltspringzencircle.org
SUMMARY:Morning Zazen
DESCRIPTION:Please be seated by 7am
URL:https://saltspringzencircle.org/event/morning-zazen-150/2026-05-29/
CATEGORIES:Morning Zazen
END:VEVENT
BEGIN:VEVENT
DTSTART;TZID=America/Vancouver:20260531T071500
DTEND;TZID=America/Vancouver:20260531T100000
DTSTAMP:20260423T113033
CREATED:20260315T205520Z
LAST-MODIFIED:20260315T205523Z
UID:10002460-1780211700-1780221600@saltspringzencircle.org
SUMMARY:Sit'n Study
DESCRIPTION:Sit’n Study: Sittings are optional. Sitting: 7:15am-7:55am – Kinhin: 7:55am-8:05am – Sitting: 8:05am-8:45am –  15 Min Break Study:  9am-10am Leader: Doug Reid: “I Will Do It!” From: Becoming Yourself: Teachings on the Zen Way of Life by Shunryu Suzuki  Published by Penguin Random House
URL:https://saltspringzencircle.org/event/sitn-study-149-6/
END:VEVENT
BEGIN:VEVENT
DTSTART;TZID=America/Vancouver:20260601T070000
DTEND;TZID=America/Vancouver:20260601T074500
DTSTAMP:20260423T113033
CREATED:20250103T155503Z
LAST-MODIFIED:20250103T155503Z
UID:10001421-1780297200-1780299900@saltspringzencircle.org
SUMMARY:Morning Zazen
DESCRIPTION:
URL:https://saltspringzencircle.org/event/morning-zazen-149/2026-06-01/
CATEGORIES:Morning Zazen
END:VEVENT
BEGIN:VEVENT
DTSTART;TZID=America/Vancouver:20260603T190000
DTEND;TZID=America/Vancouver:20260603T210000
DTSTAMP:20260423T113033
CREATED:20231231T034335Z
LAST-MODIFIED:20240104T225032Z
UID:10000888-1780513200-1780520400@saltspringzencircle.org
SUMMARY:Evening Zazen
DESCRIPTION:In-Person Evening Zazen with Zoom option at All Saints by-the-Sea Anglican Church\, Upper Hall\, 110 Park Drive\, Ganges 
URL:https://saltspringzencircle.org/event/evening-zazen-69/2026-06-03/
CATEGORIES:Evening Zazen
END:VEVENT
BEGIN:VEVENT
DTSTART;TZID=America/Vancouver:20260605T070000
DTEND;TZID=America/Vancouver:20260605T074500
DTSTAMP:20260423T113033
CREATED:20250103T155802Z
LAST-MODIFIED:20250103T183152Z
UID:10001685-1780642800-1780645500@saltspringzencircle.org
SUMMARY:Morning Zazen
DESCRIPTION:Please be seated by 7am
URL:https://saltspringzencircle.org/event/morning-zazen-150/2026-06-05/
CATEGORIES:Morning Zazen
END:VEVENT
BEGIN:VEVENT
DTSTART;TZID=America/Vancouver:20260607T071500
DTEND;TZID=America/Vancouver:20260607T100000
DTSTAMP:20260423T113033
CREATED:20260315T205827Z
LAST-MODIFIED:20260315T205845Z
UID:10002461-1780816500-1780826400@saltspringzencircle.org
SUMMARY:Sit'n Study
DESCRIPTION:Sit’n Study: Sittings are optional. Sitting: 7:15am-7:55am – Kinhin: 7:55am-8:05am – Sitting: 8:05am-8:45am –  15 Min Break Study:  9am-10am Leader: Chris Smart: There is Only One Way for You to Go From: Becoming Yourself: Teachings on the Zen Way of Life by Shunryu Suzuki  Published by Penguin Random House
URL:https://saltspringzencircle.org/event/sitn-study-149-7/
END:VEVENT
BEGIN:VEVENT
DTSTART;TZID=America/Vancouver:20260608T070000
DTEND;TZID=America/Vancouver:20260608T074500
DTSTAMP:20260423T113033
CREATED:20250103T155503Z
LAST-MODIFIED:20250103T155503Z
UID:10001422-1780902000-1780904700@saltspringzencircle.org
SUMMARY:Morning Zazen
DESCRIPTION:
URL:https://saltspringzencircle.org/event/morning-zazen-149/2026-06-08/
CATEGORIES:Morning Zazen
END:VEVENT
BEGIN:VEVENT
DTSTART;TZID=America/Vancouver:20260610T190000
DTEND;TZID=America/Vancouver:20260610T210000
DTSTAMP:20260423T113033
CREATED:20231231T034335Z
LAST-MODIFIED:20240104T225032Z
UID:10000889-1781118000-1781125200@saltspringzencircle.org
SUMMARY:Evening Zazen
DESCRIPTION:In-Person Evening Zazen with Zoom option at All Saints by-the-Sea Anglican Church\, Upper Hall\, 110 Park Drive\, Ganges 
URL:https://saltspringzencircle.org/event/evening-zazen-69/2026-06-10/
CATEGORIES:Evening Zazen
END:VEVENT
END:VCALENDAR