BEGIN:VCALENDAR
VERSION:2.0
PRODID:-// - ECPv6.15.20//NONSGML v1.0//EN
CALSCALE:GREGORIAN
METHOD:PUBLISH
X-ORIGINAL-URL:https://saltspringzencircle.org
X-WR-CALDESC:Events for 
REFRESH-INTERVAL;VALUE=DURATION:PT1H
X-Robots-Tag:noindex
X-PUBLISHED-TTL:PT1H
BEGIN:VTIMEZONE
TZID:America/Vancouver
BEGIN:DAYLIGHT
TZOFFSETFROM:-0800
TZOFFSETTO:-0700
TZNAME:PDT
DTSTART:20260308T100000
END:DAYLIGHT
BEGIN:STANDARD
TZOFFSETFROM:-0700
TZOFFSETTO:-0800
TZNAME:PST
DTSTART:20261101T090000
END:STANDARD
BEGIN:DAYLIGHT
TZOFFSETFROM:-0800
TZOFFSETTO:-0700
TZNAME:PDT
DTSTART:20270314T100000
END:DAYLIGHT
BEGIN:STANDARD
TZOFFSETFROM:-0700
TZOFFSETTO:-0800
TZNAME:PST
DTSTART:20271107T090000
END:STANDARD
BEGIN:DAYLIGHT
TZOFFSETFROM:-0800
TZOFFSETTO:-0700
TZNAME:PDT
DTSTART:20280312T100000
END:DAYLIGHT
BEGIN:STANDARD
TZOFFSETFROM:-0700
TZOFFSETTO:-0800
TZNAME:PST
DTSTART:20281105T090000
END:STANDARD
END:VTIMEZONE
BEGIN:VEVENT
DTSTART;TZID=America/Vancouver:20270205T070000
DTEND;TZID=America/Vancouver:20270205T074500
DTSTAMP:20260424T040235
CREATED:20250103T155802Z
LAST-MODIFIED:20250103T183152Z
UID:10001720-1801810800-1801813500@saltspringzencircle.org
SUMMARY:Morning Zazen
DESCRIPTION:Please be seated by 7am
URL:https://saltspringzencircle.org/event/morning-zazen-150/2027-02-05/
CATEGORIES:Morning Zazen
END:VEVENT
BEGIN:VEVENT
DTSTART;TZID=America/Vancouver:20270208T070000
DTEND;TZID=America/Vancouver:20270208T074500
DTSTAMP:20260424T040235
CREATED:20250103T155503Z
LAST-MODIFIED:20250103T155503Z
UID:10001457-1802070000-1802072700@saltspringzencircle.org
SUMMARY:Morning Zazen
DESCRIPTION:
URL:https://saltspringzencircle.org/event/morning-zazen-149/2027-02-08/
CATEGORIES:Morning Zazen
END:VEVENT
BEGIN:VEVENT
DTSTART;TZID=America/Vancouver:20270210T190000
DTEND;TZID=America/Vancouver:20270210T210000
DTSTAMP:20260424T040235
CREATED:20231231T034335Z
LAST-MODIFIED:20240104T225032Z
UID:10000924-1802286000-1802293200@saltspringzencircle.org
SUMMARY:Evening Zazen
DESCRIPTION:In-Person Evening Zazen with Zoom option at All Saints by-the-Sea Anglican Church\, Upper Hall\, 110 Park Drive\, Ganges 
URL:https://saltspringzencircle.org/event/evening-zazen-69/2027-02-10/
CATEGORIES:Evening Zazen
END:VEVENT
BEGIN:VEVENT
DTSTART;TZID=America/Vancouver:20270212T070000
DTEND;TZID=America/Vancouver:20270212T074500
DTSTAMP:20260424T040235
CREATED:20250103T155802Z
LAST-MODIFIED:20250103T183152Z
UID:10001721-1802415600-1802418300@saltspringzencircle.org
SUMMARY:Morning Zazen
DESCRIPTION:Please be seated by 7am
URL:https://saltspringzencircle.org/event/morning-zazen-150/2027-02-12/
CATEGORIES:Morning Zazen
END:VEVENT
BEGIN:VEVENT
DTSTART;TZID=America/Vancouver:20270215T070000
DTEND;TZID=America/Vancouver:20270215T074500
DTSTAMP:20260424T040235
CREATED:20250103T155503Z
LAST-MODIFIED:20250103T155503Z
UID:10001458-1802674800-1802677500@saltspringzencircle.org
SUMMARY:Morning Zazen
DESCRIPTION:
URL:https://saltspringzencircle.org/event/morning-zazen-149/2027-02-15/
CATEGORIES:Morning Zazen
END:VEVENT
BEGIN:VEVENT
DTSTART;TZID=America/Vancouver:20270217T190000
DTEND;TZID=America/Vancouver:20270217T210000
DTSTAMP:20260424T040235
CREATED:20231231T034335Z
LAST-MODIFIED:20240104T225032Z
UID:10000925-1802890800-1802898000@saltspringzencircle.org
SUMMARY:Evening Zazen
DESCRIPTION:In-Person Evening Zazen with Zoom option at All Saints by-the-Sea Anglican Church\, Upper Hall\, 110 Park Drive\, Ganges 
URL:https://saltspringzencircle.org/event/evening-zazen-69/2027-02-17/
CATEGORIES:Evening Zazen
END:VEVENT
BEGIN:VEVENT
DTSTART;TZID=America/Vancouver:20270219T070000
DTEND;TZID=America/Vancouver:20270219T074500
DTSTAMP:20260424T040235
CREATED:20250103T155802Z
LAST-MODIFIED:20250103T183152Z
UID:10001722-1803020400-1803023100@saltspringzencircle.org
SUMMARY:Morning Zazen
DESCRIPTION:Please be seated by 7am
URL:https://saltspringzencircle.org/event/morning-zazen-150/2027-02-19/
CATEGORIES:Morning Zazen
END:VEVENT
BEGIN:VEVENT
DTSTART;TZID=America/Vancouver:20270222T070000
DTEND;TZID=America/Vancouver:20270222T074500
DTSTAMP:20260424T040235
CREATED:20250103T155503Z
LAST-MODIFIED:20250103T155503Z
UID:10001459-1803279600-1803282300@saltspringzencircle.org
SUMMARY:Morning Zazen
DESCRIPTION:
URL:https://saltspringzencircle.org/event/morning-zazen-149/2027-02-22/
CATEGORIES:Morning Zazen
END:VEVENT
BEGIN:VEVENT
DTSTART;TZID=America/Vancouver:20270224T190000
DTEND;TZID=America/Vancouver:20270224T210000
DTSTAMP:20260424T040235
CREATED:20231231T034335Z
LAST-MODIFIED:20240104T225032Z
UID:10000926-1803495600-1803502800@saltspringzencircle.org
SUMMARY:Evening Zazen
DESCRIPTION:In-Person Evening Zazen with Zoom option at All Saints by-the-Sea Anglican Church\, Upper Hall\, 110 Park Drive\, Ganges 
URL:https://saltspringzencircle.org/event/evening-zazen-69/2027-02-24/
CATEGORIES:Evening Zazen
END:VEVENT
BEGIN:VEVENT
DTSTART;TZID=America/Vancouver:20270226T070000
DTEND;TZID=America/Vancouver:20270226T074500
DTSTAMP:20260424T040235
CREATED:20250103T155802Z
LAST-MODIFIED:20250103T183152Z
UID:10001723-1803625200-1803627900@saltspringzencircle.org
SUMMARY:Morning Zazen
DESCRIPTION:Please be seated by 7am
URL:https://saltspringzencircle.org/event/morning-zazen-150/2027-02-26/
CATEGORIES:Morning Zazen
END:VEVENT
BEGIN:VEVENT
DTSTART;TZID=America/Vancouver:20270301T070000
DTEND;TZID=America/Vancouver:20270301T074500
DTSTAMP:20260424T040235
CREATED:20250103T155503Z
LAST-MODIFIED:20250103T155503Z
UID:10001460-1803884400-1803887100@saltspringzencircle.org
SUMMARY:Morning Zazen
DESCRIPTION:
URL:https://saltspringzencircle.org/event/morning-zazen-149/2027-03-01/
CATEGORIES:Morning Zazen
END:VEVENT
BEGIN:VEVENT
DTSTART;TZID=America/Vancouver:20270303T190000
DTEND;TZID=America/Vancouver:20270303T210000
DTSTAMP:20260424T040235
CREATED:20231231T034335Z
LAST-MODIFIED:20240104T225032Z
UID:10000927-1804100400-1804107600@saltspringzencircle.org
SUMMARY:Evening Zazen
DESCRIPTION:In-Person Evening Zazen with Zoom option at All Saints by-the-Sea Anglican Church\, Upper Hall\, 110 Park Drive\, Ganges 
URL:https://saltspringzencircle.org/event/evening-zazen-69/2027-03-03/
CATEGORIES:Evening Zazen
END:VEVENT
BEGIN:VEVENT
DTSTART;TZID=America/Vancouver:20270305T070000
DTEND;TZID=America/Vancouver:20270305T074500
DTSTAMP:20260424T040235
CREATED:20250103T155802Z
LAST-MODIFIED:20250103T183152Z
UID:10001724-1804230000-1804232700@saltspringzencircle.org
SUMMARY:Morning Zazen
DESCRIPTION:Please be seated by 7am
URL:https://saltspringzencircle.org/event/morning-zazen-150/2027-03-05/
CATEGORIES:Morning Zazen
END:VEVENT
BEGIN:VEVENT
DTSTART;TZID=America/Vancouver:20270308T070000
DTEND;TZID=America/Vancouver:20270308T074500
DTSTAMP:20260424T040235
CREATED:20250103T155503Z
LAST-MODIFIED:20250103T155503Z
UID:10001461-1804489200-1804491900@saltspringzencircle.org
SUMMARY:Morning Zazen
DESCRIPTION:
URL:https://saltspringzencircle.org/event/morning-zazen-149/2027-03-08/
CATEGORIES:Morning Zazen
END:VEVENT
BEGIN:VEVENT
DTSTART;TZID=America/Vancouver:20270310T190000
DTEND;TZID=America/Vancouver:20270310T210000
DTSTAMP:20260424T040235
CREATED:20231231T034335Z
LAST-MODIFIED:20240104T225032Z
UID:10000928-1804705200-1804712400@saltspringzencircle.org
SUMMARY:Evening Zazen
DESCRIPTION:In-Person Evening Zazen with Zoom option at All Saints by-the-Sea Anglican Church\, Upper Hall\, 110 Park Drive\, Ganges 
URL:https://saltspringzencircle.org/event/evening-zazen-69/2027-03-10/
CATEGORIES:Evening Zazen
END:VEVENT
BEGIN:VEVENT
DTSTART;TZID=America/Vancouver:20270312T070000
DTEND;TZID=America/Vancouver:20270312T074500
DTSTAMP:20260424T040235
CREATED:20250103T155802Z
LAST-MODIFIED:20250103T183152Z
UID:10001725-1804834800-1804837500@saltspringzencircle.org
SUMMARY:Morning Zazen
DESCRIPTION:Please be seated by 7am
URL:https://saltspringzencircle.org/event/morning-zazen-150/2027-03-12/
CATEGORIES:Morning Zazen
END:VEVENT
BEGIN:VEVENT
DTSTART;TZID=America/Vancouver:20270315T070000
DTEND;TZID=America/Vancouver:20270315T074500
DTSTAMP:20260424T040235
CREATED:20250103T155503Z
LAST-MODIFIED:20250103T155503Z
UID:10001462-1805094000-1805096700@saltspringzencircle.org
SUMMARY:Morning Zazen
DESCRIPTION:
URL:https://saltspringzencircle.org/event/morning-zazen-149/2027-03-15/
CATEGORIES:Morning Zazen
END:VEVENT
BEGIN:VEVENT
DTSTART;TZID=America/Vancouver:20270317T190000
DTEND;TZID=America/Vancouver:20270317T210000
DTSTAMP:20260424T040235
CREATED:20231231T034335Z
LAST-MODIFIED:20240104T225032Z
UID:10000929-1805310000-1805317200@saltspringzencircle.org
SUMMARY:Evening Zazen
DESCRIPTION:In-Person Evening Zazen with Zoom option at All Saints by-the-Sea Anglican Church\, Upper Hall\, 110 Park Drive\, Ganges 
URL:https://saltspringzencircle.org/event/evening-zazen-69/2027-03-17/
CATEGORIES:Evening Zazen
END:VEVENT
BEGIN:VEVENT
DTSTART;TZID=America/Vancouver:20270319T070000
DTEND;TZID=America/Vancouver:20270319T074500
DTSTAMP:20260424T040235
CREATED:20250103T155802Z
LAST-MODIFIED:20250103T183152Z
UID:10001726-1805439600-1805442300@saltspringzencircle.org
SUMMARY:Morning Zazen
DESCRIPTION:Please be seated by 7am
URL:https://saltspringzencircle.org/event/morning-zazen-150/2027-03-19/
CATEGORIES:Morning Zazen
END:VEVENT
BEGIN:VEVENT
DTSTART;TZID=America/Vancouver:20270322T070000
DTEND;TZID=America/Vancouver:20270322T074500
DTSTAMP:20260424T040235
CREATED:20250103T155503Z
LAST-MODIFIED:20250103T155503Z
UID:10001463-1805698800-1805701500@saltspringzencircle.org
SUMMARY:Morning Zazen
DESCRIPTION:
URL:https://saltspringzencircle.org/event/morning-zazen-149/2027-03-22/
CATEGORIES:Morning Zazen
END:VEVENT
BEGIN:VEVENT
DTSTART;TZID=America/Vancouver:20270324T190000
DTEND;TZID=America/Vancouver:20270324T210000
DTSTAMP:20260424T040235
CREATED:20231231T034335Z
LAST-MODIFIED:20240104T225032Z
UID:10000930-1805914800-1805922000@saltspringzencircle.org
SUMMARY:Evening Zazen
DESCRIPTION:In-Person Evening Zazen with Zoom option at All Saints by-the-Sea Anglican Church\, Upper Hall\, 110 Park Drive\, Ganges 
URL:https://saltspringzencircle.org/event/evening-zazen-69/2027-03-24/
CATEGORIES:Evening Zazen
END:VEVENT
BEGIN:VEVENT
DTSTART;TZID=America/Vancouver:20270326T070000
DTEND;TZID=America/Vancouver:20270326T074500
DTSTAMP:20260424T040235
CREATED:20250103T155802Z
LAST-MODIFIED:20250103T183152Z
UID:10001727-1806044400-1806047100@saltspringzencircle.org
SUMMARY:Morning Zazen
DESCRIPTION:Please be seated by 7am
URL:https://saltspringzencircle.org/event/morning-zazen-150/2027-03-26/
CATEGORIES:Morning Zazen
END:VEVENT
BEGIN:VEVENT
DTSTART;TZID=America/Vancouver:20270329T070000
DTEND;TZID=America/Vancouver:20270329T074500
DTSTAMP:20260424T040235
CREATED:20250103T155503Z
LAST-MODIFIED:20250103T155503Z
UID:10001464-1806303600-1806306300@saltspringzencircle.org
SUMMARY:Morning Zazen
DESCRIPTION:
URL:https://saltspringzencircle.org/event/morning-zazen-149/2027-03-29/
CATEGORIES:Morning Zazen
END:VEVENT
BEGIN:VEVENT
DTSTART;TZID=America/Vancouver:20270331T190000
DTEND;TZID=America/Vancouver:20270331T210000
DTSTAMP:20260424T040235
CREATED:20231231T034335Z
LAST-MODIFIED:20240104T225032Z
UID:10000931-1806519600-1806526800@saltspringzencircle.org
SUMMARY:Evening Zazen
DESCRIPTION:In-Person Evening Zazen with Zoom option at All Saints by-the-Sea Anglican Church\, Upper Hall\, 110 Park Drive\, Ganges 
URL:https://saltspringzencircle.org/event/evening-zazen-69/2027-03-31/
CATEGORIES:Evening Zazen
END:VEVENT
BEGIN:VEVENT
DTSTART;TZID=America/Vancouver:20270402T070000
DTEND;TZID=America/Vancouver:20270402T074500
DTSTAMP:20260424T040235
CREATED:20250103T155802Z
LAST-MODIFIED:20250103T183152Z
UID:10001728-1806649200-1806651900@saltspringzencircle.org
SUMMARY:Morning Zazen
DESCRIPTION:Please be seated by 7am
URL:https://saltspringzencircle.org/event/morning-zazen-150/2027-04-02/
CATEGORIES:Morning Zazen
END:VEVENT
BEGIN:VEVENT
DTSTART;TZID=America/Vancouver:20270405T070000
DTEND;TZID=America/Vancouver:20270405T074500
DTSTAMP:20260424T040235
CREATED:20250103T155503Z
LAST-MODIFIED:20250103T155503Z
UID:10001465-1806908400-1806911100@saltspringzencircle.org
SUMMARY:Morning Zazen
DESCRIPTION:
URL:https://saltspringzencircle.org/event/morning-zazen-149/2027-04-05/
CATEGORIES:Morning Zazen
END:VEVENT
BEGIN:VEVENT
DTSTART;TZID=America/Vancouver:20270407T190000
DTEND;TZID=America/Vancouver:20270407T210000
DTSTAMP:20260424T040235
CREATED:20231231T034335Z
LAST-MODIFIED:20240104T225032Z
UID:10000932-1807124400-1807131600@saltspringzencircle.org
SUMMARY:Evening Zazen
DESCRIPTION:In-Person Evening Zazen with Zoom option at All Saints by-the-Sea Anglican Church\, Upper Hall\, 110 Park Drive\, Ganges 
URL:https://saltspringzencircle.org/event/evening-zazen-69/2027-04-07/
CATEGORIES:Evening Zazen
END:VEVENT
BEGIN:VEVENT
DTSTART;TZID=America/Vancouver:20270409T070000
DTEND;TZID=America/Vancouver:20270409T074500
DTSTAMP:20260424T040235
CREATED:20250103T155802Z
LAST-MODIFIED:20250103T183152Z
UID:10001729-1807254000-1807256700@saltspringzencircle.org
SUMMARY:Morning Zazen
DESCRIPTION:Please be seated by 7am
URL:https://saltspringzencircle.org/event/morning-zazen-150/2027-04-09/
CATEGORIES:Morning Zazen
END:VEVENT
BEGIN:VEVENT
DTSTART;TZID=America/Vancouver:20270412T070000
DTEND;TZID=America/Vancouver:20270412T074500
DTSTAMP:20260424T040235
CREATED:20250103T155503Z
LAST-MODIFIED:20250103T155503Z
UID:10001466-1807513200-1807515900@saltspringzencircle.org
SUMMARY:Morning Zazen
DESCRIPTION:
URL:https://saltspringzencircle.org/event/morning-zazen-149/2027-04-12/
CATEGORIES:Morning Zazen
END:VEVENT
BEGIN:VEVENT
DTSTART;TZID=America/Vancouver:20270414T190000
DTEND;TZID=America/Vancouver:20270414T210000
DTSTAMP:20260424T040235
CREATED:20231231T034335Z
LAST-MODIFIED:20240104T225032Z
UID:10000933-1807729200-1807736400@saltspringzencircle.org
SUMMARY:Evening Zazen
DESCRIPTION:In-Person Evening Zazen with Zoom option at All Saints by-the-Sea Anglican Church\, Upper Hall\, 110 Park Drive\, Ganges 
URL:https://saltspringzencircle.org/event/evening-zazen-69/2027-04-14/
CATEGORIES:Evening Zazen
END:VEVENT
END:VCALENDAR