BEGIN:VCALENDAR
VERSION:2.0
PRODID:-// - ECPv6.15.20//NONSGML v1.0//EN
CALSCALE:GREGORIAN
METHOD:PUBLISH
X-ORIGINAL-URL:https://saltspringzencircle.org
X-WR-CALDESC:Events for 
REFRESH-INTERVAL;VALUE=DURATION:PT1H
X-Robots-Tag:noindex
X-PUBLISHED-TTL:PT1H
BEGIN:VTIMEZONE
TZID:America/Vancouver
BEGIN:DAYLIGHT
TZOFFSETFROM:-0800
TZOFFSETTO:-0700
TZNAME:PDT
DTSTART:20270314T100000
END:DAYLIGHT
BEGIN:STANDARD
TZOFFSETFROM:-0700
TZOFFSETTO:-0800
TZNAME:PST
DTSTART:20271107T090000
END:STANDARD
BEGIN:DAYLIGHT
TZOFFSETFROM:-0800
TZOFFSETTO:-0700
TZNAME:PDT
DTSTART:20280312T100000
END:DAYLIGHT
BEGIN:STANDARD
TZOFFSETFROM:-0700
TZOFFSETTO:-0800
TZNAME:PST
DTSTART:20281105T090000
END:STANDARD
BEGIN:DAYLIGHT
TZOFFSETFROM:-0800
TZOFFSETTO:-0700
TZNAME:PDT
DTSTART:20290311T100000
END:DAYLIGHT
BEGIN:STANDARD
TZOFFSETFROM:-0700
TZOFFSETTO:-0800
TZNAME:PST
DTSTART:20291104T090000
END:STANDARD
END:VTIMEZONE
BEGIN:VEVENT
DTSTART;TZID=America/Vancouver:20280512T070000
DTEND;TZID=America/Vancouver:20280512T074500
DTSTAMP:20260425T084515
CREATED:20250103T155802Z
LAST-MODIFIED:20250103T183152Z
UID:10001786-1841727600-1841730300@saltspringzencircle.org
SUMMARY:Morning Zazen
DESCRIPTION:Please be seated by 7am
URL:https://saltspringzencircle.org/event/morning-zazen-150/2028-05-12/
CATEGORIES:Morning Zazen
END:VEVENT
BEGIN:VEVENT
DTSTART;TZID=America/Vancouver:20280515T070000
DTEND;TZID=America/Vancouver:20280515T074500
DTSTAMP:20260425T084515
CREATED:20250103T155503Z
LAST-MODIFIED:20250103T155503Z
UID:10001523-1841986800-1841989500@saltspringzencircle.org
SUMMARY:Morning Zazen
DESCRIPTION:
URL:https://saltspringzencircle.org/event/morning-zazen-149/2028-05-15/
CATEGORIES:Morning Zazen
END:VEVENT
BEGIN:VEVENT
DTSTART;TZID=America/Vancouver:20280517T190000
DTEND;TZID=America/Vancouver:20280517T210000
DTSTAMP:20260425T084515
CREATED:20231231T034335Z
LAST-MODIFIED:20240104T225032Z
UID:10000990-1842202800-1842210000@saltspringzencircle.org
SUMMARY:Evening Zazen
DESCRIPTION:In-Person Evening Zazen with Zoom option at All Saints by-the-Sea Anglican Church\, Upper Hall\, 110 Park Drive\, Ganges 
URL:https://saltspringzencircle.org/event/evening-zazen-69/2028-05-17/
CATEGORIES:Evening Zazen
END:VEVENT
BEGIN:VEVENT
DTSTART;TZID=America/Vancouver:20280519T070000
DTEND;TZID=America/Vancouver:20280519T074500
DTSTAMP:20260425T084515
CREATED:20250103T155802Z
LAST-MODIFIED:20250103T183152Z
UID:10001787-1842332400-1842335100@saltspringzencircle.org
SUMMARY:Morning Zazen
DESCRIPTION:Please be seated by 7am
URL:https://saltspringzencircle.org/event/morning-zazen-150/2028-05-19/
CATEGORIES:Morning Zazen
END:VEVENT
BEGIN:VEVENT
DTSTART;TZID=America/Vancouver:20280522T070000
DTEND;TZID=America/Vancouver:20280522T074500
DTSTAMP:20260425T084515
CREATED:20250103T155503Z
LAST-MODIFIED:20250103T155503Z
UID:10001524-1842591600-1842594300@saltspringzencircle.org
SUMMARY:Morning Zazen
DESCRIPTION:
URL:https://saltspringzencircle.org/event/morning-zazen-149/2028-05-22/
CATEGORIES:Morning Zazen
END:VEVENT
BEGIN:VEVENT
DTSTART;TZID=America/Vancouver:20280524T190000
DTEND;TZID=America/Vancouver:20280524T210000
DTSTAMP:20260425T084515
CREATED:20231231T034335Z
LAST-MODIFIED:20240104T225032Z
UID:10000991-1842807600-1842814800@saltspringzencircle.org
SUMMARY:Evening Zazen
DESCRIPTION:In-Person Evening Zazen with Zoom option at All Saints by-the-Sea Anglican Church\, Upper Hall\, 110 Park Drive\, Ganges 
URL:https://saltspringzencircle.org/event/evening-zazen-69/2028-05-24/
CATEGORIES:Evening Zazen
END:VEVENT
BEGIN:VEVENT
DTSTART;TZID=America/Vancouver:20280526T070000
DTEND;TZID=America/Vancouver:20280526T074500
DTSTAMP:20260425T084515
CREATED:20250103T155802Z
LAST-MODIFIED:20250103T183152Z
UID:10001788-1842937200-1842939900@saltspringzencircle.org
SUMMARY:Morning Zazen
DESCRIPTION:Please be seated by 7am
URL:https://saltspringzencircle.org/event/morning-zazen-150/2028-05-26/
CATEGORIES:Morning Zazen
END:VEVENT
BEGIN:VEVENT
DTSTART;TZID=America/Vancouver:20280529T070000
DTEND;TZID=America/Vancouver:20280529T074500
DTSTAMP:20260425T084515
CREATED:20250103T155503Z
LAST-MODIFIED:20250103T155503Z
UID:10001525-1843196400-1843199100@saltspringzencircle.org
SUMMARY:Morning Zazen
DESCRIPTION:
URL:https://saltspringzencircle.org/event/morning-zazen-149/2028-05-29/
CATEGORIES:Morning Zazen
END:VEVENT
BEGIN:VEVENT
DTSTART;TZID=America/Vancouver:20280531T190000
DTEND;TZID=America/Vancouver:20280531T210000
DTSTAMP:20260425T084515
CREATED:20231231T034335Z
LAST-MODIFIED:20240104T225032Z
UID:10000992-1843412400-1843419600@saltspringzencircle.org
SUMMARY:Evening Zazen
DESCRIPTION:In-Person Evening Zazen with Zoom option at All Saints by-the-Sea Anglican Church\, Upper Hall\, 110 Park Drive\, Ganges 
URL:https://saltspringzencircle.org/event/evening-zazen-69/2028-05-31/
CATEGORIES:Evening Zazen
END:VEVENT
BEGIN:VEVENT
DTSTART;TZID=America/Vancouver:20280602T070000
DTEND;TZID=America/Vancouver:20280602T074500
DTSTAMP:20260425T084515
CREATED:20250103T155802Z
LAST-MODIFIED:20250103T183152Z
UID:10001789-1843542000-1843544700@saltspringzencircle.org
SUMMARY:Morning Zazen
DESCRIPTION:Please be seated by 7am
URL:https://saltspringzencircle.org/event/morning-zazen-150/2028-06-02/
CATEGORIES:Morning Zazen
END:VEVENT
BEGIN:VEVENT
DTSTART;TZID=America/Vancouver:20280605T070000
DTEND;TZID=America/Vancouver:20280605T074500
DTSTAMP:20260425T084515
CREATED:20250103T155503Z
LAST-MODIFIED:20250103T155503Z
UID:10001526-1843801200-1843803900@saltspringzencircle.org
SUMMARY:Morning Zazen
DESCRIPTION:
URL:https://saltspringzencircle.org/event/morning-zazen-149/2028-06-05/
CATEGORIES:Morning Zazen
END:VEVENT
BEGIN:VEVENT
DTSTART;TZID=America/Vancouver:20280607T190000
DTEND;TZID=America/Vancouver:20280607T210000
DTSTAMP:20260425T084515
CREATED:20231231T034335Z
LAST-MODIFIED:20240104T225032Z
UID:10000993-1844017200-1844024400@saltspringzencircle.org
SUMMARY:Evening Zazen
DESCRIPTION:In-Person Evening Zazen with Zoom option at All Saints by-the-Sea Anglican Church\, Upper Hall\, 110 Park Drive\, Ganges 
URL:https://saltspringzencircle.org/event/evening-zazen-69/2028-06-07/
CATEGORIES:Evening Zazen
END:VEVENT
BEGIN:VEVENT
DTSTART;TZID=America/Vancouver:20280609T070000
DTEND;TZID=America/Vancouver:20280609T074500
DTSTAMP:20260425T084515
CREATED:20250103T155802Z
LAST-MODIFIED:20250103T183152Z
UID:10001790-1844146800-1844149500@saltspringzencircle.org
SUMMARY:Morning Zazen
DESCRIPTION:Please be seated by 7am
URL:https://saltspringzencircle.org/event/morning-zazen-150/2028-06-09/
CATEGORIES:Morning Zazen
END:VEVENT
BEGIN:VEVENT
DTSTART;TZID=America/Vancouver:20280612T070000
DTEND;TZID=America/Vancouver:20280612T074500
DTSTAMP:20260425T084515
CREATED:20250103T155503Z
LAST-MODIFIED:20250103T155503Z
UID:10001527-1844406000-1844408700@saltspringzencircle.org
SUMMARY:Morning Zazen
DESCRIPTION:
URL:https://saltspringzencircle.org/event/morning-zazen-149/2028-06-12/
CATEGORIES:Morning Zazen
END:VEVENT
BEGIN:VEVENT
DTSTART;TZID=America/Vancouver:20280614T190000
DTEND;TZID=America/Vancouver:20280614T210000
DTSTAMP:20260425T084515
CREATED:20231231T034335Z
LAST-MODIFIED:20240104T225032Z
UID:10000994-1844622000-1844629200@saltspringzencircle.org
SUMMARY:Evening Zazen
DESCRIPTION:In-Person Evening Zazen with Zoom option at All Saints by-the-Sea Anglican Church\, Upper Hall\, 110 Park Drive\, Ganges 
URL:https://saltspringzencircle.org/event/evening-zazen-69/2028-06-14/
CATEGORIES:Evening Zazen
END:VEVENT
BEGIN:VEVENT
DTSTART;TZID=America/Vancouver:20280616T070000
DTEND;TZID=America/Vancouver:20280616T074500
DTSTAMP:20260425T084515
CREATED:20250103T155802Z
LAST-MODIFIED:20250103T183152Z
UID:10001791-1844751600-1844754300@saltspringzencircle.org
SUMMARY:Morning Zazen
DESCRIPTION:Please be seated by 7am
URL:https://saltspringzencircle.org/event/morning-zazen-150/2028-06-16/
CATEGORIES:Morning Zazen
END:VEVENT
BEGIN:VEVENT
DTSTART;TZID=America/Vancouver:20280619T070000
DTEND;TZID=America/Vancouver:20280619T074500
DTSTAMP:20260425T084515
CREATED:20250103T155503Z
LAST-MODIFIED:20250103T155503Z
UID:10001528-1845010800-1845013500@saltspringzencircle.org
SUMMARY:Morning Zazen
DESCRIPTION:
URL:https://saltspringzencircle.org/event/morning-zazen-149/2028-06-19/
CATEGORIES:Morning Zazen
END:VEVENT
BEGIN:VEVENT
DTSTART;TZID=America/Vancouver:20280621T190000
DTEND;TZID=America/Vancouver:20280621T210000
DTSTAMP:20260425T084515
CREATED:20231231T034335Z
LAST-MODIFIED:20240104T225032Z
UID:10000995-1845226800-1845234000@saltspringzencircle.org
SUMMARY:Evening Zazen
DESCRIPTION:In-Person Evening Zazen with Zoom option at All Saints by-the-Sea Anglican Church\, Upper Hall\, 110 Park Drive\, Ganges 
URL:https://saltspringzencircle.org/event/evening-zazen-69/2028-06-21/
CATEGORIES:Evening Zazen
END:VEVENT
BEGIN:VEVENT
DTSTART;TZID=America/Vancouver:20280623T070000
DTEND;TZID=America/Vancouver:20280623T074500
DTSTAMP:20260425T084515
CREATED:20250103T155802Z
LAST-MODIFIED:20250103T183152Z
UID:10001792-1845356400-1845359100@saltspringzencircle.org
SUMMARY:Morning Zazen
DESCRIPTION:Please be seated by 7am
URL:https://saltspringzencircle.org/event/morning-zazen-150/2028-06-23/
CATEGORIES:Morning Zazen
END:VEVENT
BEGIN:VEVENT
DTSTART;TZID=America/Vancouver:20280626T070000
DTEND;TZID=America/Vancouver:20280626T074500
DTSTAMP:20260425T084515
CREATED:20250103T155503Z
LAST-MODIFIED:20250103T155503Z
UID:10001529-1845615600-1845618300@saltspringzencircle.org
SUMMARY:Morning Zazen
DESCRIPTION:
URL:https://saltspringzencircle.org/event/morning-zazen-149/2028-06-26/
CATEGORIES:Morning Zazen
END:VEVENT
BEGIN:VEVENT
DTSTART;TZID=America/Vancouver:20280628T190000
DTEND;TZID=America/Vancouver:20280628T210000
DTSTAMP:20260425T084515
CREATED:20231231T034335Z
LAST-MODIFIED:20240104T225032Z
UID:10000996-1845831600-1845838800@saltspringzencircle.org
SUMMARY:Evening Zazen
DESCRIPTION:In-Person Evening Zazen with Zoom option at All Saints by-the-Sea Anglican Church\, Upper Hall\, 110 Park Drive\, Ganges 
URL:https://saltspringzencircle.org/event/evening-zazen-69/2028-06-28/
CATEGORIES:Evening Zazen
END:VEVENT
BEGIN:VEVENT
DTSTART;TZID=America/Vancouver:20280630T070000
DTEND;TZID=America/Vancouver:20280630T074500
DTSTAMP:20260425T084515
CREATED:20250103T155802Z
LAST-MODIFIED:20250103T183152Z
UID:10001793-1845961200-1845963900@saltspringzencircle.org
SUMMARY:Morning Zazen
DESCRIPTION:Please be seated by 7am
URL:https://saltspringzencircle.org/event/morning-zazen-150/2028-06-30/
CATEGORIES:Morning Zazen
END:VEVENT
BEGIN:VEVENT
DTSTART;TZID=America/Vancouver:20280703T070000
DTEND;TZID=America/Vancouver:20280703T074500
DTSTAMP:20260425T084515
CREATED:20250103T155503Z
LAST-MODIFIED:20250103T155503Z
UID:10001530-1846220400-1846223100@saltspringzencircle.org
SUMMARY:Morning Zazen
DESCRIPTION:
URL:https://saltspringzencircle.org/event/morning-zazen-149/2028-07-03/
CATEGORIES:Morning Zazen
END:VEVENT
BEGIN:VEVENT
DTSTART;TZID=America/Vancouver:20280705T190000
DTEND;TZID=America/Vancouver:20280705T210000
DTSTAMP:20260425T084515
CREATED:20231231T034335Z
LAST-MODIFIED:20240104T225032Z
UID:10000997-1846436400-1846443600@saltspringzencircle.org
SUMMARY:Evening Zazen
DESCRIPTION:In-Person Evening Zazen with Zoom option at All Saints by-the-Sea Anglican Church\, Upper Hall\, 110 Park Drive\, Ganges 
URL:https://saltspringzencircle.org/event/evening-zazen-69/2028-07-05/
CATEGORIES:Evening Zazen
END:VEVENT
BEGIN:VEVENT
DTSTART;TZID=America/Vancouver:20280707T070000
DTEND;TZID=America/Vancouver:20280707T074500
DTSTAMP:20260425T084515
CREATED:20250103T155802Z
LAST-MODIFIED:20250103T183152Z
UID:10001794-1846566000-1846568700@saltspringzencircle.org
SUMMARY:Morning Zazen
DESCRIPTION:Please be seated by 7am
URL:https://saltspringzencircle.org/event/morning-zazen-150/2028-07-07/
CATEGORIES:Morning Zazen
END:VEVENT
BEGIN:VEVENT
DTSTART;TZID=America/Vancouver:20280710T070000
DTEND;TZID=America/Vancouver:20280710T074500
DTSTAMP:20260425T084515
CREATED:20250103T155503Z
LAST-MODIFIED:20250103T155503Z
UID:10001531-1846825200-1846827900@saltspringzencircle.org
SUMMARY:Morning Zazen
DESCRIPTION:
URL:https://saltspringzencircle.org/event/morning-zazen-149/2028-07-10/
CATEGORIES:Morning Zazen
END:VEVENT
BEGIN:VEVENT
DTSTART;TZID=America/Vancouver:20280712T190000
DTEND;TZID=America/Vancouver:20280712T210000
DTSTAMP:20260425T084515
CREATED:20231231T034335Z
LAST-MODIFIED:20240104T225032Z
UID:10000998-1847041200-1847048400@saltspringzencircle.org
SUMMARY:Evening Zazen
DESCRIPTION:In-Person Evening Zazen with Zoom option at All Saints by-the-Sea Anglican Church\, Upper Hall\, 110 Park Drive\, Ganges 
URL:https://saltspringzencircle.org/event/evening-zazen-69/2028-07-12/
CATEGORIES:Evening Zazen
END:VEVENT
BEGIN:VEVENT
DTSTART;TZID=America/Vancouver:20280714T070000
DTEND;TZID=America/Vancouver:20280714T074500
DTSTAMP:20260425T084515
CREATED:20250103T155802Z
LAST-MODIFIED:20250103T183152Z
UID:10001795-1847170800-1847173500@saltspringzencircle.org
SUMMARY:Morning Zazen
DESCRIPTION:Please be seated by 7am
URL:https://saltspringzencircle.org/event/morning-zazen-150/2028-07-14/
CATEGORIES:Morning Zazen
END:VEVENT
BEGIN:VEVENT
DTSTART;TZID=America/Vancouver:20280717T070000
DTEND;TZID=America/Vancouver:20280717T074500
DTSTAMP:20260425T084515
CREATED:20250103T155503Z
LAST-MODIFIED:20250103T155503Z
UID:10001532-1847430000-1847432700@saltspringzencircle.org
SUMMARY:Morning Zazen
DESCRIPTION:
URL:https://saltspringzencircle.org/event/morning-zazen-149/2028-07-17/
CATEGORIES:Morning Zazen
END:VEVENT
BEGIN:VEVENT
DTSTART;TZID=America/Vancouver:20280719T190000
DTEND;TZID=America/Vancouver:20280719T210000
DTSTAMP:20260425T084515
CREATED:20231231T034335Z
LAST-MODIFIED:20240104T225032Z
UID:10000999-1847646000-1847653200@saltspringzencircle.org
SUMMARY:Evening Zazen
DESCRIPTION:In-Person Evening Zazen with Zoom option at All Saints by-the-Sea Anglican Church\, Upper Hall\, 110 Park Drive\, Ganges 
URL:https://saltspringzencircle.org/event/evening-zazen-69/2028-07-19/
CATEGORIES:Evening Zazen
END:VEVENT
END:VCALENDAR