BEGIN:VCALENDAR
VERSION:2.0
PRODID:-// - ECPv6.15.20//NONSGML v1.0//EN
CALSCALE:GREGORIAN
METHOD:PUBLISH
X-ORIGINAL-URL:https://saltspringzencircle.org
X-WR-CALDESC:Events for 
REFRESH-INTERVAL;VALUE=DURATION:PT1H
X-Robots-Tag:noindex
X-PUBLISHED-TTL:PT1H
BEGIN:VTIMEZONE
TZID:America/Vancouver
BEGIN:DAYLIGHT
TZOFFSETFROM:-0800
TZOFFSETTO:-0700
TZNAME:PDT
DTSTART:20230312T100000
END:DAYLIGHT
BEGIN:STANDARD
TZOFFSETFROM:-0700
TZOFFSETTO:-0800
TZNAME:PST
DTSTART:20231105T090000
END:STANDARD
BEGIN:DAYLIGHT
TZOFFSETFROM:-0800
TZOFFSETTO:-0700
TZNAME:PDT
DTSTART:20240310T100000
END:DAYLIGHT
BEGIN:STANDARD
TZOFFSETFROM:-0700
TZOFFSETTO:-0800
TZNAME:PST
DTSTART:20241103T090000
END:STANDARD
BEGIN:DAYLIGHT
TZOFFSETFROM:-0800
TZOFFSETTO:-0700
TZNAME:PDT
DTSTART:20250309T100000
END:DAYLIGHT
BEGIN:STANDARD
TZOFFSETFROM:-0700
TZOFFSETTO:-0800
TZNAME:PST
DTSTART:20251102T090000
END:STANDARD
END:VTIMEZONE
BEGIN:VEVENT
DTSTART;TZID=America/Vancouver:20240729T071500
DTEND;TZID=America/Vancouver:20240729T074500
DTSTAMP:20260425T080618
CREATED:20231231T205735Z
LAST-MODIFIED:20231231T205735Z
UID:10000641-1722237300-1722239100@saltspringzencircle.org
SUMMARY:Morning Zazen
DESCRIPTION:7:05am – Zoom room opens\n7:10am – to be seated on cushions\n7:15am – Robe Chant to be followed by bell (ringing 3 times)\n7:45am – End of sitting
URL:https://saltspringzencircle.org/event/morning-zazen-145/2024-07-29/
CATEGORIES:Morning Zazen
END:VEVENT
BEGIN:VEVENT
DTSTART;TZID=America/Vancouver:20240728T070000
DTEND;TZID=America/Vancouver:20240728T100000
DTSTAMP:20260425T080618
CREATED:20240210T171015Z
LAST-MODIFIED:20240707T145033Z
UID:10001309-1722150000-1722160800@saltspringzencircle.org
SUMMARY:Sit'n Study
DESCRIPTION:Sit’n Study: Sittings are optional. Sitting: 7am-7:45am – Kinhin: 7:45am-8am – Sitting: 8am-8:45am – Break\nLeader: Simon Rompre –“Practicing Wholeness” from The Truth of This Life by Katherine Thanas (Shambhala Publications Inc. 2018) 
URL:https://saltspringzencircle.org/event/sitn-study-94/
CATEGORIES:Sit 'n' Study
END:VEVENT
BEGIN:VEVENT
DTSTART;TZID=America/Vancouver:20240726T070500
DTEND;TZID=America/Vancouver:20240726T074500
DTSTAMP:20260425T080618
CREATED:20231231T215406Z
LAST-MODIFIED:20231231T215720Z
UID:10000742-1721977500-1721979900@saltspringzencircle.org
SUMMARY:Morning Zazen
DESCRIPTION:7:05am – Zoom room opens\n7:10am – to be seated on cushions\n7:15am – Robe Chant to be followed by bell (ringing 3 times)\n7:45am – End of sitting
URL:https://saltspringzencircle.org/event/morning-zazen-146/2024-07-26/
END:VEVENT
BEGIN:VEVENT
DTSTART;TZID=America/Vancouver:20240724T190000
DTEND;TZID=America/Vancouver:20240724T210000
DTSTAMP:20260425T080618
CREATED:20231231T034335Z
LAST-MODIFIED:20240104T225032Z
UID:10000791-1721847600-1721854800@saltspringzencircle.org
SUMMARY:Evening Zazen
DESCRIPTION:In-Person Evening Zazen with Zoom option at All Saints by-the-Sea Anglican Church\, Upper Hall\, 110 Park Drive\, Ganges 
URL:https://saltspringzencircle.org/event/evening-zazen-69/2024-07-24/
CATEGORIES:Evening Zazen
END:VEVENT
BEGIN:VEVENT
DTSTART;TZID=America/Vancouver:20240722T071500
DTEND;TZID=America/Vancouver:20240722T074500
DTSTAMP:20260425T080618
CREATED:20231231T205735Z
LAST-MODIFIED:20231231T205735Z
UID:10000640-1721632500-1721634300@saltspringzencircle.org
SUMMARY:Morning Zazen
DESCRIPTION:7:05am – Zoom room opens\n7:10am – to be seated on cushions\n7:15am – Robe Chant to be followed by bell (ringing 3 times)\n7:45am – End of sitting
URL:https://saltspringzencircle.org/event/morning-zazen-145/2024-07-22/
CATEGORIES:Morning Zazen
END:VEVENT
BEGIN:VEVENT
DTSTART;TZID=America/Vancouver:20240721T070000
DTEND;TZID=America/Vancouver:20240721T100000
DTSTAMP:20260425T080618
CREATED:20240210T170710Z
LAST-MODIFIED:20240418T175037Z
UID:10001308-1721545200-1721556000@saltspringzencircle.org
SUMMARY:Sit'n Study
DESCRIPTION:Sit’n Study: Sittings are optional. Sitting: 7am-7:45am – Kinhin: 7:45am-8am – Sitting: 8am-8:45am – Break\nLeader: Koya Clare Mathias – “Why We Are At War” from The Truth of This Life by Katherine Thanas (Shambhala Publications Inc. 2018) 
URL:https://saltspringzencircle.org/event/sitn-study-93/
CATEGORIES:Sit 'n' Study
END:VEVENT
BEGIN:VEVENT
DTSTART;TZID=America/Vancouver:20240719T070500
DTEND;TZID=America/Vancouver:20240719T074500
DTSTAMP:20260425T080618
CREATED:20231231T215406Z
LAST-MODIFIED:20231231T215720Z
UID:10000741-1721372700-1721375100@saltspringzencircle.org
SUMMARY:Morning Zazen
DESCRIPTION:7:05am – Zoom room opens\n7:10am – to be seated on cushions\n7:15am – Robe Chant to be followed by bell (ringing 3 times)\n7:45am – End of sitting
URL:https://saltspringzencircle.org/event/morning-zazen-146/2024-07-19/
END:VEVENT
BEGIN:VEVENT
DTSTART;TZID=America/Vancouver:20240717T190000
DTEND;TZID=America/Vancouver:20240717T210000
DTSTAMP:20260425T080618
CREATED:20231231T034335Z
LAST-MODIFIED:20240104T225032Z
UID:10000790-1721242800-1721250000@saltspringzencircle.org
SUMMARY:Evening Zazen
DESCRIPTION:In-Person Evening Zazen with Zoom option at All Saints by-the-Sea Anglican Church\, Upper Hall\, 110 Park Drive\, Ganges 
URL:https://saltspringzencircle.org/event/evening-zazen-69/2024-07-17/
CATEGORIES:Evening Zazen
END:VEVENT
BEGIN:VEVENT
DTSTART;TZID=America/Vancouver:20240715T071500
DTEND;TZID=America/Vancouver:20240715T074500
DTSTAMP:20260425T080618
CREATED:20231231T205735Z
LAST-MODIFIED:20231231T205735Z
UID:10000639-1721027700-1721029500@saltspringzencircle.org
SUMMARY:Morning Zazen
DESCRIPTION:7:05am – Zoom room opens\n7:10am – to be seated on cushions\n7:15am – Robe Chant to be followed by bell (ringing 3 times)\n7:45am – End of sitting
URL:https://saltspringzencircle.org/event/morning-zazen-145/2024-07-15/
CATEGORIES:Morning Zazen
END:VEVENT
BEGIN:VEVENT
DTSTART;TZID=America/Vancouver:20240714T070000
DTEND;TZID=America/Vancouver:20240714T100000
DTSTAMP:20260425T080618
CREATED:20240210T170401Z
LAST-MODIFIED:20240418T175820Z
UID:10001307-1720940400-1720951200@saltspringzencircle.org
SUMMARY:Sit'n Study
DESCRIPTION:Sit’n Study: Sittings are optional. Sitting: 7am-7:45am – Kinhin: 7:45am-8am – Sitting: 8am-8:45am – Break\nLeader: Zona McKenzie – “Just This Is It” from The Truth of This Life by Katherine Thanas (Shambhala Publications Inc. 2018) 
URL:https://saltspringzencircle.org/event/sitn-study-92/
CATEGORIES:Sit 'n' Study
END:VEVENT
BEGIN:VEVENT
DTSTART;TZID=America/Vancouver:20240712T070500
DTEND;TZID=America/Vancouver:20240712T074500
DTSTAMP:20260425T080618
CREATED:20231231T215406Z
LAST-MODIFIED:20231231T215720Z
UID:10000740-1720767900-1720770300@saltspringzencircle.org
SUMMARY:Morning Zazen
DESCRIPTION:7:05am – Zoom room opens\n7:10am – to be seated on cushions\n7:15am – Robe Chant to be followed by bell (ringing 3 times)\n7:45am – End of sitting
URL:https://saltspringzencircle.org/event/morning-zazen-146/2024-07-12/
END:VEVENT
BEGIN:VEVENT
DTSTART;TZID=America/Vancouver:20240710T190000
DTEND;TZID=America/Vancouver:20240710T210000
DTSTAMP:20260425T080618
CREATED:20231231T034335Z
LAST-MODIFIED:20240104T225032Z
UID:10000789-1720638000-1720645200@saltspringzencircle.org
SUMMARY:Evening Zazen
DESCRIPTION:In-Person Evening Zazen with Zoom option at All Saints by-the-Sea Anglican Church\, Upper Hall\, 110 Park Drive\, Ganges 
URL:https://saltspringzencircle.org/event/evening-zazen-69/2024-07-10/
CATEGORIES:Evening Zazen
END:VEVENT
BEGIN:VEVENT
DTSTART;TZID=America/Vancouver:20240708T071500
DTEND;TZID=America/Vancouver:20240708T074500
DTSTAMP:20260425T080618
CREATED:20231231T205735Z
LAST-MODIFIED:20231231T205735Z
UID:10000638-1720422900-1720424700@saltspringzencircle.org
SUMMARY:Morning Zazen
DESCRIPTION:7:05am – Zoom room opens\n7:10am – to be seated on cushions\n7:15am – Robe Chant to be followed by bell (ringing 3 times)\n7:45am – End of sitting
URL:https://saltspringzencircle.org/event/morning-zazen-145/2024-07-08/
CATEGORIES:Morning Zazen
END:VEVENT
BEGIN:VEVENT
DTSTART;TZID=America/Vancouver:20240707T070000
DTEND;TZID=America/Vancouver:20240707T100000
DTSTAMP:20260425T080618
CREATED:20240210T170041Z
LAST-MODIFIED:20240707T144939Z
UID:10001306-1720335600-1720346400@saltspringzencircle.org
SUMMARY:Sit'n Study
DESCRIPTION:Sit’n Study: Sittings are optional. Sitting: 7am-7:45am – Kinhin: 7:45am-8am – Sitting: 8am-8:45am – Break\nLeader: Maggie Tuck – “One Thing Means One Thing” from The Truth of This Life by Katherine Thanas (Shambhala Publications Inc. 2018) 
URL:https://saltspringzencircle.org/event/sitn-study-91/
CATEGORIES:Sit 'n' Study
END:VEVENT
BEGIN:VEVENT
DTSTART;TZID=America/Vancouver:20240705T070500
DTEND;TZID=America/Vancouver:20240705T074500
DTSTAMP:20260425T080618
CREATED:20231231T215406Z
LAST-MODIFIED:20231231T215720Z
UID:10000739-1720163100-1720165500@saltspringzencircle.org
SUMMARY:Morning Zazen
DESCRIPTION:7:05am – Zoom room opens\n7:10am – to be seated on cushions\n7:15am – Robe Chant to be followed by bell (ringing 3 times)\n7:45am – End of sitting
URL:https://saltspringzencircle.org/event/morning-zazen-146/2024-07-05/
END:VEVENT
BEGIN:VEVENT
DTSTART;TZID=America/Vancouver:20240703T190000
DTEND;TZID=America/Vancouver:20240703T210000
DTSTAMP:20260425T080618
CREATED:20231231T034335Z
LAST-MODIFIED:20240104T225032Z
UID:10000788-1720033200-1720040400@saltspringzencircle.org
SUMMARY:Evening Zazen
DESCRIPTION:In-Person Evening Zazen with Zoom option at All Saints by-the-Sea Anglican Church\, Upper Hall\, 110 Park Drive\, Ganges 
URL:https://saltspringzencircle.org/event/evening-zazen-69/2024-07-03/
CATEGORIES:Evening Zazen
END:VEVENT
BEGIN:VEVENT
DTSTART;TZID=America/Vancouver:20240701T071500
DTEND;TZID=America/Vancouver:20240701T074500
DTSTAMP:20260425T080618
CREATED:20231231T205735Z
LAST-MODIFIED:20231231T205735Z
UID:10000637-1719818100-1719819900@saltspringzencircle.org
SUMMARY:Morning Zazen
DESCRIPTION:7:05am – Zoom room opens\n7:10am – to be seated on cushions\n7:15am – Robe Chant to be followed by bell (ringing 3 times)\n7:45am – End of sitting
URL:https://saltspringzencircle.org/event/morning-zazen-145/2024-07-01/
CATEGORIES:Morning Zazen
END:VEVENT
BEGIN:VEVENT
DTSTART;TZID=America/Vancouver:20240630T070000
DTEND;TZID=America/Vancouver:20240630T100000
DTSTAMP:20260425T080618
CREATED:20240210T165356Z
LAST-MODIFIED:20240311T145949Z
UID:10001305-1719730800-1719741600@saltspringzencircle.org
SUMMARY:Sit'n Study
DESCRIPTION:Sit’n Study: Sittings are optional. Sitting: 7am-7:45am – Kinhin: 7:45am-8am – Sitting: 8am-8:45am – Break\nLeader: Edie Brown –“True Intimacy” from The Truth of This Life by Katherine Thanas (Shambhala Publications Inc. 2018)
URL:https://saltspringzencircle.org/event/sitn-study-90/
CATEGORIES:Sit 'n' Study
END:VEVENT
BEGIN:VEVENT
DTSTART;TZID=America/Vancouver:20240628T070500
DTEND;TZID=America/Vancouver:20240628T074500
DTSTAMP:20260425T080618
CREATED:20231231T215406Z
LAST-MODIFIED:20231231T215720Z
UID:10000738-1719558300-1719560700@saltspringzencircle.org
SUMMARY:Morning Zazen
DESCRIPTION:7:05am – Zoom room opens\n7:10am – to be seated on cushions\n7:15am – Robe Chant to be followed by bell (ringing 3 times)\n7:45am – End of sitting
URL:https://saltspringzencircle.org/event/morning-zazen-146/2024-06-28/
END:VEVENT
BEGIN:VEVENT
DTSTART;TZID=America/Vancouver:20240626T190000
DTEND;TZID=America/Vancouver:20240626T210000
DTSTAMP:20260425T080618
CREATED:20231231T034335Z
LAST-MODIFIED:20240104T225032Z
UID:10000787-1719428400-1719435600@saltspringzencircle.org
SUMMARY:Evening Zazen
DESCRIPTION:In-Person Evening Zazen with Zoom option at All Saints by-the-Sea Anglican Church\, Upper Hall\, 110 Park Drive\, Ganges 
URL:https://saltspringzencircle.org/event/evening-zazen-69/2024-06-26/
CATEGORIES:Evening Zazen
END:VEVENT
BEGIN:VEVENT
DTSTART;TZID=America/Vancouver:20240624T071500
DTEND;TZID=America/Vancouver:20240624T074500
DTSTAMP:20260425T080618
CREATED:20231231T205735Z
LAST-MODIFIED:20231231T205735Z
UID:10000636-1719213300-1719215100@saltspringzencircle.org
SUMMARY:Morning Zazen
DESCRIPTION:7:05am – Zoom room opens\n7:10am – to be seated on cushions\n7:15am – Robe Chant to be followed by bell (ringing 3 times)\n7:45am – End of sitting
URL:https://saltspringzencircle.org/event/morning-zazen-145/2024-06-24/
CATEGORIES:Morning Zazen
END:VEVENT
BEGIN:VEVENT
DTSTART;TZID=America/Vancouver:20240623T070000
DTEND;TZID=America/Vancouver:20240623T100000
DTSTAMP:20260425T080618
CREATED:20240210T165000Z
LAST-MODIFIED:20240418T174902Z
UID:10001304-1719126000-1719136800@saltspringzencircle.org
SUMMARY:Sit'n Study
DESCRIPTION:Sit’n Study: Sittings are optional. Sitting: 7am-7:45am – Kinhin: 7:45am-8am – Sitting: 8am-8:45am – Break\nLeader: Michelle Reed – “Not Moving Is the Way” from The Truth of This Life by Katherine Thanas (Shambhala Publications Inc. 2018) \n\n\n\n\n 
URL:https://saltspringzencircle.org/event/sitn-study-89/
CATEGORIES:Sit 'n' Study
END:VEVENT
BEGIN:VEVENT
DTSTART;TZID=America/Vancouver:20240621T070500
DTEND;TZID=America/Vancouver:20240621T074500
DTSTAMP:20260425T080618
CREATED:20231231T215406Z
LAST-MODIFIED:20231231T215720Z
UID:10000737-1718953500-1718955900@saltspringzencircle.org
SUMMARY:Morning Zazen
DESCRIPTION:7:05am – Zoom room opens\n7:10am – to be seated on cushions\n7:15am – Robe Chant to be followed by bell (ringing 3 times)\n7:45am – End of sitting
URL:https://saltspringzencircle.org/event/morning-zazen-146/2024-06-21/
END:VEVENT
BEGIN:VEVENT
DTSTART;TZID=America/Vancouver:20240619T190000
DTEND;TZID=America/Vancouver:20240619T210000
DTSTAMP:20260425T080618
CREATED:20231231T034335Z
LAST-MODIFIED:20240104T225032Z
UID:10000786-1718823600-1718830800@saltspringzencircle.org
SUMMARY:Evening Zazen
DESCRIPTION:In-Person Evening Zazen with Zoom option at All Saints by-the-Sea Anglican Church\, Upper Hall\, 110 Park Drive\, Ganges 
URL:https://saltspringzencircle.org/event/evening-zazen-69/2024-06-19/
CATEGORIES:Evening Zazen
END:VEVENT
BEGIN:VEVENT
DTSTART;TZID=America/Vancouver:20240617T071500
DTEND;TZID=America/Vancouver:20240617T074500
DTSTAMP:20260425T080618
CREATED:20231231T205735Z
LAST-MODIFIED:20231231T205735Z
UID:10000635-1718608500-1718610300@saltspringzencircle.org
SUMMARY:Morning Zazen
DESCRIPTION:7:05am – Zoom room opens\n7:10am – to be seated on cushions\n7:15am – Robe Chant to be followed by bell (ringing 3 times)\n7:45am – End of sitting
URL:https://saltspringzencircle.org/event/morning-zazen-145/2024-06-17/
CATEGORIES:Morning Zazen
END:VEVENT
BEGIN:VEVENT
DTSTART;TZID=America/Vancouver:20240616T070000
DTEND;TZID=America/Vancouver:20240616T100000
DTSTAMP:20260425T080618
CREATED:20240210T164653Z
LAST-MODIFIED:20240609T185338Z
UID:10001303-1718521200-1718532000@saltspringzencircle.org
SUMMARY:Sit'n Study
DESCRIPTION:Sit’n Study: Sittings are optional. Sitting: 7am-7:45am – Kinhin: 7:45am-8am – Sitting: 8am-8:45am – Break\nLeader: Pieta VanDyke – “Loving the World As It Is” from The Truth of This Life by Katherine Thanas (Shambhala Publications Inc. 2018) \n\n\n\n\n 
URL:https://saltspringzencircle.org/event/sitn-study-88/
CATEGORIES:Sit 'n' Study
END:VEVENT
BEGIN:VEVENT
DTSTART;TZID=America/Vancouver:20240614T070500
DTEND;TZID=America/Vancouver:20240614T074500
DTSTAMP:20260425T080618
CREATED:20231231T215406Z
LAST-MODIFIED:20231231T215720Z
UID:10000736-1718348700-1718351100@saltspringzencircle.org
SUMMARY:Morning Zazen
DESCRIPTION:7:05am – Zoom room opens\n7:10am – to be seated on cushions\n7:15am – Robe Chant to be followed by bell (ringing 3 times)\n7:45am – End of sitting
URL:https://saltspringzencircle.org/event/morning-zazen-146/2024-06-14/
END:VEVENT
BEGIN:VEVENT
DTSTART;TZID=America/Vancouver:20240612T190000
DTEND;TZID=America/Vancouver:20240612T210000
DTSTAMP:20260425T080618
CREATED:20231231T034335Z
LAST-MODIFIED:20240104T225032Z
UID:10000785-1718218800-1718226000@saltspringzencircle.org
SUMMARY:Evening Zazen
DESCRIPTION:In-Person Evening Zazen with Zoom option at All Saints by-the-Sea Anglican Church\, Upper Hall\, 110 Park Drive\, Ganges 
URL:https://saltspringzencircle.org/event/evening-zazen-69/2024-06-12/
CATEGORIES:Evening Zazen
END:VEVENT
BEGIN:VEVENT
DTSTART;TZID=America/Vancouver:20240610T071500
DTEND;TZID=America/Vancouver:20240610T074500
DTSTAMP:20260425T080618
CREATED:20231231T205735Z
LAST-MODIFIED:20231231T205735Z
UID:10000634-1718003700-1718005500@saltspringzencircle.org
SUMMARY:Morning Zazen
DESCRIPTION:7:05am – Zoom room opens\n7:10am – to be seated on cushions\n7:15am – Robe Chant to be followed by bell (ringing 3 times)\n7:45am – End of sitting
URL:https://saltspringzencircle.org/event/morning-zazen-145/2024-06-10/
CATEGORIES:Morning Zazen
END:VEVENT
BEGIN:VEVENT
DTSTART;TZID=America/Vancouver:20240609T070000
DTEND;TZID=America/Vancouver:20240609T100000
DTSTAMP:20260425T080618
CREATED:20240210T164256Z
LAST-MODIFIED:20240418T174658Z
UID:10001302-1717916400-1717927200@saltspringzencircle.org
SUMMARY:Sit'n Study
DESCRIPTION:Sit’n Study: Sittings are optional. Sitting: 7am-7:45am – Kinhin: 7:45am-8am – Sitting: 8am-8:45am – Break\nLeader: Sheila Dobie – “Seeing Impermanence Itself” from The Truth of This Life by Katherine Thanas (Shambhala Publications Inc. 2018) \n\n\n\n\n 
URL:https://saltspringzencircle.org/event/sitn-study-87/
CATEGORIES:Sit 'n' Study
END:VEVENT
END:VCALENDAR