BEGIN:VCALENDAR
VERSION:2.0
PRODID:-// - ECPv6.15.20//NONSGML v1.0//EN
CALSCALE:GREGORIAN
METHOD:PUBLISH
X-ORIGINAL-URL:https://saltspringzencircle.org
X-WR-CALDESC:Events for 
REFRESH-INTERVAL;VALUE=DURATION:PT1H
X-Robots-Tag:noindex
X-PUBLISHED-TTL:PT1H
BEGIN:VTIMEZONE
TZID:America/Vancouver
BEGIN:DAYLIGHT
TZOFFSETFROM:-0800
TZOFFSETTO:-0700
TZNAME:PDT
DTSTART:20260308T100000
END:DAYLIGHT
BEGIN:STANDARD
TZOFFSETFROM:-0700
TZOFFSETTO:-0800
TZNAME:PST
DTSTART:20261101T090000
END:STANDARD
BEGIN:DAYLIGHT
TZOFFSETFROM:-0800
TZOFFSETTO:-0700
TZNAME:PDT
DTSTART:20270314T100000
END:DAYLIGHT
BEGIN:STANDARD
TZOFFSETFROM:-0700
TZOFFSETTO:-0800
TZNAME:PST
DTSTART:20271107T090000
END:STANDARD
BEGIN:DAYLIGHT
TZOFFSETFROM:-0800
TZOFFSETTO:-0700
TZNAME:PDT
DTSTART:20280312T100000
END:DAYLIGHT
BEGIN:STANDARD
TZOFFSETFROM:-0700
TZOFFSETTO:-0800
TZNAME:PST
DTSTART:20281105T090000
END:STANDARD
END:VTIMEZONE
BEGIN:VEVENT
DTSTART;TZID=America/Vancouver:20271001T070000
DTEND;TZID=America/Vancouver:20271001T074500
DTSTAMP:20260425T044444
CREATED:20250103T155802Z
LAST-MODIFIED:20250103T183152Z
UID:10001754-1822374000-1822376700@saltspringzencircle.org
SUMMARY:Morning Zazen
DESCRIPTION:Please be seated by 7am
URL:https://saltspringzencircle.org/event/morning-zazen-150/2027-10-01/
CATEGORIES:Morning Zazen
END:VEVENT
BEGIN:VEVENT
DTSTART;TZID=America/Vancouver:20271004T070000
DTEND;TZID=America/Vancouver:20271004T074500
DTSTAMP:20260425T044444
CREATED:20250103T155503Z
LAST-MODIFIED:20250103T155503Z
UID:10001491-1822633200-1822635900@saltspringzencircle.org
SUMMARY:Morning Zazen
DESCRIPTION:
URL:https://saltspringzencircle.org/event/morning-zazen-149/2027-10-04/
CATEGORIES:Morning Zazen
END:VEVENT
BEGIN:VEVENT
DTSTART;TZID=America/Vancouver:20271006T190000
DTEND;TZID=America/Vancouver:20271006T210000
DTSTAMP:20260425T044444
CREATED:20231231T034335Z
LAST-MODIFIED:20240104T225032Z
UID:10000958-1822849200-1822856400@saltspringzencircle.org
SUMMARY:Evening Zazen
DESCRIPTION:In-Person Evening Zazen with Zoom option at All Saints by-the-Sea Anglican Church\, Upper Hall\, 110 Park Drive\, Ganges 
URL:https://saltspringzencircle.org/event/evening-zazen-69/2027-10-06/
CATEGORIES:Evening Zazen
END:VEVENT
BEGIN:VEVENT
DTSTART;TZID=America/Vancouver:20271008T070000
DTEND;TZID=America/Vancouver:20271008T074500
DTSTAMP:20260425T044444
CREATED:20250103T155802Z
LAST-MODIFIED:20250103T183152Z
UID:10001755-1822978800-1822981500@saltspringzencircle.org
SUMMARY:Morning Zazen
DESCRIPTION:Please be seated by 7am
URL:https://saltspringzencircle.org/event/morning-zazen-150/2027-10-08/
CATEGORIES:Morning Zazen
END:VEVENT
BEGIN:VEVENT
DTSTART;TZID=America/Vancouver:20271011T070000
DTEND;TZID=America/Vancouver:20271011T074500
DTSTAMP:20260425T044444
CREATED:20250103T155503Z
LAST-MODIFIED:20250103T155503Z
UID:10001492-1823238000-1823240700@saltspringzencircle.org
SUMMARY:Morning Zazen
DESCRIPTION:
URL:https://saltspringzencircle.org/event/morning-zazen-149/2027-10-11/
CATEGORIES:Morning Zazen
END:VEVENT
BEGIN:VEVENT
DTSTART;TZID=America/Vancouver:20271013T190000
DTEND;TZID=America/Vancouver:20271013T210000
DTSTAMP:20260425T044444
CREATED:20231231T034335Z
LAST-MODIFIED:20240104T225032Z
UID:10000959-1823454000-1823461200@saltspringzencircle.org
SUMMARY:Evening Zazen
DESCRIPTION:In-Person Evening Zazen with Zoom option at All Saints by-the-Sea Anglican Church\, Upper Hall\, 110 Park Drive\, Ganges 
URL:https://saltspringzencircle.org/event/evening-zazen-69/2027-10-13/
CATEGORIES:Evening Zazen
END:VEVENT
BEGIN:VEVENT
DTSTART;TZID=America/Vancouver:20271015T070000
DTEND;TZID=America/Vancouver:20271015T074500
DTSTAMP:20260425T044444
CREATED:20250103T155802Z
LAST-MODIFIED:20250103T183152Z
UID:10001756-1823583600-1823586300@saltspringzencircle.org
SUMMARY:Morning Zazen
DESCRIPTION:Please be seated by 7am
URL:https://saltspringzencircle.org/event/morning-zazen-150/2027-10-15/
CATEGORIES:Morning Zazen
END:VEVENT
BEGIN:VEVENT
DTSTART;TZID=America/Vancouver:20271018T070000
DTEND;TZID=America/Vancouver:20271018T074500
DTSTAMP:20260425T044444
CREATED:20250103T155503Z
LAST-MODIFIED:20250103T155503Z
UID:10001493-1823842800-1823845500@saltspringzencircle.org
SUMMARY:Morning Zazen
DESCRIPTION:
URL:https://saltspringzencircle.org/event/morning-zazen-149/2027-10-18/
CATEGORIES:Morning Zazen
END:VEVENT
BEGIN:VEVENT
DTSTART;TZID=America/Vancouver:20271020T190000
DTEND;TZID=America/Vancouver:20271020T210000
DTSTAMP:20260425T044444
CREATED:20231231T034335Z
LAST-MODIFIED:20240104T225032Z
UID:10000960-1824058800-1824066000@saltspringzencircle.org
SUMMARY:Evening Zazen
DESCRIPTION:In-Person Evening Zazen with Zoom option at All Saints by-the-Sea Anglican Church\, Upper Hall\, 110 Park Drive\, Ganges 
URL:https://saltspringzencircle.org/event/evening-zazen-69/2027-10-20/
CATEGORIES:Evening Zazen
END:VEVENT
BEGIN:VEVENT
DTSTART;TZID=America/Vancouver:20271022T070000
DTEND;TZID=America/Vancouver:20271022T074500
DTSTAMP:20260425T044444
CREATED:20250103T155802Z
LAST-MODIFIED:20250103T183152Z
UID:10001757-1824188400-1824191100@saltspringzencircle.org
SUMMARY:Morning Zazen
DESCRIPTION:Please be seated by 7am
URL:https://saltspringzencircle.org/event/morning-zazen-150/2027-10-22/
CATEGORIES:Morning Zazen
END:VEVENT
BEGIN:VEVENT
DTSTART;TZID=America/Vancouver:20271025T070000
DTEND;TZID=America/Vancouver:20271025T074500
DTSTAMP:20260425T044444
CREATED:20250103T155503Z
LAST-MODIFIED:20250103T155503Z
UID:10001494-1824447600-1824450300@saltspringzencircle.org
SUMMARY:Morning Zazen
DESCRIPTION:
URL:https://saltspringzencircle.org/event/morning-zazen-149/2027-10-25/
CATEGORIES:Morning Zazen
END:VEVENT
BEGIN:VEVENT
DTSTART;TZID=America/Vancouver:20271027T190000
DTEND;TZID=America/Vancouver:20271027T210000
DTSTAMP:20260425T044444
CREATED:20231231T034335Z
LAST-MODIFIED:20240104T225032Z
UID:10000961-1824663600-1824670800@saltspringzencircle.org
SUMMARY:Evening Zazen
DESCRIPTION:In-Person Evening Zazen with Zoom option at All Saints by-the-Sea Anglican Church\, Upper Hall\, 110 Park Drive\, Ganges 
URL:https://saltspringzencircle.org/event/evening-zazen-69/2027-10-27/
CATEGORIES:Evening Zazen
END:VEVENT
BEGIN:VEVENT
DTSTART;TZID=America/Vancouver:20271029T070000
DTEND;TZID=America/Vancouver:20271029T074500
DTSTAMP:20260425T044444
CREATED:20250103T155802Z
LAST-MODIFIED:20250103T183152Z
UID:10001758-1824793200-1824795900@saltspringzencircle.org
SUMMARY:Morning Zazen
DESCRIPTION:Please be seated by 7am
URL:https://saltspringzencircle.org/event/morning-zazen-150/2027-10-29/
CATEGORIES:Morning Zazen
END:VEVENT
BEGIN:VEVENT
DTSTART;TZID=America/Vancouver:20271101T070000
DTEND;TZID=America/Vancouver:20271101T074500
DTSTAMP:20260425T044444
CREATED:20250103T155503Z
LAST-MODIFIED:20250103T155503Z
UID:10001495-1825052400-1825055100@saltspringzencircle.org
SUMMARY:Morning Zazen
DESCRIPTION:
URL:https://saltspringzencircle.org/event/morning-zazen-149/2027-11-01/
CATEGORIES:Morning Zazen
END:VEVENT
BEGIN:VEVENT
DTSTART;TZID=America/Vancouver:20271103T190000
DTEND;TZID=America/Vancouver:20271103T210000
DTSTAMP:20260425T044444
CREATED:20231231T034335Z
LAST-MODIFIED:20240104T225032Z
UID:10000962-1825268400-1825275600@saltspringzencircle.org
SUMMARY:Evening Zazen
DESCRIPTION:In-Person Evening Zazen with Zoom option at All Saints by-the-Sea Anglican Church\, Upper Hall\, 110 Park Drive\, Ganges 
URL:https://saltspringzencircle.org/event/evening-zazen-69/2027-11-03/
CATEGORIES:Evening Zazen
END:VEVENT
BEGIN:VEVENT
DTSTART;TZID=America/Vancouver:20271105T070000
DTEND;TZID=America/Vancouver:20271105T074500
DTSTAMP:20260425T044444
CREATED:20250103T155802Z
LAST-MODIFIED:20250103T183152Z
UID:10001759-1825398000-1825400700@saltspringzencircle.org
SUMMARY:Morning Zazen
DESCRIPTION:Please be seated by 7am
URL:https://saltspringzencircle.org/event/morning-zazen-150/2027-11-05/
CATEGORIES:Morning Zazen
END:VEVENT
BEGIN:VEVENT
DTSTART;TZID=America/Vancouver:20271108T070000
DTEND;TZID=America/Vancouver:20271108T074500
DTSTAMP:20260425T044444
CREATED:20250103T155503Z
LAST-MODIFIED:20250103T155503Z
UID:10001496-1825657200-1825659900@saltspringzencircle.org
SUMMARY:Morning Zazen
DESCRIPTION:
URL:https://saltspringzencircle.org/event/morning-zazen-149/2027-11-08/
CATEGORIES:Morning Zazen
END:VEVENT
BEGIN:VEVENT
DTSTART;TZID=America/Vancouver:20271110T190000
DTEND;TZID=America/Vancouver:20271110T210000
DTSTAMP:20260425T044444
CREATED:20231231T034335Z
LAST-MODIFIED:20240104T225032Z
UID:10000963-1825873200-1825880400@saltspringzencircle.org
SUMMARY:Evening Zazen
DESCRIPTION:In-Person Evening Zazen with Zoom option at All Saints by-the-Sea Anglican Church\, Upper Hall\, 110 Park Drive\, Ganges 
URL:https://saltspringzencircle.org/event/evening-zazen-69/2027-11-10/
CATEGORIES:Evening Zazen
END:VEVENT
BEGIN:VEVENT
DTSTART;TZID=America/Vancouver:20271112T070000
DTEND;TZID=America/Vancouver:20271112T074500
DTSTAMP:20260425T044444
CREATED:20250103T155802Z
LAST-MODIFIED:20250103T183152Z
UID:10001760-1826002800-1826005500@saltspringzencircle.org
SUMMARY:Morning Zazen
DESCRIPTION:Please be seated by 7am
URL:https://saltspringzencircle.org/event/morning-zazen-150/2027-11-12/
CATEGORIES:Morning Zazen
END:VEVENT
BEGIN:VEVENT
DTSTART;TZID=America/Vancouver:20271115T070000
DTEND;TZID=America/Vancouver:20271115T074500
DTSTAMP:20260425T044444
CREATED:20250103T155503Z
LAST-MODIFIED:20250103T155503Z
UID:10001497-1826262000-1826264700@saltspringzencircle.org
SUMMARY:Morning Zazen
DESCRIPTION:
URL:https://saltspringzencircle.org/event/morning-zazen-149/2027-11-15/
CATEGORIES:Morning Zazen
END:VEVENT
BEGIN:VEVENT
DTSTART;TZID=America/Vancouver:20271117T190000
DTEND;TZID=America/Vancouver:20271117T210000
DTSTAMP:20260425T044444
CREATED:20231231T034335Z
LAST-MODIFIED:20240104T225032Z
UID:10000964-1826478000-1826485200@saltspringzencircle.org
SUMMARY:Evening Zazen
DESCRIPTION:In-Person Evening Zazen with Zoom option at All Saints by-the-Sea Anglican Church\, Upper Hall\, 110 Park Drive\, Ganges 
URL:https://saltspringzencircle.org/event/evening-zazen-69/2027-11-17/
CATEGORIES:Evening Zazen
END:VEVENT
BEGIN:VEVENT
DTSTART;TZID=America/Vancouver:20271119T070000
DTEND;TZID=America/Vancouver:20271119T074500
DTSTAMP:20260425T044444
CREATED:20250103T155802Z
LAST-MODIFIED:20250103T183152Z
UID:10001761-1826607600-1826610300@saltspringzencircle.org
SUMMARY:Morning Zazen
DESCRIPTION:Please be seated by 7am
URL:https://saltspringzencircle.org/event/morning-zazen-150/2027-11-19/
CATEGORIES:Morning Zazen
END:VEVENT
BEGIN:VEVENT
DTSTART;TZID=America/Vancouver:20271122T070000
DTEND;TZID=America/Vancouver:20271122T074500
DTSTAMP:20260425T044444
CREATED:20250103T155503Z
LAST-MODIFIED:20250103T155503Z
UID:10001498-1826866800-1826869500@saltspringzencircle.org
SUMMARY:Morning Zazen
DESCRIPTION:
URL:https://saltspringzencircle.org/event/morning-zazen-149/2027-11-22/
CATEGORIES:Morning Zazen
END:VEVENT
BEGIN:VEVENT
DTSTART;TZID=America/Vancouver:20271124T190000
DTEND;TZID=America/Vancouver:20271124T210000
DTSTAMP:20260425T044444
CREATED:20231231T034335Z
LAST-MODIFIED:20240104T225032Z
UID:10000965-1827082800-1827090000@saltspringzencircle.org
SUMMARY:Evening Zazen
DESCRIPTION:In-Person Evening Zazen with Zoom option at All Saints by-the-Sea Anglican Church\, Upper Hall\, 110 Park Drive\, Ganges 
URL:https://saltspringzencircle.org/event/evening-zazen-69/2027-11-24/
CATEGORIES:Evening Zazen
END:VEVENT
BEGIN:VEVENT
DTSTART;TZID=America/Vancouver:20271126T070000
DTEND;TZID=America/Vancouver:20271126T074500
DTSTAMP:20260425T044444
CREATED:20250103T155802Z
LAST-MODIFIED:20250103T183152Z
UID:10001762-1827212400-1827215100@saltspringzencircle.org
SUMMARY:Morning Zazen
DESCRIPTION:Please be seated by 7am
URL:https://saltspringzencircle.org/event/morning-zazen-150/2027-11-26/
CATEGORIES:Morning Zazen
END:VEVENT
BEGIN:VEVENT
DTSTART;TZID=America/Vancouver:20271129T070000
DTEND;TZID=America/Vancouver:20271129T074500
DTSTAMP:20260425T044444
CREATED:20250103T155503Z
LAST-MODIFIED:20250103T155503Z
UID:10001499-1827471600-1827474300@saltspringzencircle.org
SUMMARY:Morning Zazen
DESCRIPTION:
URL:https://saltspringzencircle.org/event/morning-zazen-149/2027-11-29/
CATEGORIES:Morning Zazen
END:VEVENT
BEGIN:VEVENT
DTSTART;TZID=America/Vancouver:20271201T190000
DTEND;TZID=America/Vancouver:20271201T210000
DTSTAMP:20260425T044444
CREATED:20231231T034335Z
LAST-MODIFIED:20240104T225032Z
UID:10000966-1827687600-1827694800@saltspringzencircle.org
SUMMARY:Evening Zazen
DESCRIPTION:In-Person Evening Zazen with Zoom option at All Saints by-the-Sea Anglican Church\, Upper Hall\, 110 Park Drive\, Ganges 
URL:https://saltspringzencircle.org/event/evening-zazen-69/2027-12-01/
CATEGORIES:Evening Zazen
END:VEVENT
BEGIN:VEVENT
DTSTART;TZID=America/Vancouver:20271203T070000
DTEND;TZID=America/Vancouver:20271203T074500
DTSTAMP:20260425T044444
CREATED:20250103T155802Z
LAST-MODIFIED:20250103T183152Z
UID:10001763-1827817200-1827819900@saltspringzencircle.org
SUMMARY:Morning Zazen
DESCRIPTION:Please be seated by 7am
URL:https://saltspringzencircle.org/event/morning-zazen-150/2027-12-03/
CATEGORIES:Morning Zazen
END:VEVENT
BEGIN:VEVENT
DTSTART;TZID=America/Vancouver:20271206T070000
DTEND;TZID=America/Vancouver:20271206T074500
DTSTAMP:20260425T044444
CREATED:20250103T155503Z
LAST-MODIFIED:20250103T155503Z
UID:10001500-1828076400-1828079100@saltspringzencircle.org
SUMMARY:Morning Zazen
DESCRIPTION:
URL:https://saltspringzencircle.org/event/morning-zazen-149/2027-12-06/
CATEGORIES:Morning Zazen
END:VEVENT
BEGIN:VEVENT
DTSTART;TZID=America/Vancouver:20271208T190000
DTEND;TZID=America/Vancouver:20271208T210000
DTSTAMP:20260425T044444
CREATED:20231231T034335Z
LAST-MODIFIED:20240104T225032Z
UID:10000967-1828292400-1828299600@saltspringzencircle.org
SUMMARY:Evening Zazen
DESCRIPTION:In-Person Evening Zazen with Zoom option at All Saints by-the-Sea Anglican Church\, Upper Hall\, 110 Park Drive\, Ganges 
URL:https://saltspringzencircle.org/event/evening-zazen-69/2027-12-08/
CATEGORIES:Evening Zazen
END:VEVENT
END:VCALENDAR