BEGIN:VCALENDAR
VERSION:2.0
PRODID:-// - ECPv6.15.20//NONSGML v1.0//EN
CALSCALE:GREGORIAN
METHOD:PUBLISH
X-ORIGINAL-URL:https://saltspringzencircle.org
X-WR-CALDESC:Events for 
REFRESH-INTERVAL;VALUE=DURATION:PT1H
X-Robots-Tag:noindex
X-PUBLISHED-TTL:PT1H
BEGIN:VTIMEZONE
TZID:America/Vancouver
BEGIN:DAYLIGHT
TZOFFSETFROM:-0800
TZOFFSETTO:-0700
TZNAME:PDT
DTSTART:20260308T100000
END:DAYLIGHT
BEGIN:STANDARD
TZOFFSETFROM:-0700
TZOFFSETTO:-0800
TZNAME:PST
DTSTART:20261101T090000
END:STANDARD
BEGIN:DAYLIGHT
TZOFFSETFROM:-0800
TZOFFSETTO:-0700
TZNAME:PDT
DTSTART:20270314T100000
END:DAYLIGHT
BEGIN:STANDARD
TZOFFSETFROM:-0700
TZOFFSETTO:-0800
TZNAME:PST
DTSTART:20271107T090000
END:STANDARD
BEGIN:DAYLIGHT
TZOFFSETFROM:-0800
TZOFFSETTO:-0700
TZNAME:PDT
DTSTART:20280312T100000
END:DAYLIGHT
BEGIN:STANDARD
TZOFFSETFROM:-0700
TZOFFSETTO:-0800
TZNAME:PST
DTSTART:20281105T090000
END:STANDARD
END:VTIMEZONE
BEGIN:VEVENT
DTSTART;TZID=America/Vancouver:20270514T070000
DTEND;TZID=America/Vancouver:20270514T074500
DTSTAMP:20260425T063127
CREATED:20250103T155802Z
LAST-MODIFIED:20250103T183152Z
UID:10001734-1810278000-1810280700@saltspringzencircle.org
SUMMARY:Morning Zazen
DESCRIPTION:Please be seated by 7am
URL:https://saltspringzencircle.org/event/morning-zazen-150/2027-05-14/
CATEGORIES:Morning Zazen
END:VEVENT
BEGIN:VEVENT
DTSTART;TZID=America/Vancouver:20270517T070000
DTEND;TZID=America/Vancouver:20270517T074500
DTSTAMP:20260425T063127
CREATED:20250103T155503Z
LAST-MODIFIED:20250103T155503Z
UID:10001471-1810537200-1810539900@saltspringzencircle.org
SUMMARY:Morning Zazen
DESCRIPTION:
URL:https://saltspringzencircle.org/event/morning-zazen-149/2027-05-17/
CATEGORIES:Morning Zazen
END:VEVENT
BEGIN:VEVENT
DTSTART;TZID=America/Vancouver:20270519T190000
DTEND;TZID=America/Vancouver:20270519T210000
DTSTAMP:20260425T063127
CREATED:20231231T034335Z
LAST-MODIFIED:20240104T225032Z
UID:10000938-1810753200-1810760400@saltspringzencircle.org
SUMMARY:Evening Zazen
DESCRIPTION:In-Person Evening Zazen with Zoom option at All Saints by-the-Sea Anglican Church\, Upper Hall\, 110 Park Drive\, Ganges 
URL:https://saltspringzencircle.org/event/evening-zazen-69/2027-05-19/
CATEGORIES:Evening Zazen
END:VEVENT
BEGIN:VEVENT
DTSTART;TZID=America/Vancouver:20270521T070000
DTEND;TZID=America/Vancouver:20270521T074500
DTSTAMP:20260425T063127
CREATED:20250103T155802Z
LAST-MODIFIED:20250103T183152Z
UID:10001735-1810882800-1810885500@saltspringzencircle.org
SUMMARY:Morning Zazen
DESCRIPTION:Please be seated by 7am
URL:https://saltspringzencircle.org/event/morning-zazen-150/2027-05-21/
CATEGORIES:Morning Zazen
END:VEVENT
BEGIN:VEVENT
DTSTART;TZID=America/Vancouver:20270524T070000
DTEND;TZID=America/Vancouver:20270524T074500
DTSTAMP:20260425T063127
CREATED:20250103T155503Z
LAST-MODIFIED:20250103T155503Z
UID:10001472-1811142000-1811144700@saltspringzencircle.org
SUMMARY:Morning Zazen
DESCRIPTION:
URL:https://saltspringzencircle.org/event/morning-zazen-149/2027-05-24/
CATEGORIES:Morning Zazen
END:VEVENT
BEGIN:VEVENT
DTSTART;TZID=America/Vancouver:20270526T190000
DTEND;TZID=America/Vancouver:20270526T210000
DTSTAMP:20260425T063127
CREATED:20231231T034335Z
LAST-MODIFIED:20240104T225032Z
UID:10000939-1811358000-1811365200@saltspringzencircle.org
SUMMARY:Evening Zazen
DESCRIPTION:In-Person Evening Zazen with Zoom option at All Saints by-the-Sea Anglican Church\, Upper Hall\, 110 Park Drive\, Ganges 
URL:https://saltspringzencircle.org/event/evening-zazen-69/2027-05-26/
CATEGORIES:Evening Zazen
END:VEVENT
BEGIN:VEVENT
DTSTART;TZID=America/Vancouver:20270528T070000
DTEND;TZID=America/Vancouver:20270528T074500
DTSTAMP:20260425T063127
CREATED:20250103T155802Z
LAST-MODIFIED:20250103T183152Z
UID:10001736-1811487600-1811490300@saltspringzencircle.org
SUMMARY:Morning Zazen
DESCRIPTION:Please be seated by 7am
URL:https://saltspringzencircle.org/event/morning-zazen-150/2027-05-28/
CATEGORIES:Morning Zazen
END:VEVENT
BEGIN:VEVENT
DTSTART;TZID=America/Vancouver:20270531T070000
DTEND;TZID=America/Vancouver:20270531T074500
DTSTAMP:20260425T063127
CREATED:20250103T155503Z
LAST-MODIFIED:20250103T155503Z
UID:10001473-1811746800-1811749500@saltspringzencircle.org
SUMMARY:Morning Zazen
DESCRIPTION:
URL:https://saltspringzencircle.org/event/morning-zazen-149/2027-05-31/
CATEGORIES:Morning Zazen
END:VEVENT
BEGIN:VEVENT
DTSTART;TZID=America/Vancouver:20270602T190000
DTEND;TZID=America/Vancouver:20270602T210000
DTSTAMP:20260425T063127
CREATED:20231231T034335Z
LAST-MODIFIED:20240104T225032Z
UID:10000940-1811962800-1811970000@saltspringzencircle.org
SUMMARY:Evening Zazen
DESCRIPTION:In-Person Evening Zazen with Zoom option at All Saints by-the-Sea Anglican Church\, Upper Hall\, 110 Park Drive\, Ganges 
URL:https://saltspringzencircle.org/event/evening-zazen-69/2027-06-02/
CATEGORIES:Evening Zazen
END:VEVENT
BEGIN:VEVENT
DTSTART;TZID=America/Vancouver:20270604T070000
DTEND;TZID=America/Vancouver:20270604T074500
DTSTAMP:20260425T063127
CREATED:20250103T155802Z
LAST-MODIFIED:20250103T183152Z
UID:10001737-1812092400-1812095100@saltspringzencircle.org
SUMMARY:Morning Zazen
DESCRIPTION:Please be seated by 7am
URL:https://saltspringzencircle.org/event/morning-zazen-150/2027-06-04/
CATEGORIES:Morning Zazen
END:VEVENT
BEGIN:VEVENT
DTSTART;TZID=America/Vancouver:20270607T070000
DTEND;TZID=America/Vancouver:20270607T074500
DTSTAMP:20260425T063127
CREATED:20250103T155503Z
LAST-MODIFIED:20250103T155503Z
UID:10001474-1812351600-1812354300@saltspringzencircle.org
SUMMARY:Morning Zazen
DESCRIPTION:
URL:https://saltspringzencircle.org/event/morning-zazen-149/2027-06-07/
CATEGORIES:Morning Zazen
END:VEVENT
BEGIN:VEVENT
DTSTART;TZID=America/Vancouver:20270609T190000
DTEND;TZID=America/Vancouver:20270609T210000
DTSTAMP:20260425T063127
CREATED:20231231T034335Z
LAST-MODIFIED:20240104T225032Z
UID:10000941-1812567600-1812574800@saltspringzencircle.org
SUMMARY:Evening Zazen
DESCRIPTION:In-Person Evening Zazen with Zoom option at All Saints by-the-Sea Anglican Church\, Upper Hall\, 110 Park Drive\, Ganges 
URL:https://saltspringzencircle.org/event/evening-zazen-69/2027-06-09/
CATEGORIES:Evening Zazen
END:VEVENT
BEGIN:VEVENT
DTSTART;TZID=America/Vancouver:20270611T070000
DTEND;TZID=America/Vancouver:20270611T074500
DTSTAMP:20260425T063127
CREATED:20250103T155802Z
LAST-MODIFIED:20250103T183152Z
UID:10001738-1812697200-1812699900@saltspringzencircle.org
SUMMARY:Morning Zazen
DESCRIPTION:Please be seated by 7am
URL:https://saltspringzencircle.org/event/morning-zazen-150/2027-06-11/
CATEGORIES:Morning Zazen
END:VEVENT
BEGIN:VEVENT
DTSTART;TZID=America/Vancouver:20270614T070000
DTEND;TZID=America/Vancouver:20270614T074500
DTSTAMP:20260425T063127
CREATED:20250103T155503Z
LAST-MODIFIED:20250103T155503Z
UID:10001475-1812956400-1812959100@saltspringzencircle.org
SUMMARY:Morning Zazen
DESCRIPTION:
URL:https://saltspringzencircle.org/event/morning-zazen-149/2027-06-14/
CATEGORIES:Morning Zazen
END:VEVENT
BEGIN:VEVENT
DTSTART;TZID=America/Vancouver:20270616T190000
DTEND;TZID=America/Vancouver:20270616T210000
DTSTAMP:20260425T063127
CREATED:20231231T034335Z
LAST-MODIFIED:20240104T225032Z
UID:10000942-1813172400-1813179600@saltspringzencircle.org
SUMMARY:Evening Zazen
DESCRIPTION:In-Person Evening Zazen with Zoom option at All Saints by-the-Sea Anglican Church\, Upper Hall\, 110 Park Drive\, Ganges 
URL:https://saltspringzencircle.org/event/evening-zazen-69/2027-06-16/
CATEGORIES:Evening Zazen
END:VEVENT
BEGIN:VEVENT
DTSTART;TZID=America/Vancouver:20270618T070000
DTEND;TZID=America/Vancouver:20270618T074500
DTSTAMP:20260425T063127
CREATED:20250103T155802Z
LAST-MODIFIED:20250103T183152Z
UID:10001739-1813302000-1813304700@saltspringzencircle.org
SUMMARY:Morning Zazen
DESCRIPTION:Please be seated by 7am
URL:https://saltspringzencircle.org/event/morning-zazen-150/2027-06-18/
CATEGORIES:Morning Zazen
END:VEVENT
BEGIN:VEVENT
DTSTART;TZID=America/Vancouver:20270621T070000
DTEND;TZID=America/Vancouver:20270621T074500
DTSTAMP:20260425T063127
CREATED:20250103T155503Z
LAST-MODIFIED:20250103T155503Z
UID:10001476-1813561200-1813563900@saltspringzencircle.org
SUMMARY:Morning Zazen
DESCRIPTION:
URL:https://saltspringzencircle.org/event/morning-zazen-149/2027-06-21/
CATEGORIES:Morning Zazen
END:VEVENT
BEGIN:VEVENT
DTSTART;TZID=America/Vancouver:20270623T190000
DTEND;TZID=America/Vancouver:20270623T210000
DTSTAMP:20260425T063127
CREATED:20231231T034335Z
LAST-MODIFIED:20240104T225032Z
UID:10000943-1813777200-1813784400@saltspringzencircle.org
SUMMARY:Evening Zazen
DESCRIPTION:In-Person Evening Zazen with Zoom option at All Saints by-the-Sea Anglican Church\, Upper Hall\, 110 Park Drive\, Ganges 
URL:https://saltspringzencircle.org/event/evening-zazen-69/2027-06-23/
CATEGORIES:Evening Zazen
END:VEVENT
BEGIN:VEVENT
DTSTART;TZID=America/Vancouver:20270625T070000
DTEND;TZID=America/Vancouver:20270625T074500
DTSTAMP:20260425T063127
CREATED:20250103T155802Z
LAST-MODIFIED:20250103T183152Z
UID:10001740-1813906800-1813909500@saltspringzencircle.org
SUMMARY:Morning Zazen
DESCRIPTION:Please be seated by 7am
URL:https://saltspringzencircle.org/event/morning-zazen-150/2027-06-25/
CATEGORIES:Morning Zazen
END:VEVENT
BEGIN:VEVENT
DTSTART;TZID=America/Vancouver:20270628T070000
DTEND;TZID=America/Vancouver:20270628T074500
DTSTAMP:20260425T063127
CREATED:20250103T155503Z
LAST-MODIFIED:20250103T155503Z
UID:10001477-1814166000-1814168700@saltspringzencircle.org
SUMMARY:Morning Zazen
DESCRIPTION:
URL:https://saltspringzencircle.org/event/morning-zazen-149/2027-06-28/
CATEGORIES:Morning Zazen
END:VEVENT
BEGIN:VEVENT
DTSTART;TZID=America/Vancouver:20270630T190000
DTEND;TZID=America/Vancouver:20270630T210000
DTSTAMP:20260425T063127
CREATED:20231231T034335Z
LAST-MODIFIED:20240104T225032Z
UID:10000944-1814382000-1814389200@saltspringzencircle.org
SUMMARY:Evening Zazen
DESCRIPTION:In-Person Evening Zazen with Zoom option at All Saints by-the-Sea Anglican Church\, Upper Hall\, 110 Park Drive\, Ganges 
URL:https://saltspringzencircle.org/event/evening-zazen-69/2027-06-30/
CATEGORIES:Evening Zazen
END:VEVENT
BEGIN:VEVENT
DTSTART;TZID=America/Vancouver:20270702T070000
DTEND;TZID=America/Vancouver:20270702T074500
DTSTAMP:20260425T063127
CREATED:20250103T155802Z
LAST-MODIFIED:20250103T183152Z
UID:10001741-1814511600-1814514300@saltspringzencircle.org
SUMMARY:Morning Zazen
DESCRIPTION:Please be seated by 7am
URL:https://saltspringzencircle.org/event/morning-zazen-150/2027-07-02/
CATEGORIES:Morning Zazen
END:VEVENT
BEGIN:VEVENT
DTSTART;TZID=America/Vancouver:20270705T070000
DTEND;TZID=America/Vancouver:20270705T074500
DTSTAMP:20260425T063127
CREATED:20250103T155503Z
LAST-MODIFIED:20250103T155503Z
UID:10001478-1814770800-1814773500@saltspringzencircle.org
SUMMARY:Morning Zazen
DESCRIPTION:
URL:https://saltspringzencircle.org/event/morning-zazen-149/2027-07-05/
CATEGORIES:Morning Zazen
END:VEVENT
BEGIN:VEVENT
DTSTART;TZID=America/Vancouver:20270707T190000
DTEND;TZID=America/Vancouver:20270707T210000
DTSTAMP:20260425T063127
CREATED:20231231T034335Z
LAST-MODIFIED:20240104T225032Z
UID:10000945-1814986800-1814994000@saltspringzencircle.org
SUMMARY:Evening Zazen
DESCRIPTION:In-Person Evening Zazen with Zoom option at All Saints by-the-Sea Anglican Church\, Upper Hall\, 110 Park Drive\, Ganges 
URL:https://saltspringzencircle.org/event/evening-zazen-69/2027-07-07/
CATEGORIES:Evening Zazen
END:VEVENT
BEGIN:VEVENT
DTSTART;TZID=America/Vancouver:20270709T070000
DTEND;TZID=America/Vancouver:20270709T074500
DTSTAMP:20260425T063127
CREATED:20250103T155802Z
LAST-MODIFIED:20250103T183152Z
UID:10001742-1815116400-1815119100@saltspringzencircle.org
SUMMARY:Morning Zazen
DESCRIPTION:Please be seated by 7am
URL:https://saltspringzencircle.org/event/morning-zazen-150/2027-07-09/
CATEGORIES:Morning Zazen
END:VEVENT
BEGIN:VEVENT
DTSTART;TZID=America/Vancouver:20270712T070000
DTEND;TZID=America/Vancouver:20270712T074500
DTSTAMP:20260425T063127
CREATED:20250103T155503Z
LAST-MODIFIED:20250103T155503Z
UID:10001479-1815375600-1815378300@saltspringzencircle.org
SUMMARY:Morning Zazen
DESCRIPTION:
URL:https://saltspringzencircle.org/event/morning-zazen-149/2027-07-12/
CATEGORIES:Morning Zazen
END:VEVENT
BEGIN:VEVENT
DTSTART;TZID=America/Vancouver:20270714T190000
DTEND;TZID=America/Vancouver:20270714T210000
DTSTAMP:20260425T063127
CREATED:20231231T034335Z
LAST-MODIFIED:20240104T225032Z
UID:10000946-1815591600-1815598800@saltspringzencircle.org
SUMMARY:Evening Zazen
DESCRIPTION:In-Person Evening Zazen with Zoom option at All Saints by-the-Sea Anglican Church\, Upper Hall\, 110 Park Drive\, Ganges 
URL:https://saltspringzencircle.org/event/evening-zazen-69/2027-07-14/
CATEGORIES:Evening Zazen
END:VEVENT
BEGIN:VEVENT
DTSTART;TZID=America/Vancouver:20270716T070000
DTEND;TZID=America/Vancouver:20270716T074500
DTSTAMP:20260425T063127
CREATED:20250103T155802Z
LAST-MODIFIED:20250103T183152Z
UID:10001743-1815721200-1815723900@saltspringzencircle.org
SUMMARY:Morning Zazen
DESCRIPTION:Please be seated by 7am
URL:https://saltspringzencircle.org/event/morning-zazen-150/2027-07-16/
CATEGORIES:Morning Zazen
END:VEVENT
BEGIN:VEVENT
DTSTART;TZID=America/Vancouver:20270719T070000
DTEND;TZID=America/Vancouver:20270719T074500
DTSTAMP:20260425T063127
CREATED:20250103T155503Z
LAST-MODIFIED:20250103T155503Z
UID:10001480-1815980400-1815983100@saltspringzencircle.org
SUMMARY:Morning Zazen
DESCRIPTION:
URL:https://saltspringzencircle.org/event/morning-zazen-149/2027-07-19/
CATEGORIES:Morning Zazen
END:VEVENT
BEGIN:VEVENT
DTSTART;TZID=America/Vancouver:20270721T190000
DTEND;TZID=America/Vancouver:20270721T210000
DTSTAMP:20260425T063127
CREATED:20231231T034335Z
LAST-MODIFIED:20240104T225032Z
UID:10000947-1816196400-1816203600@saltspringzencircle.org
SUMMARY:Evening Zazen
DESCRIPTION:In-Person Evening Zazen with Zoom option at All Saints by-the-Sea Anglican Church\, Upper Hall\, 110 Park Drive\, Ganges 
URL:https://saltspringzencircle.org/event/evening-zazen-69/2027-07-21/
CATEGORIES:Evening Zazen
END:VEVENT
END:VCALENDAR