BEGIN:VCALENDAR
VERSION:2.0
PRODID:-// - ECPv6.15.20//NONSGML v1.0//EN
CALSCALE:GREGORIAN
METHOD:PUBLISH
X-ORIGINAL-URL:https://saltspringzencircle.org
X-WR-CALDESC:Events for 
REFRESH-INTERVAL;VALUE=DURATION:PT1H
X-Robots-Tag:noindex
X-PUBLISHED-TTL:PT1H
BEGIN:VTIMEZONE
TZID:America/Vancouver
BEGIN:DAYLIGHT
TZOFFSETFROM:-0800
TZOFFSETTO:-0700
TZNAME:PDT
DTSTART:20260308T100000
END:DAYLIGHT
BEGIN:STANDARD
TZOFFSETFROM:-0700
TZOFFSETTO:-0800
TZNAME:PST
DTSTART:20261101T090000
END:STANDARD
BEGIN:DAYLIGHT
TZOFFSETFROM:-0800
TZOFFSETTO:-0700
TZNAME:PDT
DTSTART:20270314T100000
END:DAYLIGHT
BEGIN:STANDARD
TZOFFSETFROM:-0700
TZOFFSETTO:-0800
TZNAME:PST
DTSTART:20271107T090000
END:STANDARD
BEGIN:DAYLIGHT
TZOFFSETFROM:-0800
TZOFFSETTO:-0700
TZNAME:PDT
DTSTART:20280312T100000
END:DAYLIGHT
BEGIN:STANDARD
TZOFFSETFROM:-0700
TZOFFSETTO:-0800
TZNAME:PST
DTSTART:20281105T090000
END:STANDARD
END:VTIMEZONE
BEGIN:VEVENT
DTSTART;TZID=America/Vancouver:20270705T070000
DTEND;TZID=America/Vancouver:20270705T074500
DTSTAMP:20260425T084454
CREATED:20250103T155503Z
LAST-MODIFIED:20250103T155503Z
UID:10001478-1814770800-1814773500@saltspringzencircle.org
SUMMARY:Morning Zazen
DESCRIPTION:
URL:https://saltspringzencircle.org/event/morning-zazen-149/2027-07-05/
CATEGORIES:Morning Zazen
END:VEVENT
BEGIN:VEVENT
DTSTART;TZID=America/Vancouver:20270707T190000
DTEND;TZID=America/Vancouver:20270707T210000
DTSTAMP:20260425T084454
CREATED:20231231T034335Z
LAST-MODIFIED:20240104T225032Z
UID:10000945-1814986800-1814994000@saltspringzencircle.org
SUMMARY:Evening Zazen
DESCRIPTION:In-Person Evening Zazen with Zoom option at All Saints by-the-Sea Anglican Church\, Upper Hall\, 110 Park Drive\, Ganges 
URL:https://saltspringzencircle.org/event/evening-zazen-69/2027-07-07/
CATEGORIES:Evening Zazen
END:VEVENT
BEGIN:VEVENT
DTSTART;TZID=America/Vancouver:20270709T070000
DTEND;TZID=America/Vancouver:20270709T074500
DTSTAMP:20260425T084454
CREATED:20250103T155802Z
LAST-MODIFIED:20250103T183152Z
UID:10001742-1815116400-1815119100@saltspringzencircle.org
SUMMARY:Morning Zazen
DESCRIPTION:Please be seated by 7am
URL:https://saltspringzencircle.org/event/morning-zazen-150/2027-07-09/
CATEGORIES:Morning Zazen
END:VEVENT
BEGIN:VEVENT
DTSTART;TZID=America/Vancouver:20270712T070000
DTEND;TZID=America/Vancouver:20270712T074500
DTSTAMP:20260425T084454
CREATED:20250103T155503Z
LAST-MODIFIED:20250103T155503Z
UID:10001479-1815375600-1815378300@saltspringzencircle.org
SUMMARY:Morning Zazen
DESCRIPTION:
URL:https://saltspringzencircle.org/event/morning-zazen-149/2027-07-12/
CATEGORIES:Morning Zazen
END:VEVENT
BEGIN:VEVENT
DTSTART;TZID=America/Vancouver:20270714T190000
DTEND;TZID=America/Vancouver:20270714T210000
DTSTAMP:20260425T084455
CREATED:20231231T034335Z
LAST-MODIFIED:20240104T225032Z
UID:10000946-1815591600-1815598800@saltspringzencircle.org
SUMMARY:Evening Zazen
DESCRIPTION:In-Person Evening Zazen with Zoom option at All Saints by-the-Sea Anglican Church\, Upper Hall\, 110 Park Drive\, Ganges 
URL:https://saltspringzencircle.org/event/evening-zazen-69/2027-07-14/
CATEGORIES:Evening Zazen
END:VEVENT
BEGIN:VEVENT
DTSTART;TZID=America/Vancouver:20270716T070000
DTEND;TZID=America/Vancouver:20270716T074500
DTSTAMP:20260425T084455
CREATED:20250103T155802Z
LAST-MODIFIED:20250103T183152Z
UID:10001743-1815721200-1815723900@saltspringzencircle.org
SUMMARY:Morning Zazen
DESCRIPTION:Please be seated by 7am
URL:https://saltspringzencircle.org/event/morning-zazen-150/2027-07-16/
CATEGORIES:Morning Zazen
END:VEVENT
BEGIN:VEVENT
DTSTART;TZID=America/Vancouver:20270719T070000
DTEND;TZID=America/Vancouver:20270719T074500
DTSTAMP:20260425T084455
CREATED:20250103T155503Z
LAST-MODIFIED:20250103T155503Z
UID:10001480-1815980400-1815983100@saltspringzencircle.org
SUMMARY:Morning Zazen
DESCRIPTION:
URL:https://saltspringzencircle.org/event/morning-zazen-149/2027-07-19/
CATEGORIES:Morning Zazen
END:VEVENT
BEGIN:VEVENT
DTSTART;TZID=America/Vancouver:20270721T190000
DTEND;TZID=America/Vancouver:20270721T210000
DTSTAMP:20260425T084455
CREATED:20231231T034335Z
LAST-MODIFIED:20240104T225032Z
UID:10000947-1816196400-1816203600@saltspringzencircle.org
SUMMARY:Evening Zazen
DESCRIPTION:In-Person Evening Zazen with Zoom option at All Saints by-the-Sea Anglican Church\, Upper Hall\, 110 Park Drive\, Ganges 
URL:https://saltspringzencircle.org/event/evening-zazen-69/2027-07-21/
CATEGORIES:Evening Zazen
END:VEVENT
BEGIN:VEVENT
DTSTART;TZID=America/Vancouver:20270723T070000
DTEND;TZID=America/Vancouver:20270723T074500
DTSTAMP:20260425T084455
CREATED:20250103T155802Z
LAST-MODIFIED:20250103T183152Z
UID:10001744-1816326000-1816328700@saltspringzencircle.org
SUMMARY:Morning Zazen
DESCRIPTION:Please be seated by 7am
URL:https://saltspringzencircle.org/event/morning-zazen-150/2027-07-23/
CATEGORIES:Morning Zazen
END:VEVENT
BEGIN:VEVENT
DTSTART;TZID=America/Vancouver:20270726T070000
DTEND;TZID=America/Vancouver:20270726T074500
DTSTAMP:20260425T084455
CREATED:20250103T155503Z
LAST-MODIFIED:20250103T155503Z
UID:10001481-1816585200-1816587900@saltspringzencircle.org
SUMMARY:Morning Zazen
DESCRIPTION:
URL:https://saltspringzencircle.org/event/morning-zazen-149/2027-07-26/
CATEGORIES:Morning Zazen
END:VEVENT
BEGIN:VEVENT
DTSTART;TZID=America/Vancouver:20270728T190000
DTEND;TZID=America/Vancouver:20270728T210000
DTSTAMP:20260425T084455
CREATED:20231231T034335Z
LAST-MODIFIED:20240104T225032Z
UID:10000948-1816801200-1816808400@saltspringzencircle.org
SUMMARY:Evening Zazen
DESCRIPTION:In-Person Evening Zazen with Zoom option at All Saints by-the-Sea Anglican Church\, Upper Hall\, 110 Park Drive\, Ganges 
URL:https://saltspringzencircle.org/event/evening-zazen-69/2027-07-28/
CATEGORIES:Evening Zazen
END:VEVENT
BEGIN:VEVENT
DTSTART;TZID=America/Vancouver:20270730T070000
DTEND;TZID=America/Vancouver:20270730T074500
DTSTAMP:20260425T084455
CREATED:20250103T155802Z
LAST-MODIFIED:20250103T183152Z
UID:10001745-1816930800-1816933500@saltspringzencircle.org
SUMMARY:Morning Zazen
DESCRIPTION:Please be seated by 7am
URL:https://saltspringzencircle.org/event/morning-zazen-150/2027-07-30/
CATEGORIES:Morning Zazen
END:VEVENT
BEGIN:VEVENT
DTSTART;TZID=America/Vancouver:20270802T070000
DTEND;TZID=America/Vancouver:20270802T074500
DTSTAMP:20260425T084455
CREATED:20250103T155503Z
LAST-MODIFIED:20250103T155503Z
UID:10001482-1817190000-1817192700@saltspringzencircle.org
SUMMARY:Morning Zazen
DESCRIPTION:
URL:https://saltspringzencircle.org/event/morning-zazen-149/2027-08-02/
CATEGORIES:Morning Zazen
END:VEVENT
BEGIN:VEVENT
DTSTART;TZID=America/Vancouver:20270804T190000
DTEND;TZID=America/Vancouver:20270804T210000
DTSTAMP:20260425T084455
CREATED:20231231T034335Z
LAST-MODIFIED:20240104T225032Z
UID:10000949-1817406000-1817413200@saltspringzencircle.org
SUMMARY:Evening Zazen
DESCRIPTION:In-Person Evening Zazen with Zoom option at All Saints by-the-Sea Anglican Church\, Upper Hall\, 110 Park Drive\, Ganges 
URL:https://saltspringzencircle.org/event/evening-zazen-69/2027-08-04/
CATEGORIES:Evening Zazen
END:VEVENT
BEGIN:VEVENT
DTSTART;TZID=America/Vancouver:20270806T070000
DTEND;TZID=America/Vancouver:20270806T074500
DTSTAMP:20260425T084455
CREATED:20250103T155802Z
LAST-MODIFIED:20250103T183152Z
UID:10001746-1817535600-1817538300@saltspringzencircle.org
SUMMARY:Morning Zazen
DESCRIPTION:Please be seated by 7am
URL:https://saltspringzencircle.org/event/morning-zazen-150/2027-08-06/
CATEGORIES:Morning Zazen
END:VEVENT
BEGIN:VEVENT
DTSTART;TZID=America/Vancouver:20270809T070000
DTEND;TZID=America/Vancouver:20270809T074500
DTSTAMP:20260425T084455
CREATED:20250103T155503Z
LAST-MODIFIED:20250103T155503Z
UID:10001483-1817794800-1817797500@saltspringzencircle.org
SUMMARY:Morning Zazen
DESCRIPTION:
URL:https://saltspringzencircle.org/event/morning-zazen-149/2027-08-09/
CATEGORIES:Morning Zazen
END:VEVENT
BEGIN:VEVENT
DTSTART;TZID=America/Vancouver:20270811T190000
DTEND;TZID=America/Vancouver:20270811T210000
DTSTAMP:20260425T084455
CREATED:20231231T034335Z
LAST-MODIFIED:20240104T225032Z
UID:10000950-1818010800-1818018000@saltspringzencircle.org
SUMMARY:Evening Zazen
DESCRIPTION:In-Person Evening Zazen with Zoom option at All Saints by-the-Sea Anglican Church\, Upper Hall\, 110 Park Drive\, Ganges 
URL:https://saltspringzencircle.org/event/evening-zazen-69/2027-08-11/
CATEGORIES:Evening Zazen
END:VEVENT
BEGIN:VEVENT
DTSTART;TZID=America/Vancouver:20270813T070000
DTEND;TZID=America/Vancouver:20270813T074500
DTSTAMP:20260425T084455
CREATED:20250103T155802Z
LAST-MODIFIED:20250103T183152Z
UID:10001747-1818140400-1818143100@saltspringzencircle.org
SUMMARY:Morning Zazen
DESCRIPTION:Please be seated by 7am
URL:https://saltspringzencircle.org/event/morning-zazen-150/2027-08-13/
CATEGORIES:Morning Zazen
END:VEVENT
BEGIN:VEVENT
DTSTART;TZID=America/Vancouver:20270816T070000
DTEND;TZID=America/Vancouver:20270816T074500
DTSTAMP:20260425T084455
CREATED:20250103T155503Z
LAST-MODIFIED:20250103T155503Z
UID:10001484-1818399600-1818402300@saltspringzencircle.org
SUMMARY:Morning Zazen
DESCRIPTION:
URL:https://saltspringzencircle.org/event/morning-zazen-149/2027-08-16/
CATEGORIES:Morning Zazen
END:VEVENT
BEGIN:VEVENT
DTSTART;TZID=America/Vancouver:20270818T190000
DTEND;TZID=America/Vancouver:20270818T210000
DTSTAMP:20260425T084455
CREATED:20231231T034335Z
LAST-MODIFIED:20240104T225032Z
UID:10000951-1818615600-1818622800@saltspringzencircle.org
SUMMARY:Evening Zazen
DESCRIPTION:In-Person Evening Zazen with Zoom option at All Saints by-the-Sea Anglican Church\, Upper Hall\, 110 Park Drive\, Ganges 
URL:https://saltspringzencircle.org/event/evening-zazen-69/2027-08-18/
CATEGORIES:Evening Zazen
END:VEVENT
BEGIN:VEVENT
DTSTART;TZID=America/Vancouver:20270820T070000
DTEND;TZID=America/Vancouver:20270820T074500
DTSTAMP:20260425T084455
CREATED:20250103T155802Z
LAST-MODIFIED:20250103T183152Z
UID:10001748-1818745200-1818747900@saltspringzencircle.org
SUMMARY:Morning Zazen
DESCRIPTION:Please be seated by 7am
URL:https://saltspringzencircle.org/event/morning-zazen-150/2027-08-20/
CATEGORIES:Morning Zazen
END:VEVENT
BEGIN:VEVENT
DTSTART;TZID=America/Vancouver:20270823T070000
DTEND;TZID=America/Vancouver:20270823T074500
DTSTAMP:20260425T084455
CREATED:20250103T155503Z
LAST-MODIFIED:20250103T155503Z
UID:10001485-1819004400-1819007100@saltspringzencircle.org
SUMMARY:Morning Zazen
DESCRIPTION:
URL:https://saltspringzencircle.org/event/morning-zazen-149/2027-08-23/
CATEGORIES:Morning Zazen
END:VEVENT
BEGIN:VEVENT
DTSTART;TZID=America/Vancouver:20270825T190000
DTEND;TZID=America/Vancouver:20270825T210000
DTSTAMP:20260425T084455
CREATED:20231231T034335Z
LAST-MODIFIED:20240104T225032Z
UID:10000952-1819220400-1819227600@saltspringzencircle.org
SUMMARY:Evening Zazen
DESCRIPTION:In-Person Evening Zazen with Zoom option at All Saints by-the-Sea Anglican Church\, Upper Hall\, 110 Park Drive\, Ganges 
URL:https://saltspringzencircle.org/event/evening-zazen-69/2027-08-25/
CATEGORIES:Evening Zazen
END:VEVENT
BEGIN:VEVENT
DTSTART;TZID=America/Vancouver:20270827T070000
DTEND;TZID=America/Vancouver:20270827T074500
DTSTAMP:20260425T084455
CREATED:20250103T155802Z
LAST-MODIFIED:20250103T183152Z
UID:10001749-1819350000-1819352700@saltspringzencircle.org
SUMMARY:Morning Zazen
DESCRIPTION:Please be seated by 7am
URL:https://saltspringzencircle.org/event/morning-zazen-150/2027-08-27/
CATEGORIES:Morning Zazen
END:VEVENT
BEGIN:VEVENT
DTSTART;TZID=America/Vancouver:20270830T070000
DTEND;TZID=America/Vancouver:20270830T074500
DTSTAMP:20260425T084455
CREATED:20250103T155503Z
LAST-MODIFIED:20250103T155503Z
UID:10001486-1819609200-1819611900@saltspringzencircle.org
SUMMARY:Morning Zazen
DESCRIPTION:
URL:https://saltspringzencircle.org/event/morning-zazen-149/2027-08-30/
CATEGORIES:Morning Zazen
END:VEVENT
BEGIN:VEVENT
DTSTART;TZID=America/Vancouver:20270901T190000
DTEND;TZID=America/Vancouver:20270901T210000
DTSTAMP:20260425T084455
CREATED:20231231T034335Z
LAST-MODIFIED:20240104T225032Z
UID:10000953-1819825200-1819832400@saltspringzencircle.org
SUMMARY:Evening Zazen
DESCRIPTION:In-Person Evening Zazen with Zoom option at All Saints by-the-Sea Anglican Church\, Upper Hall\, 110 Park Drive\, Ganges 
URL:https://saltspringzencircle.org/event/evening-zazen-69/2027-09-01/
CATEGORIES:Evening Zazen
END:VEVENT
BEGIN:VEVENT
DTSTART;TZID=America/Vancouver:20270903T070000
DTEND;TZID=America/Vancouver:20270903T074500
DTSTAMP:20260425T084455
CREATED:20250103T155802Z
LAST-MODIFIED:20250103T183152Z
UID:10001750-1819954800-1819957500@saltspringzencircle.org
SUMMARY:Morning Zazen
DESCRIPTION:Please be seated by 7am
URL:https://saltspringzencircle.org/event/morning-zazen-150/2027-09-03/
CATEGORIES:Morning Zazen
END:VEVENT
BEGIN:VEVENT
DTSTART;TZID=America/Vancouver:20270906T070000
DTEND;TZID=America/Vancouver:20270906T074500
DTSTAMP:20260425T084455
CREATED:20250103T155503Z
LAST-MODIFIED:20250103T155503Z
UID:10001487-1820214000-1820216700@saltspringzencircle.org
SUMMARY:Morning Zazen
DESCRIPTION:
URL:https://saltspringzencircle.org/event/morning-zazen-149/2027-09-06/
CATEGORIES:Morning Zazen
END:VEVENT
BEGIN:VEVENT
DTSTART;TZID=America/Vancouver:20270908T190000
DTEND;TZID=America/Vancouver:20270908T210000
DTSTAMP:20260425T084455
CREATED:20231231T034335Z
LAST-MODIFIED:20240104T225032Z
UID:10000954-1820430000-1820437200@saltspringzencircle.org
SUMMARY:Evening Zazen
DESCRIPTION:In-Person Evening Zazen with Zoom option at All Saints by-the-Sea Anglican Church\, Upper Hall\, 110 Park Drive\, Ganges 
URL:https://saltspringzencircle.org/event/evening-zazen-69/2027-09-08/
CATEGORIES:Evening Zazen
END:VEVENT
BEGIN:VEVENT
DTSTART;TZID=America/Vancouver:20270910T070000
DTEND;TZID=America/Vancouver:20270910T074500
DTSTAMP:20260425T084455
CREATED:20250103T155802Z
LAST-MODIFIED:20250103T183152Z
UID:10001751-1820559600-1820562300@saltspringzencircle.org
SUMMARY:Morning Zazen
DESCRIPTION:Please be seated by 7am
URL:https://saltspringzencircle.org/event/morning-zazen-150/2027-09-10/
CATEGORIES:Morning Zazen
END:VEVENT
END:VCALENDAR