BEGIN:VCALENDAR
VERSION:2.0
PRODID:-// - ECPv6.15.20//NONSGML v1.0//EN
CALSCALE:GREGORIAN
METHOD:PUBLISH
X-ORIGINAL-URL:https://saltspringzencircle.org
X-WR-CALDESC:Events for 
REFRESH-INTERVAL;VALUE=DURATION:PT1H
X-Robots-Tag:noindex
X-PUBLISHED-TTL:PT1H
BEGIN:VTIMEZONE
TZID:America/Vancouver
BEGIN:DAYLIGHT
TZOFFSETFROM:-0800
TZOFFSETTO:-0700
TZNAME:PDT
DTSTART:20230312T100000
END:DAYLIGHT
BEGIN:STANDARD
TZOFFSETFROM:-0700
TZOFFSETTO:-0800
TZNAME:PST
DTSTART:20231105T090000
END:STANDARD
BEGIN:DAYLIGHT
TZOFFSETFROM:-0800
TZOFFSETTO:-0700
TZNAME:PDT
DTSTART:20240310T100000
END:DAYLIGHT
BEGIN:STANDARD
TZOFFSETFROM:-0700
TZOFFSETTO:-0800
TZNAME:PST
DTSTART:20241103T090000
END:STANDARD
BEGIN:DAYLIGHT
TZOFFSETFROM:-0800
TZOFFSETTO:-0700
TZNAME:PDT
DTSTART:20250309T100000
END:DAYLIGHT
BEGIN:STANDARD
TZOFFSETFROM:-0700
TZOFFSETTO:-0800
TZNAME:PST
DTSTART:20251102T090000
END:STANDARD
END:VTIMEZONE
BEGIN:VEVENT
DTSTART;TZID=America/Vancouver:20240802T070500
DTEND;TZID=America/Vancouver:20240802T074500
DTSTAMP:20260424T211823
CREATED:20231231T215406Z
LAST-MODIFIED:20231231T215720Z
UID:10000743-1722582300-1722584700@saltspringzencircle.org
SUMMARY:Morning Zazen
DESCRIPTION:7:05am – Zoom room opens\n7:10am – to be seated on cushions\n7:15am – Robe Chant to be followed by bell (ringing 3 times)\n7:45am – End of sitting
URL:https://saltspringzencircle.org/event/morning-zazen-146/2024-08-02/
END:VEVENT
BEGIN:VEVENT
DTSTART;TZID=America/Vancouver:20240804T070000
DTEND;TZID=America/Vancouver:20240804T100000
DTSTAMP:20260424T211823
CREATED:20240210T171329Z
LAST-MODIFIED:20240708T020247Z
UID:10001310-1722754800-1722765600@saltspringzencircle.org
SUMMARY:NO SIT'N STUDY THIS SUNDAY - SUMMER GATHERING ON SSI
DESCRIPTION:Sit’n Study: Sittings are optional. Sitting: 7am-7:45am – Kinhin: 7:45am-8am – Sitting: 8am-8:45am – Break\nLeader: Judy Daylen –“An Ordinary Grounded Life” from The Truth of This Life by Katherine Thanas (Shambhala Publications Inc. 2018) 
URL:https://saltspringzencircle.org/event/sitn-study-95/
CATEGORIES:Sit 'n' Study
END:VEVENT
BEGIN:VEVENT
DTSTART;TZID=America/Vancouver:20240805T071500
DTEND;TZID=America/Vancouver:20240805T074500
DTSTAMP:20260424T211823
CREATED:20231231T205735Z
LAST-MODIFIED:20231231T205735Z
UID:10000642-1722842100-1722843900@saltspringzencircle.org
SUMMARY:Morning Zazen
DESCRIPTION:7:05am – Zoom room opens\n7:10am – to be seated on cushions\n7:15am – Robe Chant to be followed by bell (ringing 3 times)\n7:45am – End of sitting
URL:https://saltspringzencircle.org/event/morning-zazen-145/2024-08-05/
CATEGORIES:Morning Zazen
END:VEVENT
BEGIN:VEVENT
DTSTART;TZID=America/Vancouver:20240807T190000
DTEND;TZID=America/Vancouver:20240807T210000
DTSTAMP:20260424T211823
CREATED:20240708T021504Z
LAST-MODIFIED:20240708T021505Z
UID:10000793-1723057200-1723064400@saltspringzencircle.org
SUMMARY:Evening Zazen
DESCRIPTION:In-Person Evening Zazen with Zoom option at All Saints by-the-Sea Anglican Church\, Upper Hall\, 110 Park Drive\, Ganges Judy Daylen –“An Ordinary Grounded Life” from The Truth of This Life by Katherine Thanas (Shambhala Publications Inc. 2018) 
URL:https://saltspringzencircle.org/event/evening-zazen-69-2/
CATEGORIES:Evening Zazen
END:VEVENT
BEGIN:VEVENT
DTSTART;TZID=America/Vancouver:20240809T070500
DTEND;TZID=America/Vancouver:20240809T074500
DTSTAMP:20260424T211823
CREATED:20231231T215406Z
LAST-MODIFIED:20231231T215720Z
UID:10000744-1723187100-1723189500@saltspringzencircle.org
SUMMARY:Morning Zazen
DESCRIPTION:7:05am – Zoom room opens\n7:10am – to be seated on cushions\n7:15am – Robe Chant to be followed by bell (ringing 3 times)\n7:45am – End of sitting
URL:https://saltspringzencircle.org/event/morning-zazen-146/2024-08-09/
END:VEVENT
BEGIN:VEVENT
DTSTART;TZID=America/Vancouver:20240811T070000
DTEND;TZID=America/Vancouver:20240811T100000
DTSTAMP:20260424T211823
CREATED:20240210T171628Z
LAST-MODIFIED:20240418T175256Z
UID:10001311-1723359600-1723370400@saltspringzencircle.org
SUMMARY:Sit'n Study
DESCRIPTION:Sit’n Study: Sittings are optional. Sitting: 7am-7:45am – Kinhin: 7:45am-8am – Sitting: 8am-8:45am – Break\nLeader:Bert Lamsa –“It Is What It Is” from The Truth of This Life by Katherine Thanas (Shambhala Publications Inc. 2018) 
URL:https://saltspringzencircle.org/event/sitn-study-96/
CATEGORIES:Sit 'n' Study
END:VEVENT
BEGIN:VEVENT
DTSTART;TZID=America/Vancouver:20240812T071500
DTEND;TZID=America/Vancouver:20240812T074500
DTSTAMP:20260424T211823
CREATED:20231231T205735Z
LAST-MODIFIED:20231231T205735Z
UID:10000643-1723446900-1723448700@saltspringzencircle.org
SUMMARY:Morning Zazen
DESCRIPTION:7:05am – Zoom room opens\n7:10am – to be seated on cushions\n7:15am – Robe Chant to be followed by bell (ringing 3 times)\n7:45am – End of sitting
URL:https://saltspringzencircle.org/event/morning-zazen-145/2024-08-12/
CATEGORIES:Morning Zazen
END:VEVENT
BEGIN:VEVENT
DTSTART;TZID=America/Vancouver:20240814T190000
DTEND;TZID=America/Vancouver:20240814T210000
DTSTAMP:20260424T211823
CREATED:20231231T034335Z
LAST-MODIFIED:20240104T225032Z
UID:10000794-1723662000-1723669200@saltspringzencircle.org
SUMMARY:Evening Zazen
DESCRIPTION:In-Person Evening Zazen with Zoom option at All Saints by-the-Sea Anglican Church\, Upper Hall\, 110 Park Drive\, Ganges 
URL:https://saltspringzencircle.org/event/evening-zazen-69/2024-08-14/
CATEGORIES:Evening Zazen
END:VEVENT
BEGIN:VEVENT
DTSTART;TZID=America/Vancouver:20240816T070500
DTEND;TZID=America/Vancouver:20240816T074500
DTSTAMP:20260424T211823
CREATED:20231231T215406Z
LAST-MODIFIED:20231231T215720Z
UID:10000745-1723791900-1723794300@saltspringzencircle.org
SUMMARY:Morning Zazen
DESCRIPTION:7:05am – Zoom room opens\n7:10am – to be seated on cushions\n7:15am – Robe Chant to be followed by bell (ringing 3 times)\n7:45am – End of sitting
URL:https://saltspringzencircle.org/event/morning-zazen-146/2024-08-16/
END:VEVENT
BEGIN:VEVENT
DTSTART;TZID=America/Vancouver:20240819T071500
DTEND;TZID=America/Vancouver:20240819T074500
DTSTAMP:20260424T211823
CREATED:20231231T205735Z
LAST-MODIFIED:20231231T205735Z
UID:10000644-1724051700-1724053500@saltspringzencircle.org
SUMMARY:Morning Zazen
DESCRIPTION:7:05am – Zoom room opens\n7:10am – to be seated on cushions\n7:15am – Robe Chant to be followed by bell (ringing 3 times)\n7:45am – End of sitting
URL:https://saltspringzencircle.org/event/morning-zazen-145/2024-08-19/
CATEGORIES:Morning Zazen
END:VEVENT
BEGIN:VEVENT
DTSTART;TZID=America/Vancouver:20240821T190000
DTEND;TZID=America/Vancouver:20240821T210000
DTSTAMP:20260424T211823
CREATED:20240820T175932Z
LAST-MODIFIED:20240820T180355Z
UID:10000795-1724266800-1724274000@saltspringzencircle.org
SUMMARY:No Evening Zazen
DESCRIPTION:No Evening Zazen — Summer Break
URL:https://saltspringzencircle.org/event/evening-zazen-69-3/
CATEGORIES:Evening Zazen
END:VEVENT
BEGIN:VEVENT
DTSTART;TZID=America/Vancouver:20240823T070500
DTEND;TZID=America/Vancouver:20240823T074500
DTSTAMP:20260424T211823
CREATED:20231231T215406Z
LAST-MODIFIED:20231231T215720Z
UID:10000746-1724396700-1724399100@saltspringzencircle.org
SUMMARY:Morning Zazen
DESCRIPTION:7:05am – Zoom room opens\n7:10am – to be seated on cushions\n7:15am – Robe Chant to be followed by bell (ringing 3 times)\n7:45am – End of sitting
URL:https://saltspringzencircle.org/event/morning-zazen-146/2024-08-23/
END:VEVENT
BEGIN:VEVENT
DTSTART;TZID=America/Vancouver:20240826T071500
DTEND;TZID=America/Vancouver:20240826T074500
DTSTAMP:20260424T211823
CREATED:20231231T205735Z
LAST-MODIFIED:20231231T205735Z
UID:10000645-1724656500-1724658300@saltspringzencircle.org
SUMMARY:Morning Zazen
DESCRIPTION:7:05am – Zoom room opens\n7:10am – to be seated on cushions\n7:15am – Robe Chant to be followed by bell (ringing 3 times)\n7:45am – End of sitting
URL:https://saltspringzencircle.org/event/morning-zazen-145/2024-08-26/
CATEGORIES:Morning Zazen
END:VEVENT
BEGIN:VEVENT
DTSTART;TZID=America/Vancouver:20240828T190000
DTEND;TZID=America/Vancouver:20240828T210000
DTSTAMP:20260424T211823
CREATED:20240820T180304Z
LAST-MODIFIED:20240820T180307Z
UID:10000796-1724871600-1724878800@saltspringzencircle.org
SUMMARY:No Evening Zazen
DESCRIPTION:No Evening Zazen — Summer Break 
URL:https://saltspringzencircle.org/event/evening-zazen-69-4/
CATEGORIES:Evening Zazen
END:VEVENT
BEGIN:VEVENT
DTSTART;TZID=America/Vancouver:20240830T070500
DTEND;TZID=America/Vancouver:20240830T074500
DTSTAMP:20260424T211823
CREATED:20231231T215406Z
LAST-MODIFIED:20231231T215720Z
UID:10000747-1725001500-1725003900@saltspringzencircle.org
SUMMARY:Morning Zazen
DESCRIPTION:7:05am – Zoom room opens\n7:10am – to be seated on cushions\n7:15am – Robe Chant to be followed by bell (ringing 3 times)\n7:45am – End of sitting
URL:https://saltspringzencircle.org/event/morning-zazen-146/2024-08-30/
END:VEVENT
END:VCALENDAR