BEGIN:VCALENDAR
VERSION:2.0
PRODID:-// - ECPv6.15.20//NONSGML v1.0//EN
CALSCALE:GREGORIAN
METHOD:PUBLISH
X-ORIGINAL-URL:https://saltspringzencircle.org
X-WR-CALDESC:Events for 
REFRESH-INTERVAL;VALUE=DURATION:PT1H
X-Robots-Tag:noindex
X-PUBLISHED-TTL:PT1H
BEGIN:VTIMEZONE
TZID:America/Vancouver
BEGIN:DAYLIGHT
TZOFFSETFROM:-0800
TZOFFSETTO:-0700
TZNAME:PDT
DTSTART:20230312T100000
END:DAYLIGHT
BEGIN:STANDARD
TZOFFSETFROM:-0700
TZOFFSETTO:-0800
TZNAME:PST
DTSTART:20231105T090000
END:STANDARD
BEGIN:DAYLIGHT
TZOFFSETFROM:-0800
TZOFFSETTO:-0700
TZNAME:PDT
DTSTART:20240310T100000
END:DAYLIGHT
BEGIN:STANDARD
TZOFFSETFROM:-0700
TZOFFSETTO:-0800
TZNAME:PST
DTSTART:20241103T090000
END:STANDARD
BEGIN:DAYLIGHT
TZOFFSETFROM:-0800
TZOFFSETTO:-0700
TZNAME:PDT
DTSTART:20250309T100000
END:DAYLIGHT
BEGIN:STANDARD
TZOFFSETFROM:-0700
TZOFFSETTO:-0800
TZNAME:PST
DTSTART:20251102T090000
END:STANDARD
END:VTIMEZONE
BEGIN:VEVENT
DTSTART;TZID=America/Vancouver:20241201T070000
DTEND;TZID=America/Vancouver:20241201T100000
DTSTAMP:20260424T122613
CREATED:20240730T190706Z
LAST-MODIFIED:20241128T021643Z
UID:10001325-1733036400-1733047200@saltspringzencircle.org
SUMMARY:Sit'n Study
DESCRIPTION:Sit’n Study: Sittings are optional. Sitting: 7am-7:45am – Kinhin: 7:45am-8am – Sitting: 8am-8:45am – Break\nLeader: Rory MacDonald: The Book of Householder Koans: Myoki: Opening P.117
URL:https://saltspringzencircle.org/event/sitn-study-109/
CATEGORIES:Sit 'n' Study
END:VEVENT
BEGIN:VEVENT
DTSTART;TZID=America/Vancouver:20241202T071500
DTEND;TZID=America/Vancouver:20241202T074500
DTSTAMP:20260424T122613
CREATED:20231231T205735Z
LAST-MODIFIED:20231231T205735Z
UID:10000659-1733123700-1733125500@saltspringzencircle.org
SUMMARY:Morning Zazen
DESCRIPTION:7:05am – Zoom room opens\n7:10am – to be seated on cushions\n7:15am – Robe Chant to be followed by bell (ringing 3 times)\n7:45am – End of sitting
URL:https://saltspringzencircle.org/event/morning-zazen-145/2024-12-02/
CATEGORIES:Morning Zazen
END:VEVENT
BEGIN:VEVENT
DTSTART;TZID=America/Vancouver:20241206T070500
DTEND;TZID=America/Vancouver:20241206T074500
DTSTAMP:20260424T122613
CREATED:20231231T215406Z
LAST-MODIFIED:20231231T215720Z
UID:10000761-1733468700-1733471100@saltspringzencircle.org
SUMMARY:Morning Zazen
DESCRIPTION:7:05am – Zoom room opens\n7:10am – to be seated on cushions\n7:15am – Robe Chant to be followed by bell (ringing 3 times)\n7:45am – End of sitting
URL:https://saltspringzencircle.org/event/morning-zazen-146/2024-12-06/
END:VEVENT
BEGIN:VEVENT
DTSTART;TZID=America/Vancouver:20241208T070000
DTEND;TZID=America/Vancouver:20241208T100000
DTSTAMP:20260424T122613
CREATED:20240730T191231Z
LAST-MODIFIED:20241004T173605Z
UID:10001326-1733641200-1733652000@saltspringzencircle.org
SUMMARY:Sit'n Study
DESCRIPTION:Sit’n Study: Sittings are optional. Sitting: 7am-7:45am – Kinhin: 7:45am-8am – Sitting: 8am-8:45am – Break\nLeader: Mary Reher: The Book of Householder Koans: Jinen: Daniel’s Teeth P.108
URL:https://saltspringzencircle.org/event/sitn-study-110/
CATEGORIES:Sit 'n' Study
END:VEVENT
BEGIN:VEVENT
DTSTART;TZID=America/Vancouver:20241209T071500
DTEND;TZID=America/Vancouver:20241209T074500
DTSTAMP:20260424T122613
CREATED:20231231T205735Z
LAST-MODIFIED:20231231T205735Z
UID:10000660-1733728500-1733730300@saltspringzencircle.org
SUMMARY:Morning Zazen
DESCRIPTION:7:05am – Zoom room opens\n7:10am – to be seated on cushions\n7:15am – Robe Chant to be followed by bell (ringing 3 times)\n7:45am – End of sitting
URL:https://saltspringzencircle.org/event/morning-zazen-145/2024-12-09/
CATEGORIES:Morning Zazen
END:VEVENT
BEGIN:VEVENT
DTSTART;TZID=America/Vancouver:20241211T190000
DTEND;TZID=America/Vancouver:20241211T210000
DTSTAMP:20260424T122613
CREATED:20231231T034335Z
LAST-MODIFIED:20240104T225032Z
UID:10000811-1733943600-1733950800@saltspringzencircle.org
SUMMARY:Evening Zazen
DESCRIPTION:In-Person Evening Zazen with Zoom option at All Saints by-the-Sea Anglican Church\, Upper Hall\, 110 Park Drive\, Ganges 
URL:https://saltspringzencircle.org/event/evening-zazen-69/2024-12-11/
CATEGORIES:Evening Zazen
END:VEVENT
BEGIN:VEVENT
DTSTART;TZID=America/Vancouver:20241213T070500
DTEND;TZID=America/Vancouver:20241213T074500
DTSTAMP:20260424T122613
CREATED:20231231T215406Z
LAST-MODIFIED:20231231T215720Z
UID:10000762-1734073500-1734075900@saltspringzencircle.org
SUMMARY:Morning Zazen
DESCRIPTION:7:05am – Zoom room opens\n7:10am – to be seated on cushions\n7:15am – Robe Chant to be followed by bell (ringing 3 times)\n7:45am – End of sitting
URL:https://saltspringzencircle.org/event/morning-zazen-146/2024-12-13/
END:VEVENT
BEGIN:VEVENT
DTSTART;TZID=America/Vancouver:20241215T070000
DTEND;TZID=America/Vancouver:20241215T100000
DTSTAMP:20260424T122613
CREATED:20240730T191719Z
LAST-MODIFIED:20240823T224041Z
UID:10001327-1734246000-1734256800@saltspringzencircle.org
SUMMARY:Sit'n Study
DESCRIPTION:Sit’n Study: Sittings are optional. Sitting: 7am-7:45am – Kinhin: 7:45am-8am – Sitting: 8am-8:45am – Break\nLeader: Maggie Tuck: The Book of Householder Koans: Ando Feeds Her Hungry Spirit P.256
URL:https://saltspringzencircle.org/event/sitn-study-111/
CATEGORIES:Sit 'n' Study
END:VEVENT
BEGIN:VEVENT
DTSTART;TZID=America/Vancouver:20241216T071500
DTEND;TZID=America/Vancouver:20241216T074500
DTSTAMP:20260424T122613
CREATED:20231231T205735Z
LAST-MODIFIED:20231231T205735Z
UID:10000661-1734333300-1734335100@saltspringzencircle.org
SUMMARY:Morning Zazen
DESCRIPTION:7:05am – Zoom room opens\n7:10am – to be seated on cushions\n7:15am – Robe Chant to be followed by bell (ringing 3 times)\n7:45am – End of sitting
URL:https://saltspringzencircle.org/event/morning-zazen-145/2024-12-16/
CATEGORIES:Morning Zazen
END:VEVENT
BEGIN:VEVENT
DTSTART;TZID=America/Vancouver:20241218T190000
DTEND;TZID=America/Vancouver:20241218T210000
DTSTAMP:20260424T122613
CREATED:20231231T034335Z
LAST-MODIFIED:20240104T225032Z
UID:10000812-1734548400-1734555600@saltspringzencircle.org
SUMMARY:Evening Zazen
DESCRIPTION:In-Person Evening Zazen with Zoom option at All Saints by-the-Sea Anglican Church\, Upper Hall\, 110 Park Drive\, Ganges 
URL:https://saltspringzencircle.org/event/evening-zazen-69/2024-12-18/
CATEGORIES:Evening Zazen
END:VEVENT
BEGIN:VEVENT
DTSTART;TZID=America/Vancouver:20241220T070500
DTEND;TZID=America/Vancouver:20241220T074500
DTSTAMP:20260424T122613
CREATED:20231231T215406Z
LAST-MODIFIED:20231231T215720Z
UID:10000763-1734678300-1734680700@saltspringzencircle.org
SUMMARY:Morning Zazen
DESCRIPTION:7:05am – Zoom room opens\n7:10am – to be seated on cushions\n7:15am – Robe Chant to be followed by bell (ringing 3 times)\n7:45am – End of sitting
URL:https://saltspringzencircle.org/event/morning-zazen-146/2024-12-20/
END:VEVENT
BEGIN:VEVENT
DTSTART;TZID=America/Vancouver:20241225T190000
DTEND;TZID=America/Vancouver:20241225T210000
DTSTAMP:20260424T122613
CREATED:20231231T034335Z
LAST-MODIFIED:20240104T225032Z
UID:10000813-1735153200-1735160400@saltspringzencircle.org
SUMMARY:Evening Zazen
DESCRIPTION:In-Person Evening Zazen with Zoom option at All Saints by-the-Sea Anglican Church\, Upper Hall\, 110 Park Drive\, Ganges 
URL:https://saltspringzencircle.org/event/evening-zazen-69/2024-12-25/
CATEGORIES:Evening Zazen
END:VEVENT
END:VCALENDAR