BEGIN:VCALENDAR
VERSION:2.0
PRODID:-// - ECPv6.15.20//NONSGML v1.0//EN
CALSCALE:GREGORIAN
METHOD:PUBLISH
X-ORIGINAL-URL:https://saltspringzencircle.org
X-WR-CALDESC:Events for 
REFRESH-INTERVAL;VALUE=DURATION:PT1H
X-Robots-Tag:noindex
X-PUBLISHED-TTL:PT1H
BEGIN:VTIMEZONE
TZID:America/Vancouver
BEGIN:DAYLIGHT
TZOFFSETFROM:-0800
TZOFFSETTO:-0700
TZNAME:PDT
DTSTART:20240310T100000
END:DAYLIGHT
BEGIN:STANDARD
TZOFFSETFROM:-0700
TZOFFSETTO:-0800
TZNAME:PST
DTSTART:20241103T090000
END:STANDARD
BEGIN:DAYLIGHT
TZOFFSETFROM:-0800
TZOFFSETTO:-0700
TZNAME:PDT
DTSTART:20250309T100000
END:DAYLIGHT
BEGIN:STANDARD
TZOFFSETFROM:-0700
TZOFFSETTO:-0800
TZNAME:PST
DTSTART:20251102T090000
END:STANDARD
BEGIN:DAYLIGHT
TZOFFSETFROM:-0800
TZOFFSETTO:-0700
TZNAME:PDT
DTSTART:20260308T100000
END:DAYLIGHT
BEGIN:STANDARD
TZOFFSETFROM:-0700
TZOFFSETTO:-0800
TZNAME:PST
DTSTART:20261101T090000
END:STANDARD
END:VTIMEZONE
BEGIN:VEVENT
DTSTART;TZID=America/Vancouver:20251001T190000
DTEND;TZID=America/Vancouver:20251001T210000
DTSTAMP:20260423T164223
CREATED:20250808T003234Z
LAST-MODIFIED:20250808T003237Z
UID:10000853-1759345200-1759352400@saltspringzencircle.org
SUMMARY:Evening Zazen Ango Practice
DESCRIPTION:In-Person Evening Zazen with Zoom option at All Saints by-the-Sea Anglican Church\, Upper Hall\, 110 Park Drive\, Ganges 
URL:https://saltspringzencircle.org/event/evening-zazen-69-14/
CATEGORIES:Evening Zazen
END:VEVENT
BEGIN:VEVENT
DTSTART;TZID=America/Vancouver:20251002T110000
DTEND;TZID=America/Vancouver:20251005T170000
DTSTAMP:20260423T164223
CREATED:20241106T220147Z
LAST-MODIFIED:20241106T220836Z
UID:10001333-1759402800-1759683600@saltspringzencircle.org
SUMMARY:Salt Spring Zen Circle Fall Sesshin - October 2-5 2025
DESCRIPTION:The Fall Sesshin will be held at Beaver Point Hall and will start with Set-Up on October 2.
URL:https://saltspringzencircle.org/event/salt-spring-zen-circle-fall-sesshin-october-2-5-2025/
CATEGORIES:Sesshins
END:VEVENT
BEGIN:VEVENT
DTSTART;TZID=America/Vancouver:20251003T070000
DTEND;TZID=America/Vancouver:20251003T074500
DTSTAMP:20260423T164223
CREATED:20250103T155802Z
LAST-MODIFIED:20250103T183152Z
UID:10001650-1759474800-1759477500@saltspringzencircle.org
SUMMARY:Morning Zazen
DESCRIPTION:Please be seated by 7am
URL:https://saltspringzencircle.org/event/morning-zazen-150/2025-10-03/
CATEGORIES:Morning Zazen
END:VEVENT
BEGIN:VEVENT
DTSTART;TZID=America/Vancouver:20251005T070000
DTEND;TZID=America/Vancouver:20251005T100000
DTSTAMP:20260423T164223
CREATED:20250220T235844Z
LAST-MODIFIED:20250221T000651Z
UID:10001894-1759647600-1759658400@saltspringzencircle.org
SUMMARY:
DESCRIPTION:Sit’n Study: Sittings are optional. Sitting: 7am-7:45am – Kinhin: 7:45am-8am – Sitting: 8am-8:45am –  Break Study:  9am-10am Leader: TBA: Satsujo Weeps  P.179 From: The Hidden Lamp: Stories from Twenty-Five Centuries of Awakened Women\, edited by Florence Caplow and Susan Moon. Published by Wisdom Publications.
URL:https://saltspringzencircle.org/event/5085/2025-10-05/
CATEGORIES:Sit 'n' Study
END:VEVENT
BEGIN:VEVENT
DTSTART;TZID=America/Vancouver:20251005T080000
DTEND;TZID=America/Vancouver:20251005T170000
DTSTAMP:20260423T164223
CREATED:20250808T005019Z
LAST-MODIFIED:20250808T005019Z
UID:10002207-1759651200-1759683600@saltspringzencircle.org
SUMMARY:Sesshin Ango Practice
DESCRIPTION:Ango Practice will be included in Fall Sesshin
URL:https://saltspringzencircle.org/event/sesshin-ango-practice/
END:VEVENT
BEGIN:VEVENT
DTSTART;TZID=America/Vancouver:20251006T070000
DTEND;TZID=America/Vancouver:20251006T074500
DTSTAMP:20260423T164223
CREATED:20250103T155503Z
LAST-MODIFIED:20250103T155503Z
UID:10001387-1759734000-1759736700@saltspringzencircle.org
SUMMARY:Morning Zazen
DESCRIPTION:
URL:https://saltspringzencircle.org/event/morning-zazen-149/2025-10-06/
CATEGORIES:Morning Zazen
END:VEVENT
BEGIN:VEVENT
DTSTART;TZID=America/Vancouver:20251008T190000
DTEND;TZID=America/Vancouver:20251008T210000
DTSTAMP:20260423T164223
CREATED:20250808T003401Z
LAST-MODIFIED:20250808T003404Z
UID:10000854-1759950000-1759957200@saltspringzencircle.org
SUMMARY:Evening Zazen Ango Practice
DESCRIPTION:In-Person Evening Zazen with Zoom option at All Saints by-the-Sea Anglican Church\, Upper Hall\, 110 Park Drive\, Ganges 
URL:https://saltspringzencircle.org/event/evening-zazen-69-15/
CATEGORIES:Evening Zazen
END:VEVENT
BEGIN:VEVENT
DTSTART;TZID=America/Vancouver:20251010T070000
DTEND;TZID=America/Vancouver:20251010T074500
DTSTAMP:20260423T164223
CREATED:20250103T155802Z
LAST-MODIFIED:20250103T183152Z
UID:10001651-1760079600-1760082300@saltspringzencircle.org
SUMMARY:Morning Zazen
DESCRIPTION:Please be seated by 7am
URL:https://saltspringzencircle.org/event/morning-zazen-150/2025-10-10/
CATEGORIES:Morning Zazen
END:VEVENT
BEGIN:VEVENT
DTSTART;TZID=America/Vancouver:20251012T070000
DTEND;TZID=America/Vancouver:20251012T100000
DTSTAMP:20260423T164223
CREATED:20250220T235844Z
LAST-MODIFIED:20250221T000651Z
UID:10001895-1760252400-1760263200@saltspringzencircle.org
SUMMARY:
DESCRIPTION:Sit’n Study: Sittings are optional. Sitting: 7am-7:45am – Kinhin: 7:45am-8am – Sitting: 8am-8:45am –  Break Study:  9am-10am Leader: TBA: Satsujo Weeps  P.179 From: The Hidden Lamp: Stories from Twenty-Five Centuries of Awakened Women\, edited by Florence Caplow and Susan Moon. Published by Wisdom Publications.
URL:https://saltspringzencircle.org/event/5085/2025-10-12/
CATEGORIES:Sit 'n' Study
END:VEVENT
BEGIN:VEVENT
DTSTART;TZID=America/Vancouver:20251012T083000
DTEND;TZID=America/Vancouver:20251012T100000
DTSTAMP:20260423T164223
CREATED:20250808T005300Z
LAST-MODIFIED:20250808T005300Z
UID:10002208-1760257800-1760263200@saltspringzencircle.org
SUMMARY:Sit'n Study Ango Practice
DESCRIPTION:Please note the new Ango Practice start time
URL:https://saltspringzencircle.org/event/sitn-study-ango-practice-4/
END:VEVENT
BEGIN:VEVENT
DTSTART;TZID=America/Vancouver:20251013T070000
DTEND;TZID=America/Vancouver:20251013T074500
DTSTAMP:20260423T164223
CREATED:20250103T155503Z
LAST-MODIFIED:20250103T155503Z
UID:10001388-1760338800-1760341500@saltspringzencircle.org
SUMMARY:Morning Zazen
DESCRIPTION:
URL:https://saltspringzencircle.org/event/morning-zazen-149/2025-10-13/
CATEGORIES:Morning Zazen
END:VEVENT
BEGIN:VEVENT
DTSTART;TZID=America/Vancouver:20251015T190000
DTEND;TZID=America/Vancouver:20251015T210000
DTSTAMP:20260423T164223
CREATED:20250808T003547Z
LAST-MODIFIED:20250808T003550Z
UID:10000855-1760554800-1760562000@saltspringzencircle.org
SUMMARY:Evening Zazen Ango Practice
DESCRIPTION:In-Person Evening Zazen with Zoom option at All Saints by-the-Sea Anglican Church\, Upper Hall\, 110 Park Drive\, Ganges 
URL:https://saltspringzencircle.org/event/evening-zazen-69-16/
CATEGORIES:Evening Zazen
END:VEVENT
BEGIN:VEVENT
DTSTART;TZID=America/Vancouver:20251017T070000
DTEND;TZID=America/Vancouver:20251017T074500
DTSTAMP:20260423T164223
CREATED:20250103T155802Z
LAST-MODIFIED:20250103T183152Z
UID:10001652-1760684400-1760687100@saltspringzencircle.org
SUMMARY:Morning Zazen
DESCRIPTION:Please be seated by 7am
URL:https://saltspringzencircle.org/event/morning-zazen-150/2025-10-17/
CATEGORIES:Morning Zazen
END:VEVENT
BEGIN:VEVENT
DTSTART;TZID=America/Vancouver:20251019T070000
DTEND;TZID=America/Vancouver:20251019T100000
DTSTAMP:20260423T164223
CREATED:20250220T235844Z
LAST-MODIFIED:20250221T000651Z
UID:10001896-1760857200-1760868000@saltspringzencircle.org
SUMMARY:
DESCRIPTION:Sit’n Study: Sittings are optional. Sitting: 7am-7:45am – Kinhin: 7:45am-8am – Sitting: 8am-8:45am –  Break Study:  9am-10am Leader: TBA: Satsujo Weeps  P.179 From: The Hidden Lamp: Stories from Twenty-Five Centuries of Awakened Women\, edited by Florence Caplow and Susan Moon. Published by Wisdom Publications.
URL:https://saltspringzencircle.org/event/5085/2025-10-19/
CATEGORIES:Sit 'n' Study
END:VEVENT
BEGIN:VEVENT
DTSTART;TZID=America/Vancouver:20251019T080000
DTEND;TZID=America/Vancouver:20251019T150000
DTSTAMP:20260423T164223
CREATED:20250808T005508Z
LAST-MODIFIED:20251014T195041Z
UID:10002209-1760860800-1760886000@saltspringzencircle.org
SUMMARY:Half-Day Sit -  Ango Practice Closing Ceremony
DESCRIPTION:8:00 am – 3:00pm Half-Day Sit and Ango Closing Ceremony\, in person at 210 Cedar Lane and online.
URL:https://saltspringzencircle.org/event/sitn-study-ango-practice-5/
CATEGORIES:Sit 'n' Study
END:VEVENT
BEGIN:VEVENT
DTSTART;TZID=America/Vancouver:20251020T070000
DTEND;TZID=America/Vancouver:20251020T074500
DTSTAMP:20260423T164223
CREATED:20250103T155503Z
LAST-MODIFIED:20250103T155503Z
UID:10001389-1760943600-1760946300@saltspringzencircle.org
SUMMARY:Morning Zazen
DESCRIPTION:
URL:https://saltspringzencircle.org/event/morning-zazen-149/2025-10-20/
CATEGORIES:Morning Zazen
END:VEVENT
BEGIN:VEVENT
DTSTART;TZID=America/Vancouver:20251022T190000
DTEND;TZID=America/Vancouver:20251022T210000
DTSTAMP:20260423T164223
CREATED:20250808T003651Z
LAST-MODIFIED:20250808T003656Z
UID:10000856-1761159600-1761166800@saltspringzencircle.org
SUMMARY:Evening Zazen Ango Practice
DESCRIPTION:In-Person Evening Zazen with Zoom option at All Saints by-the-Sea Anglican Church\, Upper Hall\, 110 Park Drive\, Ganges 
URL:https://saltspringzencircle.org/event/evening-zazen-69-17/
CATEGORIES:Evening Zazen
END:VEVENT
BEGIN:VEVENT
DTSTART;TZID=America/Vancouver:20251024T070000
DTEND;TZID=America/Vancouver:20251024T074500
DTSTAMP:20260423T164223
CREATED:20250103T155802Z
LAST-MODIFIED:20250103T183152Z
UID:10001653-1761289200-1761291900@saltspringzencircle.org
SUMMARY:Morning Zazen
DESCRIPTION:Please be seated by 7am
URL:https://saltspringzencircle.org/event/morning-zazen-150/2025-10-24/
CATEGORIES:Morning Zazen
END:VEVENT
BEGIN:VEVENT
DTSTART;TZID=America/Vancouver:20251026T070000
DTEND;TZID=America/Vancouver:20251026T100000
DTSTAMP:20260423T164223
CREATED:20250220T235844Z
LAST-MODIFIED:20250221T000651Z
UID:10001897-1761462000-1761472800@saltspringzencircle.org
SUMMARY:
DESCRIPTION:Sit’n Study: Sittings are optional. Sitting: 7am-7:45am – Kinhin: 7:45am-8am – Sitting: 8am-8:45am –  Break Study:  9am-10am Leader: TBA: Satsujo Weeps  P.179 From: The Hidden Lamp: Stories from Twenty-Five Centuries of Awakened Women\, edited by Florence Caplow and Susan Moon. Published by Wisdom Publications.
URL:https://saltspringzencircle.org/event/5085/2025-10-26/
CATEGORIES:Sit 'n' Study
END:VEVENT
BEGIN:VEVENT
DTSTART;TZID=America/Vancouver:20251026T070000
DTEND;TZID=America/Vancouver:20251026T100000
DTSTAMP:20260423T164223
CREATED:20251021T002745Z
LAST-MODIFIED:20251214T005051Z
UID:10002211-1761462000-1761472800@saltspringzencircle.org
SUMMARY:Sit'n Study
DESCRIPTION:Sit’n Study: Sittings are optional. Sitting: 7am-7:45am – Kinhin: 7:45am-8am – Sitting: 8am-8:45am –  Break Study:  9am-10am Leader: Judy Daylen: A Practitioner’s Guide to Inside Vasubandhu’s Yogacara: Epilogue: Meditation and Compassionate Action\, and the Thirty Verses by Ben Connelly\, Wisdom Publishing 2016
URL:https://saltspringzencircle.org/event/sitn-study-144/
CATEGORIES:Sit 'n' Study
END:VEVENT
BEGIN:VEVENT
DTSTART;TZID=America/Vancouver:20251027T070000
DTEND;TZID=America/Vancouver:20251027T074500
DTSTAMP:20260423T164223
CREATED:20250103T155503Z
LAST-MODIFIED:20250103T155503Z
UID:10001390-1761548400-1761551100@saltspringzencircle.org
SUMMARY:Morning Zazen
DESCRIPTION:
URL:https://saltspringzencircle.org/event/morning-zazen-149/2025-10-27/
CATEGORIES:Morning Zazen
END:VEVENT
BEGIN:VEVENT
DTSTART;TZID=America/Vancouver:20251029T190000
DTEND;TZID=America/Vancouver:20251029T210000
DTSTAMP:20260423T164223
CREATED:20231231T034335Z
LAST-MODIFIED:20240104T225032Z
UID:10000857-1761764400-1761771600@saltspringzencircle.org
SUMMARY:Evening Zazen
DESCRIPTION:In-Person Evening Zazen with Zoom option at All Saints by-the-Sea Anglican Church\, Upper Hall\, 110 Park Drive\, Ganges 
URL:https://saltspringzencircle.org/event/evening-zazen-69/2025-10-29/
CATEGORIES:Evening Zazen
END:VEVENT
BEGIN:VEVENT
DTSTART;TZID=America/Vancouver:20251031T070000
DTEND;TZID=America/Vancouver:20251031T074500
DTSTAMP:20260423T164223
CREATED:20250103T155802Z
LAST-MODIFIED:20250103T183152Z
UID:10001654-1761894000-1761896700@saltspringzencircle.org
SUMMARY:Morning Zazen
DESCRIPTION:Please be seated by 7am
URL:https://saltspringzencircle.org/event/morning-zazen-150/2025-10-31/
CATEGORIES:Morning Zazen
END:VEVENT
END:VCALENDAR