BEGIN:VCALENDAR
VERSION:2.0
PRODID:-// - ECPv6.15.20//NONSGML v1.0//EN
CALSCALE:GREGORIAN
METHOD:PUBLISH
X-ORIGINAL-URL:https://saltspringzencircle.org
X-WR-CALDESC:Events for 
REFRESH-INTERVAL;VALUE=DURATION:PT1H
X-Robots-Tag:noindex
X-PUBLISHED-TTL:PT1H
BEGIN:VTIMEZONE
TZID:America/Vancouver
BEGIN:DAYLIGHT
TZOFFSETFROM:-0800
TZOFFSETTO:-0700
TZNAME:PDT
DTSTART:20250309T100000
END:DAYLIGHT
BEGIN:STANDARD
TZOFFSETFROM:-0700
TZOFFSETTO:-0800
TZNAME:PST
DTSTART:20251102T090000
END:STANDARD
BEGIN:DAYLIGHT
TZOFFSETFROM:-0800
TZOFFSETTO:-0700
TZNAME:PDT
DTSTART:20260308T100000
END:DAYLIGHT
BEGIN:STANDARD
TZOFFSETFROM:-0700
TZOFFSETTO:-0800
TZNAME:PST
DTSTART:20261101T090000
END:STANDARD
BEGIN:DAYLIGHT
TZOFFSETFROM:-0800
TZOFFSETTO:-0700
TZNAME:PDT
DTSTART:20270314T100000
END:DAYLIGHT
BEGIN:STANDARD
TZOFFSETFROM:-0700
TZOFFSETTO:-0800
TZNAME:PST
DTSTART:20271107T090000
END:STANDARD
END:VTIMEZONE
BEGIN:VEVENT
DTSTART;TZID=America/Vancouver:20260427T070000
DTEND;TZID=America/Vancouver:20260427T074500
DTSTAMP:20260423T081211
CREATED:20250103T155503Z
LAST-MODIFIED:20250103T155503Z
UID:10001416-1777273200-1777275900@saltspringzencircle.org
SUMMARY:Morning Zazen
DESCRIPTION:
URL:https://saltspringzencircle.org/event/morning-zazen-149/2026-04-27/
CATEGORIES:Morning Zazen
END:VEVENT
BEGIN:VEVENT
DTSTART;TZID=America/Vancouver:20260504T070000
DTEND;TZID=America/Vancouver:20260504T074500
DTSTAMP:20260423T081211
CREATED:20250103T155503Z
LAST-MODIFIED:20250103T155503Z
UID:10001417-1777878000-1777880700@saltspringzencircle.org
SUMMARY:Morning Zazen
DESCRIPTION:
URL:https://saltspringzencircle.org/event/morning-zazen-149/2026-05-04/
CATEGORIES:Morning Zazen
END:VEVENT
BEGIN:VEVENT
DTSTART;TZID=America/Vancouver:20260511T070000
DTEND;TZID=America/Vancouver:20260511T074500
DTSTAMP:20260423T081211
CREATED:20250103T155503Z
LAST-MODIFIED:20250103T155503Z
UID:10001418-1778482800-1778485500@saltspringzencircle.org
SUMMARY:Morning Zazen
DESCRIPTION:
URL:https://saltspringzencircle.org/event/morning-zazen-149/2026-05-11/
CATEGORIES:Morning Zazen
END:VEVENT
BEGIN:VEVENT
DTSTART;TZID=America/Vancouver:20260518T070000
DTEND;TZID=America/Vancouver:20260518T074500
DTSTAMP:20260423T081211
CREATED:20250103T155503Z
LAST-MODIFIED:20250103T155503Z
UID:10001419-1779087600-1779090300@saltspringzencircle.org
SUMMARY:Morning Zazen
DESCRIPTION:
URL:https://saltspringzencircle.org/event/morning-zazen-149/2026-05-18/
CATEGORIES:Morning Zazen
END:VEVENT
BEGIN:VEVENT
DTSTART;TZID=America/Vancouver:20260525T070000
DTEND;TZID=America/Vancouver:20260525T074500
DTSTAMP:20260423T081211
CREATED:20250103T155503Z
LAST-MODIFIED:20250103T155503Z
UID:10001420-1779692400-1779695100@saltspringzencircle.org
SUMMARY:Morning Zazen
DESCRIPTION:
URL:https://saltspringzencircle.org/event/morning-zazen-149/2026-05-25/
CATEGORIES:Morning Zazen
END:VEVENT
BEGIN:VEVENT
DTSTART;TZID=America/Vancouver:20260601T070000
DTEND;TZID=America/Vancouver:20260601T074500
DTSTAMP:20260423T081211
CREATED:20250103T155503Z
LAST-MODIFIED:20250103T155503Z
UID:10001421-1780297200-1780299900@saltspringzencircle.org
SUMMARY:Morning Zazen
DESCRIPTION:
URL:https://saltspringzencircle.org/event/morning-zazen-149/2026-06-01/
CATEGORIES:Morning Zazen
END:VEVENT
BEGIN:VEVENT
DTSTART;TZID=America/Vancouver:20260608T070000
DTEND;TZID=America/Vancouver:20260608T074500
DTSTAMP:20260423T081211
CREATED:20250103T155503Z
LAST-MODIFIED:20250103T155503Z
UID:10001422-1780902000-1780904700@saltspringzencircle.org
SUMMARY:Morning Zazen
DESCRIPTION:
URL:https://saltspringzencircle.org/event/morning-zazen-149/2026-06-08/
CATEGORIES:Morning Zazen
END:VEVENT
BEGIN:VEVENT
DTSTART;TZID=America/Vancouver:20260615T070000
DTEND;TZID=America/Vancouver:20260615T074500
DTSTAMP:20260423T081211
CREATED:20250103T155503Z
LAST-MODIFIED:20250103T155503Z
UID:10001423-1781506800-1781509500@saltspringzencircle.org
SUMMARY:Morning Zazen
DESCRIPTION:
URL:https://saltspringzencircle.org/event/morning-zazen-149/2026-06-15/
CATEGORIES:Morning Zazen
END:VEVENT
BEGIN:VEVENT
DTSTART;TZID=America/Vancouver:20260622T070000
DTEND;TZID=America/Vancouver:20260622T074500
DTSTAMP:20260423T081211
CREATED:20250103T155503Z
LAST-MODIFIED:20250103T155503Z
UID:10001424-1782111600-1782114300@saltspringzencircle.org
SUMMARY:Morning Zazen
DESCRIPTION:
URL:https://saltspringzencircle.org/event/morning-zazen-149/2026-06-22/
CATEGORIES:Morning Zazen
END:VEVENT
BEGIN:VEVENT
DTSTART;TZID=America/Vancouver:20260629T070000
DTEND;TZID=America/Vancouver:20260629T074500
DTSTAMP:20260423T081212
CREATED:20250103T155503Z
LAST-MODIFIED:20250103T155503Z
UID:10001425-1782716400-1782719100@saltspringzencircle.org
SUMMARY:Morning Zazen
DESCRIPTION:
URL:https://saltspringzencircle.org/event/morning-zazen-149/2026-06-29/
CATEGORIES:Morning Zazen
END:VEVENT
BEGIN:VEVENT
DTSTART;TZID=America/Vancouver:20260706T070000
DTEND;TZID=America/Vancouver:20260706T074500
DTSTAMP:20260423T081212
CREATED:20250103T155503Z
LAST-MODIFIED:20250103T155503Z
UID:10001426-1783321200-1783323900@saltspringzencircle.org
SUMMARY:Morning Zazen
DESCRIPTION:
URL:https://saltspringzencircle.org/event/morning-zazen-149/2026-07-06/
CATEGORIES:Morning Zazen
END:VEVENT
BEGIN:VEVENT
DTSTART;TZID=America/Vancouver:20260713T070000
DTEND;TZID=America/Vancouver:20260713T074500
DTSTAMP:20260423T081212
CREATED:20250103T155503Z
LAST-MODIFIED:20250103T155503Z
UID:10001427-1783926000-1783928700@saltspringzencircle.org
SUMMARY:Morning Zazen
DESCRIPTION:
URL:https://saltspringzencircle.org/event/morning-zazen-149/2026-07-13/
CATEGORIES:Morning Zazen
END:VEVENT
BEGIN:VEVENT
DTSTART;TZID=America/Vancouver:20260720T070000
DTEND;TZID=America/Vancouver:20260720T074500
DTSTAMP:20260423T081212
CREATED:20250103T155503Z
LAST-MODIFIED:20250103T155503Z
UID:10001428-1784530800-1784533500@saltspringzencircle.org
SUMMARY:Morning Zazen
DESCRIPTION:
URL:https://saltspringzencircle.org/event/morning-zazen-149/2026-07-20/
CATEGORIES:Morning Zazen
END:VEVENT
BEGIN:VEVENT
DTSTART;TZID=America/Vancouver:20260727T070000
DTEND;TZID=America/Vancouver:20260727T074500
DTSTAMP:20260423T081212
CREATED:20250103T155503Z
LAST-MODIFIED:20250103T155503Z
UID:10001429-1785135600-1785138300@saltspringzencircle.org
SUMMARY:Morning Zazen
DESCRIPTION:
URL:https://saltspringzencircle.org/event/morning-zazen-149/2026-07-27/
CATEGORIES:Morning Zazen
END:VEVENT
BEGIN:VEVENT
DTSTART;TZID=America/Vancouver:20260803T070000
DTEND;TZID=America/Vancouver:20260803T074500
DTSTAMP:20260423T081212
CREATED:20250103T155503Z
LAST-MODIFIED:20250103T155503Z
UID:10001430-1785740400-1785743100@saltspringzencircle.org
SUMMARY:Morning Zazen
DESCRIPTION:
URL:https://saltspringzencircle.org/event/morning-zazen-149/2026-08-03/
CATEGORIES:Morning Zazen
END:VEVENT
BEGIN:VEVENT
DTSTART;TZID=America/Vancouver:20260810T070000
DTEND;TZID=America/Vancouver:20260810T074500
DTSTAMP:20260423T081212
CREATED:20250103T155503Z
LAST-MODIFIED:20250103T155503Z
UID:10001431-1786345200-1786347900@saltspringzencircle.org
SUMMARY:Morning Zazen
DESCRIPTION:
URL:https://saltspringzencircle.org/event/morning-zazen-149/2026-08-10/
CATEGORIES:Morning Zazen
END:VEVENT
BEGIN:VEVENT
DTSTART;TZID=America/Vancouver:20260817T070000
DTEND;TZID=America/Vancouver:20260817T074500
DTSTAMP:20260423T081212
CREATED:20250103T155503Z
LAST-MODIFIED:20250103T155503Z
UID:10001432-1786950000-1786952700@saltspringzencircle.org
SUMMARY:Morning Zazen
DESCRIPTION:
URL:https://saltspringzencircle.org/event/morning-zazen-149/2026-08-17/
CATEGORIES:Morning Zazen
END:VEVENT
BEGIN:VEVENT
DTSTART;TZID=America/Vancouver:20260824T070000
DTEND;TZID=America/Vancouver:20260824T074500
DTSTAMP:20260423T081212
CREATED:20250103T155503Z
LAST-MODIFIED:20250103T155503Z
UID:10001433-1787554800-1787557500@saltspringzencircle.org
SUMMARY:Morning Zazen
DESCRIPTION:
URL:https://saltspringzencircle.org/event/morning-zazen-149/2026-08-24/
CATEGORIES:Morning Zazen
END:VEVENT
BEGIN:VEVENT
DTSTART;TZID=America/Vancouver:20260831T070000
DTEND;TZID=America/Vancouver:20260831T074500
DTSTAMP:20260423T081212
CREATED:20250103T155503Z
LAST-MODIFIED:20250103T155503Z
UID:10001434-1788159600-1788162300@saltspringzencircle.org
SUMMARY:Morning Zazen
DESCRIPTION:
URL:https://saltspringzencircle.org/event/morning-zazen-149/2026-08-31/
CATEGORIES:Morning Zazen
END:VEVENT
BEGIN:VEVENT
DTSTART;TZID=America/Vancouver:20260907T070000
DTEND;TZID=America/Vancouver:20260907T074500
DTSTAMP:20260423T081212
CREATED:20250103T155503Z
LAST-MODIFIED:20250103T155503Z
UID:10001435-1788764400-1788767100@saltspringzencircle.org
SUMMARY:Morning Zazen
DESCRIPTION:
URL:https://saltspringzencircle.org/event/morning-zazen-149/2026-09-07/
CATEGORIES:Morning Zazen
END:VEVENT
BEGIN:VEVENT
DTSTART;TZID=America/Vancouver:20260914T070000
DTEND;TZID=America/Vancouver:20260914T074500
DTSTAMP:20260423T081212
CREATED:20250103T155503Z
LAST-MODIFIED:20250103T155503Z
UID:10001436-1789369200-1789371900@saltspringzencircle.org
SUMMARY:Morning Zazen
DESCRIPTION:
URL:https://saltspringzencircle.org/event/morning-zazen-149/2026-09-14/
CATEGORIES:Morning Zazen
END:VEVENT
BEGIN:VEVENT
DTSTART;TZID=America/Vancouver:20260921T070000
DTEND;TZID=America/Vancouver:20260921T074500
DTSTAMP:20260423T081212
CREATED:20250103T155503Z
LAST-MODIFIED:20250103T155503Z
UID:10001437-1789974000-1789976700@saltspringzencircle.org
SUMMARY:Morning Zazen
DESCRIPTION:
URL:https://saltspringzencircle.org/event/morning-zazen-149/2026-09-21/
CATEGORIES:Morning Zazen
END:VEVENT
BEGIN:VEVENT
DTSTART;TZID=America/Vancouver:20260928T070000
DTEND;TZID=America/Vancouver:20260928T074500
DTSTAMP:20260423T081212
CREATED:20250103T155503Z
LAST-MODIFIED:20250103T155503Z
UID:10001438-1790578800-1790581500@saltspringzencircle.org
SUMMARY:Morning Zazen
DESCRIPTION:
URL:https://saltspringzencircle.org/event/morning-zazen-149/2026-09-28/
CATEGORIES:Morning Zazen
END:VEVENT
BEGIN:VEVENT
DTSTART;TZID=America/Vancouver:20261005T070000
DTEND;TZID=America/Vancouver:20261005T074500
DTSTAMP:20260423T081212
CREATED:20250103T155503Z
LAST-MODIFIED:20250103T155503Z
UID:10001439-1791183600-1791186300@saltspringzencircle.org
SUMMARY:Morning Zazen
DESCRIPTION:
URL:https://saltspringzencircle.org/event/morning-zazen-149/2026-10-05/
CATEGORIES:Morning Zazen
END:VEVENT
BEGIN:VEVENT
DTSTART;TZID=America/Vancouver:20261012T070000
DTEND;TZID=America/Vancouver:20261012T074500
DTSTAMP:20260423T081212
CREATED:20250103T155503Z
LAST-MODIFIED:20250103T155503Z
UID:10001440-1791788400-1791791100@saltspringzencircle.org
SUMMARY:Morning Zazen
DESCRIPTION:
URL:https://saltspringzencircle.org/event/morning-zazen-149/2026-10-12/
CATEGORIES:Morning Zazen
END:VEVENT
BEGIN:VEVENT
DTSTART;TZID=America/Vancouver:20261019T070000
DTEND;TZID=America/Vancouver:20261019T074500
DTSTAMP:20260423T081212
CREATED:20250103T155503Z
LAST-MODIFIED:20250103T155503Z
UID:10001441-1792393200-1792395900@saltspringzencircle.org
SUMMARY:Morning Zazen
DESCRIPTION:
URL:https://saltspringzencircle.org/event/morning-zazen-149/2026-10-19/
CATEGORIES:Morning Zazen
END:VEVENT
BEGIN:VEVENT
DTSTART;TZID=America/Vancouver:20261026T070000
DTEND;TZID=America/Vancouver:20261026T074500
DTSTAMP:20260423T081212
CREATED:20250103T155503Z
LAST-MODIFIED:20250103T155503Z
UID:10001442-1792998000-1793000700@saltspringzencircle.org
SUMMARY:Morning Zazen
DESCRIPTION:
URL:https://saltspringzencircle.org/event/morning-zazen-149/2026-10-26/
CATEGORIES:Morning Zazen
END:VEVENT
BEGIN:VEVENT
DTSTART;TZID=America/Vancouver:20261102T070000
DTEND;TZID=America/Vancouver:20261102T074500
DTSTAMP:20260423T081212
CREATED:20250103T155503Z
LAST-MODIFIED:20250103T155503Z
UID:10001443-1793602800-1793605500@saltspringzencircle.org
SUMMARY:Morning Zazen
DESCRIPTION:
URL:https://saltspringzencircle.org/event/morning-zazen-149/2026-11-02/
CATEGORIES:Morning Zazen
END:VEVENT
BEGIN:VEVENT
DTSTART;TZID=America/Vancouver:20261109T070000
DTEND;TZID=America/Vancouver:20261109T074500
DTSTAMP:20260423T081212
CREATED:20250103T155503Z
LAST-MODIFIED:20250103T155503Z
UID:10001444-1794207600-1794210300@saltspringzencircle.org
SUMMARY:Morning Zazen
DESCRIPTION:
URL:https://saltspringzencircle.org/event/morning-zazen-149/2026-11-09/
CATEGORIES:Morning Zazen
END:VEVENT
BEGIN:VEVENT
DTSTART;TZID=America/Vancouver:20261116T070000
DTEND;TZID=America/Vancouver:20261116T074500
DTSTAMP:20260423T081212
CREATED:20250103T155503Z
LAST-MODIFIED:20250103T155503Z
UID:10001445-1794812400-1794815100@saltspringzencircle.org
SUMMARY:Morning Zazen
DESCRIPTION:
URL:https://saltspringzencircle.org/event/morning-zazen-149/2026-11-16/
CATEGORIES:Morning Zazen
END:VEVENT
END:VCALENDAR