BEGIN:VCALENDAR
VERSION:2.0
PRODID:-// - ECPv6.15.20//NONSGML v1.0//EN
CALSCALE:GREGORIAN
METHOD:PUBLISH
X-ORIGINAL-URL:https://saltspringzencircle.org
X-WR-CALDESC:Events for 
REFRESH-INTERVAL;VALUE=DURATION:PT1H
X-Robots-Tag:noindex
X-PUBLISHED-TTL:PT1H
BEGIN:VTIMEZONE
TZID:America/Vancouver
BEGIN:DAYLIGHT
TZOFFSETFROM:-0800
TZOFFSETTO:-0700
TZNAME:PDT
DTSTART:20210314T100000
END:DAYLIGHT
BEGIN:STANDARD
TZOFFSETFROM:-0700
TZOFFSETTO:-0800
TZNAME:PST
DTSTART:20211107T090000
END:STANDARD
BEGIN:DAYLIGHT
TZOFFSETFROM:-0800
TZOFFSETTO:-0700
TZNAME:PDT
DTSTART:20220313T100000
END:DAYLIGHT
BEGIN:STANDARD
TZOFFSETFROM:-0700
TZOFFSETTO:-0800
TZNAME:PST
DTSTART:20221106T090000
END:STANDARD
BEGIN:DAYLIGHT
TZOFFSETFROM:-0800
TZOFFSETTO:-0700
TZNAME:PDT
DTSTART:20230312T100000
END:DAYLIGHT
BEGIN:STANDARD
TZOFFSETFROM:-0700
TZOFFSETTO:-0800
TZNAME:PST
DTSTART:20231105T090000
END:STANDARD
BEGIN:DAYLIGHT
TZOFFSETFROM:-0800
TZOFFSETTO:-0700
TZNAME:PDT
DTSTART:20240310T100000
END:DAYLIGHT
BEGIN:STANDARD
TZOFFSETFROM:-0700
TZOFFSETTO:-0800
TZNAME:PST
DTSTART:20241103T090000
END:STANDARD
END:VTIMEZONE
BEGIN:VEVENT
DTSTART;TZID=America/Vancouver:20231202T163000
DTEND;TZID=America/Vancouver:20231202T200000
DTSTAMP:20260425T092618
CREATED:20231030T014910Z
LAST-MODIFIED:20231030T015002Z
UID:10000607-1701534600-1701547200@saltspringzencircle.org
SUMMARY:Peter's Stepping Down Ceremony and Celebration
DESCRIPTION:
URL:https://saltspringzencircle.org/event/peters-stepping-down-celebration/
LOCATION:All Saints by the Sea Anglican Church Upper Hall\, Salt Spring Island\, British Columbia\, Canada
END:VEVENT
BEGIN:VEVENT
DTSTART;TZID=America/Vancouver:20230527T160000
DTEND;TZID=America/Vancouver:20230527T190000
DTSTAMP:20260425T092618
CREATED:20221127T213349Z
LAST-MODIFIED:20230317T230904Z
UID:10000416-1685203200-1685214000@saltspringzencircle.org
SUMMARY:Lay Entrustment Ceremony
DESCRIPTION:Lay Entrustment Ceremony
URL:https://saltspringzencircle.org/event/lay-entrustment-ceremony/
LOCATION:All Saints by the Sea Anglican Church Upper Hall\, Salt Spring Island\, British Columbia\, Canada
END:VEVENT
BEGIN:VEVENT
DTSTART;TZID=America/Vancouver:20220907T190000
DTEND;TZID=America/Vancouver:20220907T210000
DTSTAMP:20260425T092618
CREATED:20220826T212303Z
LAST-MODIFIED:20220906T174816Z
UID:10000351-1662577200-1662584400@saltspringzencircle.org
SUMMARY:Evening Zazen
DESCRIPTION:Live Evening Zazen with hybrid zoom at All Saints by-the-Sea Anglican Church\, Upper Hall\, 110 Park Drive\, Ganges \nDharma talk by Ashley Moran
URL:https://saltspringzencircle.org/event/evening-zazen/
LOCATION:All Saints by the Sea Anglican Church Upper Hall\, Salt Spring Island\, British Columbia\, Canada
CATEGORIES:Evening Zazen
END:VEVENT
END:VCALENDAR